BEGIN:VCALENDAR
VERSION:2.0
PRODID:-//Wilberts - ECPv6.15.20//NONSGML v1.0//EN
CALSCALE:GREGORIAN
METHOD:PUBLISH
X-ORIGINAL-URL:https://wilbertsmusic.com
X-WR-CALDESC:Events for Wilberts
REFRESH-INTERVAL;VALUE=DURATION:PT1H
X-Robots-Tag:noindex
X-PUBLISHED-TTL:PT1H
BEGIN:VTIMEZONE
TZID:UTC
BEGIN:STANDARD
TZOFFSETFROM:+0000
TZOFFSETTO:+0000
TZNAME:UTC
DTSTART:20190101T000000
END:STANDARD
END:VTIMEZONE
BEGIN:VEVENT
DTSTART;TZID=UTC:20200527T200000
DTEND;TZID=UTC:20200527T230000
DTSTAMP:20260419T143011
CREATED:20200206T013916Z
LAST-MODIFIED:20200515T195400Z
UID:1242-1590609600-1590620400@wilbertsmusic.com
SUMMARY:postponed~ Winner! The Jose Ramirez Band ~ “The Costa Rican Blues Ambassador”
DESCRIPTION:“An incendiary guitarist\, even hotter than his homeland” Stephen Foster – BBC UK \n“One of Costa Rica’s greatest exports” Monte Adkison – Blue Monday Magazine \n“Costa Rica’s Robert Cray” Nanette Wiser – Suncoast Blues Society Publisher \n“Deep Blues… Powerful and Passionate” Bob Margolin \n“If you like your Blues rocked hard\, Jose is your man” Mark Hummel \n“Listening to Jose Ramirez\, it’s easy to tell that his heart is way into The Blues” Charlie Musselwhite \n“A Soulful guitar player bent on keeping The Blues Alive and spreading his message around the world” Little Charlie Baty
URL:https://wilbertsmusic.com/event/ibc-winner-the-jose-ramirez-band-the-costa-rican-blues-ambassador/
END:VEVENT
BEGIN:VEVENT
DTSTART;TZID=UTC:20200518T160000
DTEND;TZID=UTC:20200518T200000
DTSTAMP:20260419T143011
CREATED:20200221T145044Z
LAST-MODIFIED:20200221T145044Z
UID:1334-1589817600-1589832000@wilbertsmusic.com
SUMMARY:Foo Fighters Pre Party
DESCRIPTION:with the Best Dam Deals Downtown!\n\n\n$3 ~16oz DOMESTICS & BOMBS (cherry\, grape\, orange or jager) \n$4 FIREBALLS & JAMESON \n4:00 pm – 8:00 pm
URL:https://wilbertsmusic.com/event/foo-fighters-pre-party/
END:VEVENT
BEGIN:VEVENT
DTSTART;TZID=UTC:20200517T160000
DTEND;TZID=UTC:20200517T173000
DTSTAMP:20260419T143011
CREATED:20200315T222839Z
LAST-MODIFIED:20200515T195433Z
UID:1505-1589731200-1589736600@wilbertsmusic.com
SUMMARY:postponed~Miller and the Hunks ~  Alternative/Synth Pop-Rock band from Nashville by way of Columbus
DESCRIPTION:Miller and The Hunks is an American rock band from Ohio. Miller started the band as a solo project and released the debut album “Purely Sexual” in April of 2015. Shortly after the release\, he began finding members to keep the project moving. He quickly recruited current bassist and co – vocalist Josiah Ogden. The band moved into the city of Columbus\, Ohio to build their name. From selling out shows\, to local radio play\, to appearances on radio and podcast interviews\, the band did exactly what they moved there for. They have released at least one EP a year\, along with music videos and singles as well\, while continuing to constantly gig and tour. The band relocated to Nashville\, Tennessee mid 2019 and recruited current members Leo Zayas (drums)\, Jon Ball (guitar)\, Zachary Taylor (keys)\, and Orilious Gaither Banks III (guitar). The six piece outfit now continues on the journey for world domination
URL:https://wilbertsmusic.com/event/miller-and-the-hunks-alternative-synth-pop-rock-band-from-nashville-by-way-of-columbus/
END:VEVENT
BEGIN:VEVENT
DTSTART;TZID=UTC:20200516T203000
DTEND;TZID=UTC:20200516T230000
DTSTAMP:20260419T143011
CREATED:20200224T002914Z
LAST-MODIFIED:20200512T142558Z
UID:1346-1589661000-1589670000@wilbertsmusic.com
SUMMARY:postponed~Dave Weld and The Imperial Flames ~ Real Chicago Blues!
DESCRIPTION:Featuring passionate vocalists\, stinging Chicago Slide guitar\, sax mastery\, and a rock solid rhythm section schooled and actually in bands by the masters\, such as Buddy Guy\, Junior Wells\, Tyrone Davis\, Lonnie Brooks\, Koko Taylor\, Eddy Eddy Clearwater\, Little Milton and many more!\nThis is a REAL DEAL\, authentic blues band with versatile talent\, variety\, and a cohesive show that includes original driving blues\, Chicago Blues Standards\, Motown\, Oldies\, Jazz standards\, Classic Rock\, Soul and ballads. The originals are classic in nature\, the standards are revitalized with striking three part vocal harmony. The three vocal stylists\, include Rami winner Monica Myhre\,Chicago Blues and Soul legend\, Jeff Taylor\, and Dave Weld.\nDave Weld was taught by the blues master JB Hutto\, Grammy winner and Blues Hall of Fame member\, and Dave recorded for Alligator\, Earwig\, Parsifal\, and now the world renown Delmark Records\, who have been in business for over 65 years
URL:https://wilbertsmusic.com/event/dave-weld-and-the-imperial-flames-real-chicago-blues/
END:VEVENT
BEGIN:VEVENT
DTSTART;TZID=UTC:20200516T140000
DTEND;TZID=UTC:20200516T230000
DTSTAMP:20260419T143011
CREATED:20200220T173522Z
LAST-MODIFIED:20200224T002441Z
UID:1330-1589637600-1589670000@wilbertsmusic.com
SUMMARY:a WAHOO of a Happy Hour~with the Best Dam Deals Downtown!
DESCRIPTION:$3 ~16oz DOMESTICS & BOMBS (cherry\, grape\, orange or jagger) \n$4 FIREBALLS & JAMESON \n$10.99 Award Winning Ribs Dinner w/Fries & Salad
URL:https://wilbertsmusic.com/event/a-wahoo-of-a-happy-hourwith-the-best-dam-deals-downtown-8-2020-05-16/
END:VEVENT
BEGIN:VEVENT
DTSTART;TZID=UTC:20200515T210000
DTEND;TZID=UTC:20200515T230000
DTSTAMP:20260419T143011
CREATED:20200112T215940Z
LAST-MODIFIED:20200512T142641Z
UID:1135-1589576400-1589583600@wilbertsmusic.com
SUMMARY:postponed~Swamps of Jersey
DESCRIPTION:
URL:https://wilbertsmusic.com/event/swamps-of-jersey/2020-05-15/
END:VEVENT
BEGIN:VEVENT
DTSTART;TZID=UTC:20200514T200000
DTEND;TZID=UTC:20200514T230000
DTSTAMP:20260419T143011
CREATED:20200221T230056Z
LAST-MODIFIED:20200427T194546Z
UID:1340-1589486400-1589497200@wilbertsmusic.com
SUMMARY:postponed WAYNE BAKER BROOKS “Down and Dirty-from the-gut-blues ” — Chicago Tribune
DESCRIPTION:“He’s got the talent\, the energy and everything else to make it click ” — Koko Taylor\, Queen of the Blues\n\n\n\n\n\n\nWayne Baker Brooks is considered one of today’s top guitarists whose signature style combines powerful vocals with liquid fire guitar playing that honors his rich blues heritage yet effortlessly expands the boundaries of the genre.\n\n\nBorn and raised in Chicago\, IL amongst the most prolific blues legends and blues masters in the world\, Wayne Baker Brook’s blues roots may run deeper and wider than the Great Lakes themselves. \nChicago Blues laid the foundation to Wayne’s innovative style. Growing up Brooks was a regular visitor to such historic places as Chess Studios\, Checkerboard Lounge\, Wisefools\, and many other blues landmarks at which he witnessed many live performances by blues masters like Buddy Guy\, Jr. Wells\, Luther Allison\, KoKo Taylor\, the great Muddy Waters\, & his father. The youngest son of blues master Lonnie Brooks – Wayne Brooks was literally born into the blues! \nLeaving no way around the fate appointed him he soon joined his father’s (Lonnie Brooks)  band as his rhythm guitarist then quickly became the musical director. Then in 1997 he formed the Wayne Baker Brooks Band which while continuing to work with his father’s band. He made a cameo appearance in the film Blues Brothers 2000. \nWith the release of his  acclaimed debut CD “Mystery” “an album that brilliantly draws on blues\, blues rock\, soul\, funk and beyond”. “Mystery” received multiple awards and praise from the music world. \nAlong with releasing his book “Blues for Dummies” he was soon touring the world and featured on national TV  programs (including ABC\, CBS\, NBC\, FOX\, & CNN’s “Showbiz”)\, as well as endless radio programs\, print media\, & special media events including performing for First Lady Hilary Rodham Clinton at Chess Studios (Willie Dixon Blues Heaven Foundation) with legends Bo Diddley\, Lonnie Brooks\, KoKo Taylor. At the conclusion of Wayne and his special guests set\, Hillary stated\, “My husband is going to be so jealous he missed this!”. \nWBB has performed with\, supported/opened for\, and/or appeared on TV with such notables as: \nBuddy Guy\, Koko Taylor\, Bo Diddley\, Corey Harris\, The Black Crowes\, Otis Rush\, Jr. Wells\, Shemekia Copeland\, Johnny Lang\, Susan Tedeschi\,  Keb Mo\, Jimmy Vivino\, Robert Randolph\, Taj Mahal\, Mick Fleetwood\, Otis Clay\, Bobby Rush\, Elvin Bishop\, Billy Branch and many more… \nWane Baker Brooks and this Band continue to play the world over with WBB’s signature top shelf brand of guitar playing and a live show that should not be missed. \nACCOLADES \nInducted into the Chicago Blues Hall of Fame \nMusical Director\, Programmer\, Performer for Buddy Guy Kick-Off Ceremony for Kennedy Center Honors. \nInducted into the Canadian Blues Hall of Fame \nChicago Blues Fest Headliner: Band Leader and Host of the 40th  Anniversary of  Alligator Records \nInducted into The History Makers: Music Maker Success \nReal Blues Magazine Award – “Carry The Torch Award” \nReal Blues Magazine Award – “Top Blues Stars of the Future” \nReal Blues Magazine Award – “Best Chicago Blues Guitar CD/Modern” \nReal Blues Magazine Award – “Best New Chicago Blues Talent/Male” \nReal Blues Magazine Award – “Best Chicago Blues Tune/Modern” \nAppearance in The Blues Brothers 2000 \nPerformed at President Bill Clinton’s second Inauguration \nPerformed at Democratic Convention for Comedy Central \nPerformed Alligator Records 20th Anniversary Tour
URL:https://wilbertsmusic.com/event/waynebakerbrooks/
END:VEVENT
BEGIN:VEVENT
DTSTART;TZID=UTC:20200504T170000
DTEND;TZID=UTC:20200504T183000
DTSTAMP:20260419T143011
CREATED:20200119T182441Z
LAST-MODIFIED:20200427T194429Z
UID:1166-1588611600-1588617000@wilbertsmusic.com
SUMMARY:postponed Tommy Luke~Fort Worth\, Texas singer-songwriter recall the dusty\, well-worn sounds of western music
DESCRIPTION:
URL:https://wilbertsmusic.com/event/tommy-lukefort-worth-texas-singer-songwriter-recall-the-dusty-well-worn-sounds-of-western-music/
END:VEVENT
BEGIN:VEVENT
DTSTART;TZID=UTC:20200503T153000
DTEND;TZID=UTC:20200503T173000
DTSTAMP:20260419T143011
CREATED:20191119T232927Z
LAST-MODIFIED:20200427T193939Z
UID:1010-1588519800-1588527000@wilbertsmusic.com
SUMMARY:postponed The Chris O’leary Band ~ from Boogie Woogie to Southside Chicago electric rockin’ to Louisiana Mardi Gras stompers! From Levon Helm’s band
DESCRIPTION:Chris’s musical background includes duties as lead singer and front man for rock and roll hall of famer and Grammy award winner Levon Helm’s band\, The Barnburners. During the 6 years that Chris and Levon played together they toured across the US and Canada lighting up stages everywhere they went. Chris has appeared on stage with: Legendary Rolling Stones sideman Bobby Keys\, The Fabulous Thunderbirds\, Jimmy Vivino\, Jeff Healy\, Dan Akroyd\, Albert Lee\, Dave Edmunds\, Dave Maxwell and the great James Cotton to name just a few. Chris has also recorded with Bill Perry and Hubert Sumlin\, among others. \nThe Chris O’Leary Band’s debut CD “Mr. Used to Be” won the 2011 Best New Artist Debut CD Blues Blast Award and was nominated for best new artist debut at the 2011 American Blues Music Awards.
URL:https://wilbertsmusic.com/event/the-chris-oleary-band-from-boogie-woogie-to-southside-chicago-electric-rockin-to-louisiana-mardi-gras-stompers/
END:VEVENT
BEGIN:VEVENT
DTSTART;TZID=UTC:20200502T210000
DTEND;TZID=UTC:20200502T230000
DTSTAMP:20260419T143011
CREATED:20200116T002634Z
LAST-MODIFIED:20200427T193812Z
UID:1158-1588453200-1588460400@wilbertsmusic.com
SUMMARY:postponed THOSE GUYS ~ semi acoustic pop punk hippy rock band from Buffalo
DESCRIPTION:“With the perfect blend of acoustic and hardcore music interweaving it was impossible to turn away from the moment they stepped on stage. Between the impeccable covers and catchy originals it was a night to remember” \nAmber Bliss – Punkstr
URL:https://wilbertsmusic.com/event/those-guys-semi-acoustic-pop-punk-hippy-rock-band-from-buffalo/
END:VEVENT
BEGIN:VEVENT
DTSTART;TZID=UTC:20200502T160000
DTEND;TZID=UTC:20200502T180000
DTSTAMP:20260419T143011
CREATED:20190607T160513Z
LAST-MODIFIED:20200427T193656Z
UID:1246-1588435200-1588442400@wilbertsmusic.com
SUMMARY:postponed Mark Stuart: Nashville's #1 Singer/songwriter ~ Americana/folk /All Around Nice Guy - June 15 &16
DESCRIPTION:
URL:https://wilbertsmusic.com/event/mark-stuart-singer-songwriter-and-americana-folk-musician-from-nashville-tennessee-3-2019-09-19-2020-05-02/
END:VEVENT
BEGIN:VEVENT
DTSTART;TZID=UTC:20200501T210000
DTEND;TZID=UTC:20200501T233000
DTSTAMP:20260419T143011
CREATED:20200113T211439Z
LAST-MODIFIED:20200427T193523Z
UID:1144-1588366800-1588375800@wilbertsmusic.com
SUMMARY:postponed~SHADOW OF DOUBT-Ohio's premier Tom Petty and the Heartbreakers Tribute Band
DESCRIPTION:Our Rock’n Roll Hall of Fame Induction Party  \nSHADOW OF DOUBT- rock’s Northeast Ohio with the best of Tom Petty and the Heartbreakers\, Tom Petty solo music and some Mudcrutch and Travlin’ Willbury’s. They play all the big hits\, to be sure\, and if you are a real Petty fan they have plenty of “deep cuts” for ya as well.
URL:https://wilbertsmusic.com/event/shadow-of-doubt-ohios-premier-tom-petty-and-the-heartbreakers-tribute-band/
END:VEVENT
BEGIN:VEVENT
DTSTART;TZID=UTC:20200501T170000
DTEND;TZID=UTC:20200501T190000
DTSTAMP:20260419T143011
CREATED:20200116T000639Z
LAST-MODIFIED:20200427T183556Z
UID:1244-1588352400-1588359600@wilbertsmusic.com
SUMMARY:postponed  hOuR w/MARK STUART Nashville's #1 Troubadour till june 15&16
DESCRIPTION:Mark Stuart has been a fixture on the Americana/Folk music scene for many years. Non-stop touring landed the artist in theaters\, clubs\, radio\, TV\, house concerts\, festivals\, and coffeehouses. Much of this was solo\, much of it in a duo “Stacey Earle & Mark Stuart”. A fine singer\, musician\, and songwriter he is. In his performances expect stellar guitar work\, soulful vocals\, and thought-provoking PARTY songs. Interesting stories find their way into his show\, too. A career that has repeatedly taken Stuart to Europe\, UK\, Canada\, and 49 of the United States includes having begun in his native Nashville as a teenage working musician. From membership in the Nashville Rebels (his father’s band that appeared in the Waylon Jennings movie “The Nashville Rebel”) to sideman stints for Steve Earle\, Freddy Fender\, Joan Baez\, and Steve Forbert he has NEVER STOPPED WORKING as an active musical force. In previous years the artist fronted rock/blues bands of his own that included notable guitarists Warren Haynes (Gov’t Mule\, Allman Brothers Band) and Dave Rawlings (Gillian Welch\, Dave Rawlings Machine) serving HIM as second guitarist! Mark Stuart is touring as heavily as ever. Audiences will find his usual material from solo CDs and Stacey Earle/Mark Stuart CDs. But\, they will also hear a special nod toward the artist Paul McCartney for the calendar year. Mark will expose which of his own songs were influenced by McCartney’s style and include some\nof Macca’s tunes\, delivered in MARK STUART style!
URL:https://wilbertsmusic.com/event/happy-hour-w-mark-stuart-nashvilles-1-troubadour-2020-05-01/
END:VEVENT
BEGIN:VEVENT
DTSTART;TZID=UTC:20200425T160000
DTEND;TZID=UTC:20200425T220000
DTSTAMP:20260419T143011
CREATED:20200215T153359Z
LAST-MODIFIED:20200215T153359Z
UID:1274-1587830400-1587852000@wilbertsmusic.com
SUMMARY:The 7th Annual Cleveland Animals Bar Crawl
DESCRIPTION:
URL:https://wilbertsmusic.com/event/the-7th-annual-cleveland-animals-bar-crawl/
END:VEVENT
BEGIN:VEVENT
DTSTART;TZID=UTC:20200422T203000
DTEND;TZID=UTC:20200422T223000
DTSTAMP:20260419T143011
CREATED:20200103T152424Z
LAST-MODIFIED:20200309T191411Z
UID:1107-1587587400-1587594600@wilbertsmusic.com
SUMMARY:Eddie "Devil Boy" Turner ~ Cuban born ~ raised in Chicago on the blues
DESCRIPTION:Born in Cuba and raised in Chicago\, Eddie “Devil Boy” Turner first picked up a guitar at the age of 12. He honed his craft growing up in Chicago\, and later Colorado\, and his music shows the diverse influences of the Afro-Cuban sounds of his homeland and the deep blues of his adopted country. A diverse blend of rock\, voodoo blues and R&B peppered with African rhythms\, Turner’s music moves the feet while simultaneously haunting the soul. \nIn 1974 Eddie played with Grammy-nominee Tracy Nelson and Mother Earth\, followed by stints with Zephyr and the Legendary 4-nikators. In 1995 he helped form the Otis Taylor Band where his intense guitar work contributed to the band’s sound on five CDs and countless tours. His 2005 release Rise resulted in a Blues Music Award nomination for Best New Artist Debut\, and was followed by 2006’s The Turner Diaries. \nHis release\, Miracles & Demons\, again displays his dynamic guitar work and strong original songwriting. From rap-styled lyrics to funk- and groove-based rock to his searing guitar work\, Eddie Turner provides infectious\, psychedelic urban blues. \n2016 will see the release of his long awaited live CD …… “Naked …. In Your Face”
URL:https://wilbertsmusic.com/event/eddie-devil-boy-turner-cuban-born-raised-in-chicago-on-the-blues/
END:VEVENT
BEGIN:VEVENT
DTSTART;TZID=UTC:20200417T160000
DTEND;TZID=UTC:20200417T200000
DTSTAMP:20260419T143011
CREATED:20200219T150420Z
LAST-MODIFIED:20200219T150420Z
UID:1283-1587139200-1587153600@wilbertsmusic.com
SUMMARY:WWE SmackDown Party
DESCRIPTION:
URL:https://wilbertsmusic.com/event/wwe-smackdown-party/
END:VEVENT
BEGIN:VEVENT
DTSTART;TZID=UTC:20200417T150000
DTEND;TZID=UTC:20200417T193000
DTSTAMP:20260419T143011
CREATED:20200110T173010Z
LAST-MODIFIED:20200309T181540Z
UID:1121-1587135600-1587151800@wilbertsmusic.com
SUMMARY:Harvest for Hunger Happy Hour! VAA Roaring 20's
DESCRIPTION:We’re celebrating our 20th Harvest for Hunger Campaign the good ole’ fashioned way – and you’re in for a roaring good time! \n1920’s dress is encouraged but not required! \nAdmission is free and food will be provided! \nCheck back for a list of all of the great raffle items that we will have!
URL:https://wilbertsmusic.com/event/harvest-for-hunger/
END:VEVENT
BEGIN:VEVENT
DTSTART;TZID=UTC:20200414T170000
DTEND;TZID=UTC:20200414T183000
DTSTAMP:20260419T143011
CREATED:20200225T213358Z
LAST-MODIFIED:20200225T213358Z
UID:1209-1586883600-1586889000@wilbertsmusic.com
SUMMARY:ERIC SOMMER ~ Amazingly Diverse Urban Troubadour\, Poet\, Visualist
DESCRIPTION:Singer/songwriter Eric Sommer is an unbelievable intersection of improbable influences and experiences channeled into an amazingly diverse catalog and a résumé that reads more like a musical adventure novel than a series of career bullet points.\nSommer emerged from the Boston music scene in the ’80s with a vengeance\, a Folk guitarist with a percussive\, open-tuning style adapted from the likes of David Bromberg\, Steve Howe\, Townes Van Zandt and Brit Folk legend Davy Graham. But Boston was also a hotbed of New Wave\, Power Pop and Punk at that point\, and Sommer absorbed those influences as well\, creating a Byrdsian jangle sound that earned him opening slots for national touring acts and regular bookings at the renowned Paradise Theatre.\nSommer eventually relocated to Europe where he scored tours with Bram Tchaikovsky\, Wreckless Eric and Nick Lowe\, calling Denmark and the Netherlands home for awhile. After honing his personal songwriting style and playing every conceivable club on the European circuit\, Sommer returned to Boston homeless and broke.\nLiving on the streets and in abandoned squats\, Sommer played every available open mic and picked up guitar tips from David Landau and Gary Burton/Steve Howe sideman Mick Goodrick\, which led to the formation of a trio called The Atomics\, which offered up an American version of Elvis Costello\, Joe Jackson and Nick Lowe during its run. While The Atomics opened for the Dead Kennedys and Gang of Four and became one of Boston’s best local New Wave outfits\, Sommer was finding constant inspiration in the works of Jeff Beck\, Pat Martino\, Joe Pass and Charlie Christian.\nWith The Atomics’ dissolution\, Sommer’s wanderlust took him to New York\, Atlanta and finally the suburbs of Washington\, D.C.\, where he founded the Georgetown Film Festival and embarked on a phase of independent film scoring. Since then\, Sommer has been a troubadour with no fixed address\, playing well over 250 gigs a year and slowing down just long enough to record a handful of brilliant albums\, including Rainy Day Karma with his band\, Solar Flares\, and his latest solo effort\, Brooklyn Bolero.\nIf there’s any lingering doubt about Sommer’s supernatural versatility\, consider that he’s opened for Old 97’s\, Nickel Creek’s Sara Watkins\, Bluegrass icon Jerry Douglas\, Mates of State\, Dr. John\, Leon Redbone and Built to Spill\, to name a few – and Dead Kennedy’s\, Mission to Burma\, Gang of Four\, and Elvis Costello\, Wreckless Eric and Brahm Tchaikovsky…\nWhether in band or one-man form (which nakedly showcases his amazing acoustic Blues guitar stylings)\, Sommer is a living history of contemporary music and a musical force of nature.
URL:https://wilbertsmusic.com/event/eric-sommer-amazingly-diverse-urban-troubadour-poet-visualist/
END:VEVENT
BEGIN:VEVENT
DTSTART;TZID=UTC:20200412T100000
DTEND;TZID=UTC:20200412T180000
DTSTAMP:20260419T143011
CREATED:20200220T173107Z
LAST-MODIFIED:20200309T185229Z
UID:1470-1586685600-1586714400@wilbertsmusic.com
SUMMARY:a WAHOO of a Happy Hour~with the Best Dam Deals Downtown!
DESCRIPTION:Breakfast Burrito\, Egg & Chorizo Quesadilla and Creme Brulee French Toast. \n$4 Bloody Mary’s and Mimosas \n$3 ~DOMESTICS & BOMBS (cherry\, grape\, orange or jagger) \n$4 FIREBALLS & JAMESON \n$10.99 Award Winning Ribs Dinner w/Fries & Salad
URL:https://wilbertsmusic.com/event/a-wahoo-of-a-happy-hourwith-the-best-dam-deals-downtown-7-2020-04-01-2020-04-12/2020-04-12/
END:VEVENT
BEGIN:VEVENT
DTSTART;TZID=UTC:20200411T160000
DTEND;TZID=UTC:20200411T190000
DTSTAMP:20260419T143011
CREATED:20190818T173857Z
LAST-MODIFIED:20200309T184140Z
UID:1329-1586620800-1586631600@wilbertsmusic.com
SUMMARY:THE SUMMIT : The Music Of Your Life
DESCRIPTION:The Summit Featuring the greatest music of your life\, Dean Martin\, Sinatra\, Tony Bennett\, Bobby Darin\, Engelbert\, Neil Diamond\, and beyond.
URL:https://wilbertsmusic.com/event/the-summit-the-music-of-your-life-2020-04-11/
END:VEVENT
BEGIN:VEVENT
DTSTART;TZID=UTC:20200410T210000
DTEND;TZID=UTC:20200410T230000
DTSTAMP:20260419T143011
CREATED:20191216T180002Z
LAST-MODIFIED:20191216T180002Z
UID:1087-1586552400-1586559600@wilbertsmusic.com
SUMMARY:BACCANO- progressive rock to funk on the drop of a dime Think Umphrey's Mcgee\, Tauk or Dopapod to King Crimson
DESCRIPTION:Glass City’s finest five piece\, Baccano\, takes charge of the stage with a commanding performance every show. By harnessing their own elcectic roots of progressive rock/soul/funk/and everything in between\, and bringing a high energy show\, toes will tap\, and bodies will groove. The innovative music of Baccano is a sound that once you’ve had a taste of you’ll never stop coming back for more. \nVINCENT BARTOLOTTA / GUITAR & SYNTH\nBEN KOWALKA / GUITAR\nDREW MERRITT / BASS & VOCALS\nADAM RICE  / DRUMS & VOCALS\nAARON ARMSTRONG / PERCUSSION
URL:https://wilbertsmusic.com/event/baccano-progressive-rock-to-funk-on-the-drop-of-a-dime-think-umphreys-mcgee-tauk-or-dopapod-to-king-crimson/
END:VEVENT
BEGIN:VEVENT
DTSTART;TZID=UTC:20200409T203000
DTEND;TZID=UTC:20200409T220000
DTSTAMP:20260419T143011
CREATED:20200116T152510Z
LAST-MODIFIED:20200116T152510Z
UID:1160-1586464200-1586469600@wilbertsmusic.com
SUMMARY:The HEAD ~indie rock from HOTlanta\, Georgia
DESCRIPTION:
URL:https://wilbertsmusic.com/event/the-head-indie-rock-from-hotlanta-georgia/
END:VEVENT
BEGIN:VEVENT
DTSTART;TZID=UTC:20200408T190000
DTEND;TZID=UTC:20200408T230000
DTSTAMP:20260419T143011
CREATED:20200113T164456Z
LAST-MODIFIED:20200220T235113Z
UID:1142-1586372400-1586386800@wilbertsmusic.com
SUMMARY:Comedy show w/ CHRISSIE MAYR from the Wet Spot presented by Funny Noizes Productions
DESCRIPTION:Chrissie Mayr Comedian & Host of the Wet Spot on Compound Media \n“A natural joke writer” -The Village Voice \n​”Mayr hails from the same high school as fellow funny folk Amy Schumer\, Dave Attell\, and Colin Kane. Looks like she’s following in their footsteps.” – CBS New York \n“Always delightful”  – Broadway World \n“Self-Deprecating!” “Delightful!”  “Worship your queen!” -TimeOut New York \n 
URL:https://wilbertsmusic.com/event/comedy-show-w-chrissie-mayr-from-the-west-spot-presented-by-funny-noizes-productions/
END:VEVENT
BEGIN:VEVENT
DTSTART;TZID=UTC:20200406T200000
DTEND;TZID=UTC:20200406T230000
DTSTAMP:20260419T143011
CREATED:20200113T163206Z
LAST-MODIFIED:20200113T163206Z
UID:1140-1586203200-1586214000@wilbertsmusic.com
SUMMARY:CURLEY TAYLOR AND ZYDECO TROUBLE- soulful and bluesy~hard driving zydeco from the heartland creole country
DESCRIPTION:Curley Taylor and his band\, Zydeco Trouble\, hail from the heart of Creole country in Louisiana. Curley’s soulful\, bluesy vocals and the band’s hard driving zydeco beat blend to create their unique style of zydeco and blues that keeps audiences dancing. It’s always a party when Zydeco Trouble comes to town. Book now for your festival\, concert\, club\, event\, or party.
URL:https://wilbertsmusic.com/event/curley-taylor-and-zydeco-trouble-soulful-and-bluesyhard-driving-zydeco-from-the-heartland-creole-country/
END:VEVENT
BEGIN:VEVENT
DTSTART;TZID=UTC:20200404T120000
DTEND;TZID=UTC:20200404T233000
DTSTAMP:20260419T143011
CREATED:20191024T135436Z
LAST-MODIFIED:20200127T190114Z
UID:998-1586001600-1586043000@wilbertsmusic.com
SUMMARY:90s Bash Bar Crawl
DESCRIPTION:Jello shots = $2\nAll 16oz -$3 DOMESTICS – 16oz + Labatts & Labatt Light ~ 3 bucks too!\n$3 BOMBS (cherry\, grape\, orange or jager)\n$4 FireBalls & Jameson\n$4 Well Drink
URL:https://wilbertsmusic.com/event/90s-bash-bar-crawl/
END:VEVENT
BEGIN:VEVENT
DTSTART;TZID=UTC:20200401T100000
DTEND;TZID=UTC:20200401T180000
DTSTAMP:20260419T143011
CREATED:20200220T173107Z
LAST-MODIFIED:20200309T182840Z
UID:1323-1585735200-1585764000@wilbertsmusic.com
SUMMARY:a WAHOO of a Happy Hour~with the Best Dam Deals Downtown!
DESCRIPTION:Breakfast Burrito\, Egg & Chorizo Quesadilla and Creme Brulee French Toast. \n$4 Bloody Mary’s and Mimosas \n$3 ~DOMESTICS & BOMBS (cherry\, grape\, orange or jagger) \n$4 FIREBALLS & JAMESON \n$10.99 Award Winning Ribs Dinner w/Fries & Salad
URL:https://wilbertsmusic.com/event/a-wahoo-of-a-happy-hourwith-the-best-dam-deals-downtown-7-2020-04-01/2020-04-01/
END:VEVENT
BEGIN:VEVENT
DTSTART;TZID=UTC:20200331T170000
DTEND;TZID=UTC:20200331T190000
DTSTAMP:20260419T143011
CREATED:20190924T001412Z
LAST-MODIFIED:20200229T151920Z
UID:950-1585674000-1585681200@wilbertsmusic.com
SUMMARY:Justin Howl~Mississippi-raised and Chicago-based singer/songwriter Justin Howl brings his blues stylings through to Wilberts
DESCRIPTION:
URL:https://wilbertsmusic.com/event/justin-howl/
END:VEVENT
BEGIN:VEVENT
DTSTART;TZID=UTC:20200331T160000
DTEND;TZID=UTC:20200331T200000
DTSTAMP:20260419T143011
CREATED:20200220T164123Z
LAST-MODIFIED:20200226T172524Z
UID:1303-1585670400-1585684800@wilbertsmusic.com
SUMMARY:a MONSTER of a Happy Hour~with the Best Dam Deals Downtown!
DESCRIPTION:$3 ~16oz DOMESTICS & BOMBS (cherry\, grape\, orange or jager) \n$4 FIREBALLS & JAMESON
URL:https://wilbertsmusic.com/event/a-monster-of-a-happy-hourwith-the-best-dam-deals-downtown-9-2020-03-31/2020-03-31/
END:VEVENT
BEGIN:VEVENT
DTSTART;TZID=UTC:20200330T150000
DTEND;TZID=UTC:20200330T223000
DTSTAMP:20260419T143011
CREATED:20200220T173522Z
LAST-MODIFIED:20200220T234020Z
UID:1322-1585580400-1585607400@wilbertsmusic.com
SUMMARY:a WAHOO of a Happy Hour~with the Best Dam Deals Downtown!
DESCRIPTION:$3 ~16oz DOMESTICS & BOMBS (cherry\, grape\, orange or jagger) \n$4 FIREBALLS & JAMESON \n$10.99 Award Winning Ribs Dinner w/Fries & Salad
URL:https://wilbertsmusic.com/event/a-wahoo-of-a-happy-hourwith-the-best-dam-deals-downtown-8/2020-03-30/
END:VEVENT
BEGIN:VEVENT
DTSTART;TZID=UTC:20200328T160000
DTEND;TZID=UTC:20200328T190000
DTSTAMP:20260419T143011
CREATED:20200309T143746Z
LAST-MODIFIED:20200309T143746Z
UID:1457-1585411200-1585422000@wilbertsmusic.com
SUMMARY:SWAP MEET ~ stew of everything from Gypsy Jazz to Hillbilly music from CLE
DESCRIPTION:Swap Meet is a brand spanking new northeast Ohio band that plays original acoustic live music inspired by life in the ditches of Oklahoma. \nLeaning strongly on four part vocal harmonies\, rub board rhythms and hot solos\, the musical style is a stew of everything from Gypsy Jazz to Hillbilly music.
URL:https://wilbertsmusic.com/event/swap-meet-stew-of-everything-from-gypsy-jazz-to-hillbilly-music-from-cle/
END:VEVENT
END:VCALENDAR