BEGIN:VCALENDAR
VERSION:2.0
PRODID:-//Wilberts - ECPv6.15.20//NONSGML v1.0//EN
CALSCALE:GREGORIAN
METHOD:PUBLISH
X-ORIGINAL-URL:https://wilbertsmusic.com
X-WR-CALDESC:Events for Wilberts
REFRESH-INTERVAL;VALUE=DURATION:PT1H
X-Robots-Tag:noindex
X-PUBLISHED-TTL:PT1H
BEGIN:VTIMEZONE
TZID:UTC
BEGIN:STANDARD
TZOFFSETFROM:+0000
TZOFFSETTO:+0000
TZNAME:UTC
DTSTART:20180101T000000
END:STANDARD
END:VTIMEZONE
BEGIN:VEVENT
DTSTART;TZID=UTC:20190628T200000
DTEND;TZID=UTC:20190628T233000
DTSTAMP:20260420T174921
CREATED:20190607T154300Z
LAST-MODIFIED:20190607T154300Z
UID:281-1561752000-1561764600@wilbertsmusic.com
SUMMARY:JD SIMO ~ Psychedelic Blues/Rock/Soul/Jam from Nashville\, TN
DESCRIPTION:Acid rock\, traditional blues\, folk\, soul\, free form jazz\, and the never ceasing desire to improvise form this mind bending kaleidoscope of sound\, energy and vibe. NPR said “This Nashville blues trio sounds as if it comes to us straight from 1968.” And Rolling Stone lauded\, “J.D. Simo spins soulful psychedelic blues rock with an improvisational bent reminiscent of the Grateful Dead and Stevie Ray Vaughan”.
URL:https://wilbertsmusic.com/event/jd-simo-psychedelic-blues-rock-soul-jam-from-nashville-tn/
END:VEVENT
BEGIN:VEVENT
DTSTART;TZID=UTC:20190626T100000
DTEND;TZID=UTC:20190626T180000
DTSTAMP:20260420T174921
CREATED:20190607T154216Z
LAST-MODIFIED:20190607T193551Z
UID:279-1561543200-1561572000@wilbertsmusic.com
SUMMARY:a WAHOO of a Breakfast / Happy Hour~with the Best Dam Deals Downtown!
DESCRIPTION:Breakfast Burrito\, Egg & Chorizo Quesadilla and Creme Brulee French Toast\n$3 ~DOMESTICS & BOMBS (cherry\, grape\, orange or jagger) $4 FIREBALLS & JAMESON\n+$9.99 Award Winning Ribs Dinner w/Fries & Salad
URL:https://wilbertsmusic.com/event/a-wahoo-of-a-breakfast-happy-hourwith-the-best-dam-deals-downtown-4/
END:VEVENT
BEGIN:VEVENT
DTSTART;TZID=UTC:20190625T210000
DTEND;TZID=UTC:20190625T224500
DTSTAMP:20260420T174921
CREATED:20190607T154040Z
LAST-MODIFIED:20190607T154040Z
UID:277-1561496400-1561502700@wilbertsmusic.com
SUMMARY:Jessica Lynn ~"Shania's Successor"~ Country's Newest Firecracker
DESCRIPTION:Jessica Lynn\, has been dubbed by press around the world as a rocket force\, paving her own way as a unique face and voice in modern country music. She has been seen by millions on the road and in her two full-length nationwide concert television specials\, “Jessica Lynn – This Much Fun\,” and “Jessica Lynn – Takin’ Over.”
URL:https://wilbertsmusic.com/event/jessica-lynn-shanias-successor-countrys-newest-firecracker/
END:VEVENT
BEGIN:VEVENT
DTSTART;TZID=UTC:20190625T150000
DTEND;TZID=UTC:20190625T223000
DTSTAMP:20260420T174921
CREATED:20190607T154000Z
LAST-MODIFIED:20190607T154000Z
UID:275-1561474800-1561501800@wilbertsmusic.com
SUMMARY:a WAHOO of a Happy Hour~with the Best Dam Deals Downtown!
DESCRIPTION:$3 ~16oz DOMESTICS & BOMBS (cherry\, grape\, orange or jagger)\n$4 FIREBALLS & JAMESON\n$9.99 Award Winning Ribs Dinner w/Fries & Salad
URL:https://wilbertsmusic.com/event/a-wahoo-of-a-happy-hourwith-the-best-dam-deals-downtown-6/
END:VEVENT
BEGIN:VEVENT
DTSTART;TZID=UTC:20190624T173000
DTEND;TZID=UTC:20190624T190000
DTSTAMP:20260420T174921
CREATED:20190607T153857Z
LAST-MODIFIED:20190607T153857Z
UID:273-1561397400-1561402800@wilbertsmusic.com
SUMMARY:Eli Elkus~original\, wingnutty\, fairy folk and hobo jazz concoctions!
DESCRIPTION:Eli Elkus is a rootin’ tootin’ modern-day American troubadour\, serving up a musical concoction of vaudeville\, freak folk\, inlaw country and hobo jazz on various porches\, street corners\, coffee houses\, fairs\, festivals\, backyards and music venues across the USA. The self-proclaimed wingnut calls his never-ending musical quest in his short bus (JeBus)\, the “TroubaTour”. He began sculpting his craft busking in the streets of Portsmouth\, New Hampshire where his original “finger-flick” picking style reminiscent of folk and Americana started to take shape – influenced by Klezmer and gypsy music\, eastern and western traditional folk songs\, and the 20th century folk revival. Elkus is quite the anomalous lyricist and no stranger to satire\, telling romanticized tales of low-life characters and haunting horrors with a charm of tragic\, hard learned\, “once he knew it\, it was too late” kind of lessons in his distinctive gravely (sometimes smooth and sometimes downright boisterous) tobacco stained voice. With a whimsical yet jubilant demeanor and downright absurd antics within and betwixt tunes touching on performance art\, Eli will silence a room with a wistful ballad and then quickly rabble-rouse life into it once again; spinning in circles and foot-stomping his way through tales eager to be told. When Eli comes to your town\, you’ll find him in a cozy nook between the real and nonsensical within the margins of society.
URL:https://wilbertsmusic.com/event/eli-elkusoriginal-wingnutty-fairy-folk-and-hobo-jazz-concoctions/
END:VEVENT
BEGIN:VEVENT
DTSTART;TZID=UTC:20190624T150000
DTEND;TZID=UTC:20190624T223000
DTSTAMP:20260420T174921
CREATED:20190607T153737Z
LAST-MODIFIED:20190607T153737Z
UID:271-1561388400-1561415400@wilbertsmusic.com
SUMMARY:a WAHOO of a Happy Hour~with the Best Dam Deals Downtown!
DESCRIPTION:$3 ~16oz DOMESTICS & BOMBS (cherry\, grape\, orange or jagger)\n$4 FIREBALLS & JAMESON\n$9.99 Award Winning Ribs Dinner w/Fries & Salad
URL:https://wilbertsmusic.com/event/a-wahoo-of-a-happy-hourwith-the-best-dam-deals-downtown-5/
END:VEVENT
BEGIN:VEVENT
DTSTART;TZID=UTC:20190623T160000
DTEND;TZID=UTC:20190623T173000
DTSTAMP:20260420T174921
CREATED:20190607T153517Z
LAST-MODIFIED:20190607T153517Z
UID:269-1561305600-1561311000@wilbertsmusic.com
SUMMARY:Ryan Hollander
DESCRIPTION:
URL:https://wilbertsmusic.com/event/ryan-hollander-2/
END:VEVENT
BEGIN:VEVENT
DTSTART;TZID=UTC:20190623T093000
DTEND;TZID=UTC:20190623T180000
DTSTAMP:20260420T174921
CREATED:20190714T093035Z
LAST-MODIFIED:20190630T151347Z
UID:267-1561282200-1561312800@wilbertsmusic.com
SUMMARY:a WAHOO of a Breakfast / Happy Hour~with the Best Dam Deals Downtown!
DESCRIPTION:Breakfast Burrito\, Egg & Chorizo Quesadilla and Creme Brulee French Toast.\n$3 ~DOMESTICS & BOMBS (cherry\, grape\, orange or jagger) $4 FIREBALLS & JAMESON\n+$9.99 Award Winning Ribs Dinner w/Fries & Salad
URL:https://wilbertsmusic.com/event/a-wahoo-of-a-breakfast-happy-hourwith-the-best-dam-deals-downtown-3/
END:VEVENT
BEGIN:VEVENT
DTSTART;TZID=UTC:20190622T183000
DTEND;TZID=UTC:20190622T210000
DTSTAMP:20260420T174921
CREATED:20190607T153358Z
LAST-MODIFIED:20190617T211722Z
UID:265-1561228200-1561237200@wilbertsmusic.com
SUMMARY:MUDHOUSE GANG plays roots\, soulful blues rock & roll
DESCRIPTION:
URL:https://wilbertsmusic.com/event/mudhouse-gang-plays-rootssoulful-blues-rock-roll/
END:VEVENT
BEGIN:VEVENT
DTSTART;TZID=UTC:20190622T140000
DTEND;TZID=UTC:20190622T160000
DTSTAMP:20260420T174921
CREATED:20190607T153324Z
LAST-MODIFIED:20190607T153324Z
UID:263-1561212000-1561219200@wilbertsmusic.com
SUMMARY:Ryan Hollander
DESCRIPTION:
URL:https://wilbertsmusic.com/event/ryan-hollander/
END:VEVENT
BEGIN:VEVENT
DTSTART;TZID=UTC:20190622T120000
DTEND;TZID=UTC:20190622T220000
DTSTAMP:20260420T174921
CREATED:20190607T153255Z
LAST-MODIFIED:20190607T153255Z
UID:260-1561204800-1561240800@wilbertsmusic.com
SUMMARY:a WAHOO of a Happy Hour~with the Best Dam Deals Downtown!
DESCRIPTION:$3 ~16oz DOMESTICS & BOMBS (cherry\, grape\, orange or jagger)\n$4 FIREBALLS & JAMESON\n$9.99 Award Winning Ribs Dinner w/Fries & Salad
URL:https://wilbertsmusic.com/event/a-wahoo-of-a-happy-hourwith-the-best-dam-deals-downtown-4/
END:VEVENT
BEGIN:VEVENT
DTSTART;TZID=UTC:20190621T213000
DTEND;TZID=UTC:20190621T233000
DTSTAMP:20260420T174921
CREATED:20190607T153211Z
LAST-MODIFIED:20190607T193051Z
UID:258-1561152600-1561159800@wilbertsmusic.com
SUMMARY:The Aquaducks ~ Funk/Soul from Nashville\, TN
DESCRIPTION:‘If you haven’t yet seen The Aquaducks live\, fix that immediately\, because they are\, without a doubt\, one of Nashville’s best emerging live acts’
URL:https://wilbertsmusic.com/event/the-aquaducks-funk-soul-from-nashville-tn/
END:VEVENT
BEGIN:VEVENT
DTSTART;TZID=UTC:20190621T173000
DTEND;TZID=UTC:20190621T190000
DTSTAMP:20260420T174921
CREATED:20190607T153103Z
LAST-MODIFIED:20190607T153103Z
UID:256-1561138200-1561143600@wilbertsmusic.com
SUMMARY:Brody Buster's One Man Band ~ 2017 IBC Winner\, "Best Harmonica Player"!
DESCRIPTION:He’s a former child prodigy and was featured on countless TV shows growing up\, including the Tonight Show with Jay Leno\, Dateline\, Crook & Chase\, and the Jon Stewart Show. Even Baywatch Nights and Full House showcased Brody’s talents. He’s shared the stage with Quincy Jones\, Keb Mo\, Chaka Kahn\, Lee Oskar and was a regular performer at B.B. King’s Blues Club. Brody’s performed with B.B. King several times. King was once quoted as saying\, “Despite his age\, Brody Buster is one of the greatest harmonica players of our time.”
URL:https://wilbertsmusic.com/event/brody-busters-one-man-band-2017-ibc-winner-best-harmonica-player/
END:VEVENT
BEGIN:VEVENT
DTSTART;TZID=UTC:20190620T200000
DTEND;TZID=UTC:20190620T220000
DTSTAMP:20260420T174921
CREATED:20190607T153026Z
LAST-MODIFIED:20190607T153026Z
UID:254-1561060800-1561068000@wilbertsmusic.com
SUMMARY:Tas Cru & the Tortured Souls
DESCRIPTION:
URL:https://wilbertsmusic.com/event/tas-cru-the-tortured-souls/
END:VEVENT
BEGIN:VEVENT
DTSTART;TZID=UTC:20190619T203000
DTEND;TZID=UTC:20190619T223000
DTSTAMP:20260420T174921
CREATED:20190607T153000Z
LAST-MODIFIED:20190607T153000Z
UID:252-1560976200-1560983400@wilbertsmusic.com
SUMMARY:Skyla Burrell Band ~ "Hard Drivin' Blues"
DESCRIPTION:The Skyla Burrell Blues Band is a full time\, hard working traveling blues band. With co-founder Mark Tomlinson on lead guitar and Skyla Burrell on vocals and lead guitar\, the band’s live show consists of all original high energy electric blues.
URL:https://wilbertsmusic.com/event/skyla-burrell-band-hard-drivin-blues/
END:VEVENT
BEGIN:VEVENT
DTSTART;TZID=UTC:20190615T203000
DTEND;TZID=UTC:20190615T211500
DTSTAMP:20260420T174921
CREATED:20190607T152908Z
LAST-MODIFIED:20190607T152908Z
UID:250-1560630600-1560633300@wilbertsmusic.com
SUMMARY:opening- BOB FRANK ~ historic to original BLUES
DESCRIPTION:
URL:https://wilbertsmusic.com/event/opening-bob-frank-historic-to-original-blues/
END:VEVENT
BEGIN:VEVENT
DTSTART;TZID=UTC:20190615T200000
DTEND;TZID=UTC:20190615T230000
DTSTAMP:20260420T174921
CREATED:20190607T152748Z
LAST-MODIFIED:20190607T152748Z
UID:248-1560628800-1560639600@wilbertsmusic.com
SUMMARY:AMANDA FISH Roots Rock and Soul from Kansas City\, MO
DESCRIPTION:2019 BMA Nominee “Best Emerging Artist Album”
URL:https://wilbertsmusic.com/event/amanda-fish-roots-rock-and-soul-from-kansas-city-mo/
END:VEVENT
BEGIN:VEVENT
DTSTART;TZID=UTC:20190614T200000
DTEND;TZID=UTC:20190614T230000
DTSTAMP:20260420T174921
CREATED:20190607T152714Z
LAST-MODIFIED:20190607T152714Z
UID:246-1560542400-1560553200@wilbertsmusic.com
SUMMARY:Funny Noizes Productions
DESCRIPTION:
URL:https://wilbertsmusic.com/event/funny-noizes-productions/
END:VEVENT
BEGIN:VEVENT
DTSTART;TZID=UTC:20190612T093000
DTEND;TZID=UTC:20190612T180000
DTSTAMP:20260420T174921
CREATED:20190607T152649Z
LAST-MODIFIED:20190607T152649Z
UID:244-1560331800-1560362400@wilbertsmusic.com
SUMMARY:a WAHOO of a Breakfast / Happy Hour~with the Best Dam Deals Downtown!
DESCRIPTION:Breakfast Burrito\, Egg & Chorizo Quesadilla and Creme Brulee French Toast.\n$3 ~DOMESTICS & BOMBS (cherry\, grape\, orange or jagger) $4 FIREBALLS & JAMESON\n+$9.99 Award Winning Ribs Dinner w/Fries & Salad
URL:https://wilbertsmusic.com/event/a-wahoo-of-a-breakfast-happy-hourwith-the-best-dam-deals-downtown-2/
END:VEVENT
BEGIN:VEVENT
DTSTART;TZID=UTC:20190611T173000
DTEND;TZID=UTC:20190611T190000
DTSTAMP:20260420T174921
CREATED:20190607T152528Z
LAST-MODIFIED:20190607T152528Z
UID:242-1560274200-1560279600@wilbertsmusic.com
SUMMARY:Mark Stuart: Singer/songwriter and Americana/folk musician from Nashville\, Tennessee
DESCRIPTION:
URL:https://wilbertsmusic.com/event/mark-stuart-singer-songwriter-and-americana-folk-musician-from-nashville-tennessee/
END:VEVENT
BEGIN:VEVENT
DTSTART;TZID=UTC:20190611T150000
DTEND;TZID=UTC:20190611T223000
DTSTAMP:20260420T174921
CREATED:20190607T152320Z
LAST-MODIFIED:20190607T152320Z
UID:240-1560265200-1560292200@wilbertsmusic.com
SUMMARY:a WAHOO of a Happy Hour~with the Best Dam Deals Downtown!
DESCRIPTION:$3 ~16oz DOMESTICS & BOMBS (cherry\, grape\, orange or jagger)\n$4 FIREBALLS & JAMESON\n$9.99 Award Winning Ribs Dinner w/Fries & Salad
URL:https://wilbertsmusic.com/event/a-wahoo-of-a-happy-hourwith-the-best-dam-deals-downtown-3/
END:VEVENT
BEGIN:VEVENT
DTSTART;TZID=UTC:20190609T160000
DTEND;TZID=UTC:20190609T173000
DTSTAMP:20260420T174921
CREATED:20190607T151947Z
LAST-MODIFIED:20190607T192705Z
UID:237-1560096000-1560101400@wilbertsmusic.com
SUMMARY:Pam Taylor!!
DESCRIPTION:LA Music Critic’s Blues Artist of the Year \nIt’s a Post Game Party With All The Great Specials \n 
URL:https://wilbertsmusic.com/event/pam-taylor/
LOCATION:Wilbert’s\, 812 Huron Avenue\, Cleveland\, OH\, 44115\, United States
END:VEVENT
BEGIN:VEVENT
DTSTART;TZID=UTC:20190609T093000
DTEND;TZID=UTC:20190609T180000
DTSTAMP:20260420T174921
CREATED:20190607T151520Z
LAST-MODIFIED:20190607T151520Z
UID:235-1560072600-1560103200@wilbertsmusic.com
SUMMARY:a WAHOO of a Breakfast / Happy Hour~with the Best Dam Deals Downtown!
DESCRIPTION:Breakfast Burrito\, Egg & Chorizo Quesadilla and Creme Brulee French Toast.\n$3 ~DOMESTICS & BOMBS (cherry\, grape\, orange or jagger) $4 FIREBALLS & JAMESON\n+$9.99 Award Winning Ribs Dinner w/Fries & Salad
URL:https://wilbertsmusic.com/event/a-wahoo-of-a-breakfast-happy-hourwith-the-best-dam-deals-downtown/
END:VEVENT
BEGIN:VEVENT
DTSTART;TZID=UTC:20190608T183000
DTEND;TZID=UTC:20190608T213000
DTSTAMP:20260420T174921
CREATED:20190607T151443Z
LAST-MODIFIED:20190607T151443Z
UID:233-1560018600-1560029400@wilbertsmusic.com
SUMMARY:Dave Weld & The Imperial Flames ~ authentic high energy Chicago BLUES
DESCRIPTION:
URL:https://wilbertsmusic.com/event/dave-weld-the-imperial-flames-authentic-high-energy-chicago-blues/
END:VEVENT
BEGIN:VEVENT
DTSTART;TZID=UTC:20190608T140000
DTEND;TZID=UTC:20190608T160000
DTSTAMP:20260420T174921
CREATED:20190607T151303Z
LAST-MODIFIED:20190607T151343Z
UID:231-1560002400-1560009600@wilbertsmusic.com
SUMMARY:TOM & ALEXIS
DESCRIPTION:
URL:https://wilbertsmusic.com/event/tom-alexis/
END:VEVENT
BEGIN:VEVENT
DTSTART;TZID=UTC:20190608T120000
DTEND;TZID=UTC:20190608T220000
DTSTAMP:20260420T174921
CREATED:20190607T151236Z
LAST-MODIFIED:20190607T151236Z
UID:229-1559995200-1560031200@wilbertsmusic.com
SUMMARY:a WAHOO of a Happy Hour~with the Best Dam Deals Downtown!
DESCRIPTION:$3 ~16oz DOMESTICS & BOMBS (cherry\, grape\, orange or jagger)\n$4 FIREBALLS & JAMESON\n$9.99 Award Winning Ribs Dinner w/Fries & Salad
URL:https://wilbertsmusic.com/event/a-wahoo-of-a-happy-hourwith-the-best-dam-deals-downtown-2/
END:VEVENT
BEGIN:VEVENT
DTSTART;TZID=UTC:20190607T210000
DTEND;TZID=UTC:20190607T230000
DTSTAMP:20260420T174921
CREATED:20190607T150859Z
LAST-MODIFIED:20191005T135418Z
UID:227-1559941200-1559948400@wilbertsmusic.com
SUMMARY:CXL-POPPA "D" AND THE AGGRAVATORS' Fun\, Zesty Music we call D - BLUES! - It's a PaR-tY!
DESCRIPTION:After 30 years\, Thousands of miles\, Hundreds of gallons of whisky\n“POPPA”D” AND THE AGGRAVATORS have established themselves as the keeper of the flame of MODERN BLUES. The Common barriers facing a band of musicians doing the unconventional have been removed. What is left is a Fun\,Zesty Music we call D – BLUES! Forget what you know about Blues Bands. We take elements from other popular Musical platforms to create a fresh approach. So there are no more excuses to not LOVE THE BLUES!
URL:https://wilbertsmusic.com/event/poppa-d-and-the-aggravators-fun-zesty-music-we-call-d-blues-its-a-par-ty/2019-06-07/
END:VEVENT
BEGIN:VEVENT
DTSTART;TZID=UTC:20190607T173000
DTEND;TZID=UTC:20190607T190000
DTSTAMP:20260420T174921
CREATED:20190607T150757Z
LAST-MODIFIED:20190607T150757Z
UID:225-1559928600-1559934000@wilbertsmusic.com
SUMMARY:KRIS LAGER BAND ~Revivalist Rock\, Heavy Soul & Boogie Trance from Omaha\, NE
DESCRIPTION:“Brilliant… KLB offers a sound that few other modern day bands can offer.”-Andrew Steigler/ Bandwagon Magazine (Greeley\, CO/) \n“Great voice and great songs” -Jim Gaines (Grammy Award Winning Producer) \n“The momentum never slows (on KLB’s new record ‘Love Songs & Life Lines)… Thoroughly engrossing & Ultra-soulful…”-No Depression Magazine \n“(KLB’s New album Love Songs & Life Lines)… Sounds like a classic…” -midwestrecords.com \n“HOT. HOT. HOT…”​”Kris Lager Band… induced the most intense dance party… “​-HearNebraska.org \n“The kind of toe-tapping rhythm that sometimes you just need to make it through a day.”-Paste Magazine
URL:https://wilbertsmusic.com/event/kris-lager-band-revivalist-rock-heavy-soul-boogie-trance-from-omaha-ne/
END:VEVENT
BEGIN:VEVENT
DTSTART;TZID=UTC:20190607T150000
DTEND;TZID=UTC:20190607T223000
DTSTAMP:20260420T174921
CREATED:20190607T150719Z
LAST-MODIFIED:20190607T150719Z
UID:222-1559919600-1559946600@wilbertsmusic.com
SUMMARY:a WAHOO of a Happy Hour~with the Best Dam Deals Downtown!
DESCRIPTION:$3 ~16oz DOMESTICS & BOMBS (cherry\, grape\, orange or jagger)\n$4 FIREBALLS & JAMESON\n$9.99 Award Winning Ribs Dinner w/Fries & Salad
URL:https://wilbertsmusic.com/event/a-wahoo-of-a-happy-hourwith-the-best-dam-deals-downtown/
END:VEVENT
END:VCALENDAR