BEGIN:VCALENDAR
VERSION:2.0
PRODID:-//Wilberts - ECPv6.15.20//NONSGML v1.0//EN
CALSCALE:GREGORIAN
METHOD:PUBLISH
X-WR-CALNAME:Wilberts
X-ORIGINAL-URL:https://wilbertsmusic.com
X-WR-CALDESC:Events for Wilberts
REFRESH-INTERVAL;VALUE=DURATION:PT1H
X-Robots-Tag:noindex
X-PUBLISHED-TTL:PT1H
BEGIN:VTIMEZONE
TZID:UTC
BEGIN:STANDARD
TZOFFSETFROM:+0000
TZOFFSETTO:+0000
TZNAME:UTC
DTSTART:20180101T000000
END:STANDARD
END:VTIMEZONE
BEGIN:VEVENT
DTSTART;TZID=UTC:20190719T173000
DTEND;TZID=UTC:20190719T190000
DTSTAMP:20260420T150740
CREATED:20190607T155633Z
LAST-MODIFIED:20190607T194342Z
UID:315-1563557400-1563562800@wilbertsmusic.com
SUMMARY:American Dreamer ~ Orchestral Folk from AUSTIN TX
DESCRIPTION:American Dreamer plays original folk music with strings. It’s a unique and lush sound we call ‘orchestral folk.’ American Dreamer is Sasha Klare-Ayvazian (vocals\, guitar)\, Audrey Lee (violin)\, Courtney Castaneda (cello)\, Dana Wygmans (vocals\, bass)\, and Rick Palese (drums). While steeped in both folk and classical music\, we strive to create a sound that is not precisely either in hopes of exploring the space in between. American Dreamer’s music offers approachable songs with sophisticated\, rich textures\, and layered harmony.
URL:https://wilbertsmusic.com/event/american-dreamer-orchestral-folk-from-austin-tx/
END:VEVENT
BEGIN:VEVENT
DTSTART;TZID=UTC:20190718T210000
DTEND;TZID=UTC:20190718T230000
DTSTAMP:20260420T150740
CREATED:20190607T155554Z
LAST-MODIFIED:20190607T155554Z
UID:313-1563483600-1563490800@wilbertsmusic.com
SUMMARY:FAIR CITY FIRE groove-heavy\, in-your-face rock and roll band out of Austin\, TX.
DESCRIPTION:
URL:https://wilbertsmusic.com/event/fair-city-fire-groove-heavy-in-your-face-rock-and-roll-band-out-of-austin-tx/
END:VEVENT
BEGIN:VEVENT
DTSTART;TZID=UTC:20190718T173000
DTEND;TZID=UTC:20190718T190000
DTSTAMP:20260420T150740
CREATED:20190607T155502Z
LAST-MODIFIED:20190607T155502Z
UID:311-1563471000-1563476400@wilbertsmusic.com
SUMMARY:COLUMBIA JONES Americana artist and songwriter from Salt Lake City\, Utah
DESCRIPTION:One-Man-Band is quite the spectacle with a bass drum\, foot tambourine\, floor tom hooked to a looping pedal
URL:https://wilbertsmusic.com/event/columbia-jones-americana-artist-and-songwriter-from-salt-lake-city-utah/
END:VEVENT
BEGIN:VEVENT
DTSTART;TZID=UTC:20190717T210000
DTEND;TZID=UTC:20190717T230000
DTSTAMP:20260420T150740
CREATED:20190607T155428Z
LAST-MODIFIED:20200302T163658Z
UID:309-1563397200-1563404400@wilbertsmusic.com
SUMMARY:JOHN CLIFTON BLUES BAND ~ Think The Stray Cats on the BLUES from Central California
DESCRIPTION:“Vocalist and harp player John Clifton is an outstanding\, dedicated musician who plays genuine blues. The real deal!”— Mick Martin \, Capital Public Radio \n\n\n\n\n\n\n\n\n\n\n\n\n“You’ve got to work hard to make it look this easy and hard is where He starts. He knows how to light up a show with intensity\, and doesn’t know how to quit—so he doesn’t . With the electricity turned up to 11\, you can count on John Clifton to electrify you!”— The Midwest Record \n\n\n\n\n\n\n\n\n\n\n\n\n“John Clifton is an excellent musician / harpist\, with the urge to continue making great music. ”— Rootstime.be \n\n\n\n\n\n\n\n\n\n\n\n\n“John Clifton may not be a name that instantly leaps to mind like many of the West Coast blues scene harmonica players\, but maybe it’s time it should be as he is right there with the best.”— Cascade Blues Assocation \n\n\n\n\n\n\n\n\n\n\n\nBIO\n\n\n\n\n\n\nWho is John Clifton\, and why are they saying those things about him? After 30 plus years on stage\, the former frontman of a well-known\, notorious Central California band started with his brother Bill\, is spoken of not only in hushed whispers but in loud shouts as well.Bluesman John Clifton has dedicated himself to the genre that wasn’t getting the respect it deserved. But when you’re a frontman who delivers the goods straight from the heart\, soul\, and gut\, the Blues become relevant.From the first note of the first song on stage\, you know Clifton is the man in charge. Great musicians play off one another and take each other to new heights when they do. John taps into honest emotions\, and by doing so\, he brings the band along for the ride.Clifton is a veteran road dog whose travels have regularly crisscrossed the U.S. in addition to playing festivals as far away as France\, Belgium\, Poland\, and New Zealand to the tune of 150 dates a year. John’s mad harmonica skills have placed him on stages shared by James Cotton\, John Mayall\, Luther Tucker\, Kim Wilson\, and a host of other talented bluesmen. His harp chops landed him the job of featured harmonica player while touring and recording with Big Bill Morganfield on his 2016 release\, “Bloodstains on the Wall.”With each of the three records\, he has made with Southern California blues\, roots label Rip Cat Records the accolades and intensity increased. His first solo album\, Let Yourself Go\, was released shortly after signing in 2015 to worldwide acclaim and airplay.Nightlife followed in 2018\, and Clifton ramped up his game by multiple notches\, seamlessly translating his onstage blend of West Coast and Chicago Blues\, ’50s style hard R&B and Soul to the studio. Once again\, critical acclaim followed\, and the album appeared on blues\, roots\, and rockabilly charts worldwide. The song “Still A Fool” from Nightlife was the #10 of the top new releases on Top 15 Rack of Blues Radio show on BB Kings Bluesville on Sirus XM Radio\, Nightlife Spent 6 Months in the Roots Music Report Top 25 Contemporary Blues Albums and finished #72 For 2018 on The Top 200 Roots Music Report Contemporary Blues Chart.His latest CD\, In The Middle Of Nowhere\, followed in the spring of 2019 with 11 tracks that sizzle and shake to perfection. The album features five all-new originals\, along with six covers of songs by artists as diverse as Willie Dixon and Merle Haggard\, and immediately became a fixture on the Top 50 Contemporary Blues charts\, Sirius/XM’s Bluesville\, and Living Blues Radio.Originality and fire in his harp and vocal stylings. Electrifying excitement consistently brought onstage.This is what keeps the John Clifton Band new and entertaining every time they take the stage!There’s more! John used his skills as a record producer to take Polish artists\, former International Blues Challenge finalists\, The Boogie Boys\, into the studio. The record he produced\, Made in Cali\, won Album of the Year honors in the Polish Blues Awards.Producer David Z best known for his work with Prince\, Etta James\, Billy Idol\, and many others\, chose John’s song “Anytime Is Cool” for the 2017 motion picture release “Shattered” John and Band were also asked to appear in the movie and were featured in the first scene.Songwriter\, producer\, singer\, harmonica player\, showman; with John Clifton you get the whole package.
URL:https://wilbertsmusic.com/event/john-clifton-blues-band-think-the-stray-cats-on-the-blues-from-central-california/2019-07-17/
END:VEVENT
BEGIN:VEVENT
DTSTART;TZID=UTC:20190717T200000
DTEND;TZID=UTC:20190717T210000
DTSTAMP:20260420T150740
CREATED:20190607T155330Z
LAST-MODIFIED:20190607T155330Z
UID:307-1563393600-1563397200@wilbertsmusic.com
SUMMARY:opening BLUE LUNCH ~ Blues\, Jazz\, Swing\, New Orleans music\, Memphis R&B from Cleveland
DESCRIPTION:
URL:https://wilbertsmusic.com/event/opening-blue-lunch-blues-jazz-swing-new-orleans-music-memphis-rb-from-cleveland/
END:VEVENT
BEGIN:VEVENT
DTSTART;TZID=UTC:20190716T210000
DTEND;TZID=UTC:20190716T223000
DTSTAMP:20260420T150740
CREATED:20190607T155151Z
LAST-MODIFIED:20190607T155151Z
UID:303-1563310800-1563316200@wilbertsmusic.com
SUMMARY:PONCÉ is a dynamic indie rock duo out of Nashville
DESCRIPTION:The twins efficiently cross genres; from classic\, harmony-driven melodies reminiscent of Tom Petty And The Heartbreakers\, to modern\, synth-led pop productions with melodic guitar leads evocative of The Killers
URL:https://wilbertsmusic.com/event/ponce-is-a-dynamic-indie-rock-duo-out-of-nashville/
END:VEVENT
BEGIN:VEVENT
DTSTART;TZID=UTC:20190716T173000
DTEND;TZID=UTC:20190716T190000
DTSTAMP:20260420T150740
CREATED:20190607T155109Z
LAST-MODIFIED:20190607T155109Z
UID:301-1563298200-1563303600@wilbertsmusic.com
SUMMARY:ANTHONY PICONE singer/songwriter/musician from New York
DESCRIPTION:With a voice of soul and bluesy guitar\, Anthony’s music reflects the sounds of the 70’s with a modern flare
URL:https://wilbertsmusic.com/event/anthony-picone-singer-songwriter-musician-from-new-york-2/
END:VEVENT
BEGIN:VEVENT
DTSTART;TZID=UTC:20190715T173000
DTEND;TZID=UTC:20190715T190000
DTSTAMP:20260420T150740
CREATED:20190607T155033Z
LAST-MODIFIED:20190607T155033Z
UID:299-1563211800-1563217200@wilbertsmusic.com
SUMMARY:ANTHONY PICONE singer/songwriter/musician from New York
DESCRIPTION:With a voice of soul and bluesy guitar\, Anthony’s music reflects the sounds of the 70’s with a modern flare
URL:https://wilbertsmusic.com/event/anthony-picone-singer-songwriter-musician-from-new-york/
END:VEVENT
BEGIN:VEVENT
DTSTART;TZID=UTC:20190715T150000
DTEND;TZID=UTC:20190715T230000
DTSTAMP:20260420T150740
CREATED:20190711T214007Z
LAST-MODIFIED:20190711T214007Z
UID:518-1563202800-1563231600@wilbertsmusic.com
SUMMARY:a WAHOO of a Happy Hour~with the Best Dam Deals Downtown! 3-11pm
DESCRIPTION:$3 ~16oz DOMESTICS & BOMBS (cherry\, grape\, orange or jagger) $4 FIREBALLS & JAMESON $9.99 Award Winning Ribs Dinner w/Fries & Salad
URL:https://wilbertsmusic.com/event/a-wahoo-of-a-happy-hourwith-the-best-dam-deals-downtown-3-11pm-3/
END:VEVENT
BEGIN:VEVENT
DTSTART;TZID=UTC:20190714T093000
DTEND;TZID=UTC:20190714T180000
DTSTAMP:20260420T150740
CREATED:20190710T182114Z
LAST-MODIFIED:20190710T182114Z
UID:503-1563096600-1563127200@wilbertsmusic.com
SUMMARY:a WAHOO of a Breakfast / Happy Hour~with the Best Dam Deals Downtown! 9:30-6pm
DESCRIPTION:Breakfast Burrito\, Egg & Chorizo Quesadilla and Creme Brulee French Toast.\n$3 ~DOMESTICS & BOMBS (cherry\, grape\, orange or jagger)\n$4 FIREBALLS & JAMESON\n+$9.99 Award Winning Ribs Dinner w/Fries & Salad
URL:https://wilbertsmusic.com/event/a-wahoo-of-a-breakfast-happy-hourwith-the-best-dam-deals-downtown-930-6pm/
END:VEVENT
BEGIN:VEVENT
DTSTART;TZID=UTC:20190713T210000
DTEND;TZID=UTC:20190713T230000
DTSTAMP:20260420T150740
CREATED:20190607T154924Z
LAST-MODIFIED:20190607T154924Z
UID:295-1563051600-1563058800@wilbertsmusic.com
SUMMARY:GRINGO STEW ~ Country\, Tex-Mex\, Texas Swing\, Southern Rock Band in CLE OH
DESCRIPTION:
URL:https://wilbertsmusic.com/event/gringo-stew-country-tex-mex-texas-swing-southern-rock-band-in-cle-oh/
END:VEVENT
BEGIN:VEVENT
DTSTART;TZID=UTC:20190713T170000
DTEND;TZID=UTC:20190713T190000
DTSTAMP:20260420T150740
CREATED:20190607T154848Z
LAST-MODIFIED:20190607T154848Z
UID:292-1563037200-1563044400@wilbertsmusic.com
SUMMARY:Bridgetown Junction
DESCRIPTION:Singer-Songwriters\, Amanda and Rick\, have been performing together for a few years playing their songs as well as interpretations of contemporary covers.
URL:https://wilbertsmusic.com/event/bridgetown-junction/
END:VEVENT
BEGIN:VEVENT
DTSTART;TZID=UTC:20190713T140000
DTEND;TZID=UTC:20190713T230000
DTSTAMP:20260420T150740
CREATED:20190710T181259Z
LAST-MODIFIED:20190710T181616Z
UID:498-1563026400-1563058800@wilbertsmusic.com
SUMMARY:a WAHOO of a Happy Hour~with the Best Dam Deals Downtown! 2-11pm
DESCRIPTION:$3 ~16oz DOMESTICS & BOMBS (cherry\, grape\, orange or jagger)\n$4 FIREBALLS & JAMESON\n$9.99 Award Winning Ribs Dinner w/Fries & Salad
URL:https://wilbertsmusic.com/event/a-wahoo-of-a-happy-hourwith-the-best-dam-deals-downtown-3-11pm/
END:VEVENT
BEGIN:VEVENT
DTSTART;TZID=UTC:20190712T213000
DTEND;TZID=UTC:20190712T233000
DTSTAMP:20260420T150740
CREATED:20190607T154811Z
LAST-MODIFIED:20200306T193004Z
UID:290-1562967000-1562974200@wilbertsmusic.com
SUMMARY:The Bridget Kelly Band ~ Blues / Rock Blues Gainesville\, FL
DESCRIPTION:Inspired by classic blues & electric blues\, the Bridget Kelly Band has placed their unique stamp on the blues-rock genre. Two-time IBC Semi-Finalists and #1 RMR Electric Blues charting artists
URL:https://wilbertsmusic.com/event/the-bridget-kelly-band-blues-rock-blues-gainesville-fl/2019-07-12/
LOCATION:Wilbert’s\, 812 Huron Avenue\, Cleveland\, OH\, 44115\, United States
END:VEVENT
BEGIN:VEVENT
DTSTART;TZID=UTC:20190712T150000
DTEND;TZID=UTC:20190712T230000
DTSTAMP:20260420T150740
CREATED:20190710T181806Z
LAST-MODIFIED:20190710T181806Z
UID:501-1562943600-1562972400@wilbertsmusic.com
SUMMARY:a WAHOO of a Happy Hour~with the Best Dam Deals Downtown! 3-11pm
DESCRIPTION:$3 ~16oz DOMESTICS & BOMBS (cherry\, grape\, orange or jagger)\n$4 FIREBALLS & JAMESON\n$9.99 Award Winning Ribs Dinner w/Fries & Salad
URL:https://wilbertsmusic.com/event/a-wahoo-of-a-happy-hourwith-the-best-dam-deals-downtown-3-11pm-2/
END:VEVENT
BEGIN:VEVENT
DTSTART;TZID=UTC:20190709T173000
DTEND;TZID=UTC:20190709T193000
DTSTAMP:20260420T150740
CREATED:20190630T150450Z
LAST-MODIFIED:20190630T150450Z
UID:457-1562693400-1562700600@wilbertsmusic.com
SUMMARY:CATS ON HOLIDAY- AllStar Party ~ CLE's Swamp Poppin' outfit
DESCRIPTION:CATS ON HOLIDAY – AllStar Party ~ CLE’s Swamp Poppin’ outfit \nCats On Holiday is a Cleveland based Swamp Pop band that has been pleasing audiences for 20 years with their own special blend of Louisiana inspired rock/roots/ Zydeco. The Cats are driven by founding member\, songwriter\, lead vocalist and guitar/ button-box player Denis DeVito. The Cats perform over 100 gigs annually at the best live music venues from as far West as the Lake Erie Islands and East to Cape Cod. COH has been a part of such cool events as The Great Blue Heron Festival\, Hessler Street Fair\, Parade the Circle\, Lock 3 Live\, Wade Oval Wednesdays\, Ingenuity Festival\, Burning River Fest\, Nelson’s Ledges’ Lazy Daisy Festival\, Starwood\, Kent State Folk Festival\, Akron’s First Night\, Boston Mills Art Festival as well as the resident band for the annual Towpath Marathon. The band also have a regular rotation of clubs in which they perform including the Music Box\, Beachland Ballroom\, Brother’s Lounge\, Water Street Tavern(Kent)\, G.A.R. Hall\, Balloons(Ellicottville\, NY)\, Parkview Niteclub\, The Harp and many others.\nOver the years COH has shared the stage with such national acts as Los Lobos\, Marcia Ball\, Tab Benoit\, Beau Soleil\, Big Bad Voodoo Daddy\, Buckwheat Zydeco\, Carpenter Ants\, The Iguanas\, NRBQ\, Leon Russell\, and Terrance Simien\, to name a few.\nCOH is…\nDenis DeVito/ Vocals\, Button Box\, Guitar\nPaul Kompier/ Guitar\, Vocals\nDillon DeVito/ Bass\, Vocals\nToby Packard/ Drums\nJeffrey Bowen/ Congas\, Percussion\, Poetry
URL:https://wilbertsmusic.com/event/cats-on-holiday-allstar-party-cles-swamp-poppin-outfit-2/
END:VEVENT
BEGIN:VEVENT
DTSTART;TZID=UTC:20190708T210000
DTEND;TZID=UTC:20190708T230000
DTSTAMP:20260420T150740
CREATED:20190607T154628Z
LAST-MODIFIED:20190607T154628Z
UID:287-1562619600-1562626800@wilbertsmusic.com
SUMMARY:EDDIE "DEVIL BOY" TURNER & TROUBLE - Top notch blues and rock guitarist!
DESCRIPTION:Eddie “Devil Boy” Turner is a blues guitarist born in Cuba and raised in Chicago. A former member of the Otis Taylor band
URL:https://wilbertsmusic.com/event/eddie-devil-boy-turner-trouble-top-notch-blues-and-rock-guitarist/
END:VEVENT
BEGIN:VEVENT
DTSTART;TZID=UTC:20190707T200000
DTEND;TZID=UTC:20190707T230000
DTSTAMP:20260420T150740
CREATED:20190629T234313Z
LAST-MODIFIED:20190629T234313Z
UID:446-1562529600-1562540400@wilbertsmusic.com
SUMMARY:Murmur - The Tribute to REM
DESCRIPTION:Murmur is an international touring tribute to R.E.M. They recreate the power and passion of R.E.M.’s live performances with precise musical detail. \nMurmur recreates the power and passion of R.E.M.’s live performances with precise musical detail. Though still great friends\, the founding members of R.E.M. have made it quite clear that they will never tour again. Murmur’s mission is to bring audiences as close as possible to the profound experience of R.E.M. live. \nOften thought of as the founders of the alternative rock genre\, R.E.M.’s influence on modern music is undeniable and they are widely seen as one of the most important alt-rock bands of all time. When asked about R.E.M.\, Nirvana’s Kurt Cobain said\, “I don’t know how that band does what they do. God\, they’re the greatest.” \nMurmur is fronted by vocalist Keith Calveric who led the incredibly successful original pop-rock band Johny Vegas for nearly a decade. He is joined by a phenomenal group of players with 1000s of combined live performances under their belts. Kevin Cotrupe (Guitar) a gifted songwriter and Mike Miller (Bass) were also both members of Johny Vegas with Miller additionally performing with bands such as Lonesome Crow and The Full Moon Band. Tommy Connors\, the band’s multi-instrumentalist (Guitars\, Mandolin) is an incredibly talented\, accomplished player and former member of Seeking Homer and Medicine Wheel. Andrew Pushlar (Keys) is a classically trained pianist with over 25 years experience. Devin Shay (Drums) has provided his rock solid beats for Syracuse’s\, The Headphones for over 6 years. \nIn part\, Murmur hopes to re-introduce R.E.M. to a generation that may only be familiar with their later year commercial successes. With an incredibly deep catalog of soaring\, powerful\, heartfelt songs with amazingly poignant and relevant political messages\, there is still much to learn about and from the works of R.E.M. \nMurmur reopens the book.
URL:https://wilbertsmusic.com/event/murmur-the-tribute-to-rem/
END:VEVENT
BEGIN:VEVENT
DTSTART;TZID=UTC:20190706T203000
DTEND;TZID=UTC:20190706T230000
DTSTAMP:20260420T150740
CREATED:20190607T154446Z
LAST-MODIFIED:20190607T154446Z
UID:285-1562445000-1562454000@wilbertsmusic.com
SUMMARY:The NightHawks~Legendary Hard-Driving BLUES from D.C.
DESCRIPTION:THE NIGHTHAWKS ~blues\, soul\, rock ‘n’ roll and roadhouse country music – all given the trademark Nighthawks combination of talent\, passion\, energy and showmanship that has made the Blues Music Award winners a truly one-of-a-kind live listening experience.
URL:https://wilbertsmusic.com/event/the-nighthawkslegendary-hard-driving-blues-from-d-c/
END:VEVENT
BEGIN:VEVENT
DTSTART;TZID=UTC:20190705T210000
DTEND;TZID=UTC:20190705T230000
DTSTAMP:20260420T150740
CREATED:20190607T154341Z
LAST-MODIFIED:20190630T163927Z
UID:283-1562360400-1562367600@wilbertsmusic.com
SUMMARY:GABE STILLMAN high-voltage blues outfit from Williamsport\, PA
DESCRIPTION:“Gabe plays the blues with strength\, personality\, and a depth of both feeling and musicianship.” —Nighthawks’ founder and frontman Mark Wenner\n“Gabe Stillman has got the chops and the intensity the blues should have. Keep your eye on him!” —Toronzo Cannon
URL:https://wilbertsmusic.com/event/gabe-stillman-high-voltage-blues-outfit-from-williamsport-pa/
END:VEVENT
BEGIN:VEVENT
DTSTART;TZID=UTC:20190628T200000
DTEND;TZID=UTC:20190628T233000
DTSTAMP:20260420T150740
CREATED:20190607T154300Z
LAST-MODIFIED:20190607T154300Z
UID:281-1561752000-1561764600@wilbertsmusic.com
SUMMARY:JD SIMO ~ Psychedelic Blues/Rock/Soul/Jam from Nashville\, TN
DESCRIPTION:Acid rock\, traditional blues\, folk\, soul\, free form jazz\, and the never ceasing desire to improvise form this mind bending kaleidoscope of sound\, energy and vibe. NPR said “This Nashville blues trio sounds as if it comes to us straight from 1968.” And Rolling Stone lauded\, “J.D. Simo spins soulful psychedelic blues rock with an improvisational bent reminiscent of the Grateful Dead and Stevie Ray Vaughan”.
URL:https://wilbertsmusic.com/event/jd-simo-psychedelic-blues-rock-soul-jam-from-nashville-tn/
END:VEVENT
BEGIN:VEVENT
DTSTART;TZID=UTC:20190626T100000
DTEND;TZID=UTC:20190626T180000
DTSTAMP:20260420T150740
CREATED:20190607T154216Z
LAST-MODIFIED:20190607T193551Z
UID:279-1561543200-1561572000@wilbertsmusic.com
SUMMARY:a WAHOO of a Breakfast / Happy Hour~with the Best Dam Deals Downtown!
DESCRIPTION:Breakfast Burrito\, Egg & Chorizo Quesadilla and Creme Brulee French Toast\n$3 ~DOMESTICS & BOMBS (cherry\, grape\, orange or jagger) $4 FIREBALLS & JAMESON\n+$9.99 Award Winning Ribs Dinner w/Fries & Salad
URL:https://wilbertsmusic.com/event/a-wahoo-of-a-breakfast-happy-hourwith-the-best-dam-deals-downtown-4/
END:VEVENT
BEGIN:VEVENT
DTSTART;TZID=UTC:20190625T210000
DTEND;TZID=UTC:20190625T224500
DTSTAMP:20260420T150740
CREATED:20190607T154040Z
LAST-MODIFIED:20190607T154040Z
UID:277-1561496400-1561502700@wilbertsmusic.com
SUMMARY:Jessica Lynn ~"Shania's Successor"~ Country's Newest Firecracker
DESCRIPTION:Jessica Lynn\, has been dubbed by press around the world as a rocket force\, paving her own way as a unique face and voice in modern country music. She has been seen by millions on the road and in her two full-length nationwide concert television specials\, “Jessica Lynn – This Much Fun\,” and “Jessica Lynn – Takin’ Over.”
URL:https://wilbertsmusic.com/event/jessica-lynn-shanias-successor-countrys-newest-firecracker/
END:VEVENT
BEGIN:VEVENT
DTSTART;TZID=UTC:20190625T150000
DTEND;TZID=UTC:20190625T223000
DTSTAMP:20260420T150740
CREATED:20190607T154000Z
LAST-MODIFIED:20190607T154000Z
UID:275-1561474800-1561501800@wilbertsmusic.com
SUMMARY:a WAHOO of a Happy Hour~with the Best Dam Deals Downtown!
DESCRIPTION:$3 ~16oz DOMESTICS & BOMBS (cherry\, grape\, orange or jagger)\n$4 FIREBALLS & JAMESON\n$9.99 Award Winning Ribs Dinner w/Fries & Salad
URL:https://wilbertsmusic.com/event/a-wahoo-of-a-happy-hourwith-the-best-dam-deals-downtown-6/
END:VEVENT
BEGIN:VEVENT
DTSTART;TZID=UTC:20190624T173000
DTEND;TZID=UTC:20190624T190000
DTSTAMP:20260420T150740
CREATED:20190607T153857Z
LAST-MODIFIED:20190607T153857Z
UID:273-1561397400-1561402800@wilbertsmusic.com
SUMMARY:Eli Elkus~original\, wingnutty\, fairy folk and hobo jazz concoctions!
DESCRIPTION:Eli Elkus is a rootin’ tootin’ modern-day American troubadour\, serving up a musical concoction of vaudeville\, freak folk\, inlaw country and hobo jazz on various porches\, street corners\, coffee houses\, fairs\, festivals\, backyards and music venues across the USA. The self-proclaimed wingnut calls his never-ending musical quest in his short bus (JeBus)\, the “TroubaTour”. He began sculpting his craft busking in the streets of Portsmouth\, New Hampshire where his original “finger-flick” picking style reminiscent of folk and Americana started to take shape – influenced by Klezmer and gypsy music\, eastern and western traditional folk songs\, and the 20th century folk revival. Elkus is quite the anomalous lyricist and no stranger to satire\, telling romanticized tales of low-life characters and haunting horrors with a charm of tragic\, hard learned\, “once he knew it\, it was too late” kind of lessons in his distinctive gravely (sometimes smooth and sometimes downright boisterous) tobacco stained voice. With a whimsical yet jubilant demeanor and downright absurd antics within and betwixt tunes touching on performance art\, Eli will silence a room with a wistful ballad and then quickly rabble-rouse life into it once again; spinning in circles and foot-stomping his way through tales eager to be told. When Eli comes to your town\, you’ll find him in a cozy nook between the real and nonsensical within the margins of society.
URL:https://wilbertsmusic.com/event/eli-elkusoriginal-wingnutty-fairy-folk-and-hobo-jazz-concoctions/
END:VEVENT
BEGIN:VEVENT
DTSTART;TZID=UTC:20190624T150000
DTEND;TZID=UTC:20190624T223000
DTSTAMP:20260420T150740
CREATED:20190607T153737Z
LAST-MODIFIED:20190607T153737Z
UID:271-1561388400-1561415400@wilbertsmusic.com
SUMMARY:a WAHOO of a Happy Hour~with the Best Dam Deals Downtown!
DESCRIPTION:$3 ~16oz DOMESTICS & BOMBS (cherry\, grape\, orange or jagger)\n$4 FIREBALLS & JAMESON\n$9.99 Award Winning Ribs Dinner w/Fries & Salad
URL:https://wilbertsmusic.com/event/a-wahoo-of-a-happy-hourwith-the-best-dam-deals-downtown-5/
END:VEVENT
BEGIN:VEVENT
DTSTART;TZID=UTC:20190623T160000
DTEND;TZID=UTC:20190623T173000
DTSTAMP:20260420T150740
CREATED:20190607T153517Z
LAST-MODIFIED:20190607T153517Z
UID:269-1561305600-1561311000@wilbertsmusic.com
SUMMARY:Ryan Hollander
DESCRIPTION:
URL:https://wilbertsmusic.com/event/ryan-hollander-2/
END:VEVENT
BEGIN:VEVENT
DTSTART;TZID=UTC:20190623T093000
DTEND;TZID=UTC:20190623T180000
DTSTAMP:20260420T150740
CREATED:20190714T093035Z
LAST-MODIFIED:20190630T151347Z
UID:267-1561282200-1561312800@wilbertsmusic.com
SUMMARY:a WAHOO of a Breakfast / Happy Hour~with the Best Dam Deals Downtown!
DESCRIPTION:Breakfast Burrito\, Egg & Chorizo Quesadilla and Creme Brulee French Toast.\n$3 ~DOMESTICS & BOMBS (cherry\, grape\, orange or jagger) $4 FIREBALLS & JAMESON\n+$9.99 Award Winning Ribs Dinner w/Fries & Salad
URL:https://wilbertsmusic.com/event/a-wahoo-of-a-breakfast-happy-hourwith-the-best-dam-deals-downtown-3/
END:VEVENT
BEGIN:VEVENT
DTSTART;TZID=UTC:20190622T183000
DTEND;TZID=UTC:20190622T210000
DTSTAMP:20260420T150740
CREATED:20190607T153358Z
LAST-MODIFIED:20190617T211722Z
UID:265-1561228200-1561237200@wilbertsmusic.com
SUMMARY:MUDHOUSE GANG plays roots\, soulful blues rock & roll
DESCRIPTION:
URL:https://wilbertsmusic.com/event/mudhouse-gang-plays-rootssoulful-blues-rock-roll/
END:VEVENT
BEGIN:VEVENT
DTSTART;TZID=UTC:20190622T140000
DTEND;TZID=UTC:20190622T160000
DTSTAMP:20260420T150740
CREATED:20190607T153324Z
LAST-MODIFIED:20190607T153324Z
UID:263-1561212000-1561219200@wilbertsmusic.com
SUMMARY:Ryan Hollander
DESCRIPTION:
URL:https://wilbertsmusic.com/event/ryan-hollander/
END:VEVENT
END:VCALENDAR