BEGIN:VCALENDAR
VERSION:2.0
PRODID:-//Wilberts - ECPv6.15.20//NONSGML v1.0//EN
CALSCALE:GREGORIAN
METHOD:PUBLISH
X-ORIGINAL-URL:https://wilbertsmusic.com
X-WR-CALDESC:Events for Wilberts
REFRESH-INTERVAL;VALUE=DURATION:PT1H
X-Robots-Tag:noindex
X-PUBLISHED-TTL:PT1H
BEGIN:VTIMEZONE
TZID:UTC
BEGIN:STANDARD
TZOFFSETFROM:+0000
TZOFFSETTO:+0000
TZNAME:UTC
DTSTART:20180101T000000
END:STANDARD
END:VTIMEZONE
BEGIN:VEVENT
DTSTART;TZID=UTC:20190919T173000
DTEND;TZID=UTC:20190919T190000
DTSTAMP:20260420T074759
CREATED:20190607T160513Z
LAST-MODIFIED:20200206T014301Z
UID:842-1568914200-1568919600@wilbertsmusic.com
SUMMARY:Mark Stuart: Nashville's #1 Singer/songwriter ~ Americana/folk /All Around Nice Guy
DESCRIPTION:
URL:https://wilbertsmusic.com/event/mark-stuart-singer-songwriter-and-americana-folk-musician-from-nashville-tennessee-3-2019-09-19/2019-09-19/
END:VEVENT
BEGIN:VEVENT
DTSTART;TZID=UTC:20190914T210000
DTEND;TZID=UTC:20190914T233000
DTSTAMP:20260420T074759
CREATED:20190607T161710Z
LAST-MODIFIED:20190828T135442Z
UID:370-1568494800-1568503800@wilbertsmusic.com
SUMMARY:Miller and The Other Sinners~blues\, rock\, funk\, americana and gospel out of Buffalo\, NY
DESCRIPTION:Experience the soul empowering music of Miller and The Other Sinners. Hailing from Buffalo\, NY\, Miller and The Other Sinners brings a fresh blend of roots music\, southern soul\, blues\, rock and r&b\, that will move you at the core. Lead by David Michael Miller who’s sophomore solo album\, Same Soil\, ended up at #34 for the top blues albums played worldwide on radio according to the Roots Music Report in 2015 and climbed as high as #3. David has received worldwide press as well as numerous awards including “Artist of The Year” by the Arts Services Institute of Western New York\, “Best Blues Male Vocalist” for Night-Life Magazine (2013\, 2014 and 2015) and has shared the stage with artists such as Gary Clark\, Jr.\, Jonny Lang\, The Steve Miller Band\, Tedeschi Trucks Band\, Shemekia Copeland\, James Cotton\, the late Bobby Blue Bland\, and many more.\nDavid is accompanied on the road by former Buddy Guy sax player of nearly 10 years\, Jason Moynihan and an exciting young rhythm section with occasional guests by members of the internationally renown\, Campbell Brothers.\nWhether in the 4 piece touring band\, or in the 8 piece festival band\, Miller and The Other Sinners blows people away everywhere they play.
URL:https://wilbertsmusic.com/event/miller-and-the-other-sinners/
END:VEVENT
BEGIN:VEVENT
DTSTART;TZID=UTC:20190914T170000
DTEND;TZID=UTC:20190914T190000
DTSTAMP:20260420T074759
CREATED:20190823T210159Z
LAST-MODIFIED:20190823T210159Z
UID:780-1568480400-1568487600@wilbertsmusic.com
SUMMARY:hh w/CRASH COFFIN Vintage Country\, Rockabilly\, Rock-n-Roll\, Folk\, Americana
DESCRIPTION:Crash Coffin\, singer/songwriter\, from Cleveland\, Ohio\, Crash has recorded a couple of vinyl LPs and 45 RPM records\, in addition to 6 CDs. In 2014\, White Lighting Records released 4 rockin’ tracks\, recorded on acetates in the early 1960’s\, on a Vinyl EP in Europe.
URL:https://wilbertsmusic.com/event/hh-w-crash-coffin-vintage-country-rockabilly-rock-n-roll-folk-americana/
END:VEVENT
BEGIN:VEVENT
DTSTART;TZID=UTC:20190913T210000
DTEND;TZID=UTC:20190913T230000
DTSTAMP:20260420T074759
CREATED:20190607T161639Z
LAST-MODIFIED:20190607T161639Z
UID:368-1568408400-1568415600@wilbertsmusic.com
SUMMARY:Reverend Raven & the Chain Smokin' Altar Boys featuring Westside Andy Linderman on harmonica
DESCRIPTION:“They are very\, very good. That’s why I keep having them back.”- Buddy Guy
URL:https://wilbertsmusic.com/event/reverend-raven-the-chain-smokin-altar-boys-featuring-westside-andy-linderman-on-harmonica/
END:VEVENT
BEGIN:VEVENT
DTSTART;TZID=UTC:20190912T200000
DTEND;TZID=UTC:20190912T230000
DTSTAMP:20260420T074759
CREATED:20190721T230931Z
LAST-MODIFIED:20190820T152203Z
UID:551-1568318400-1568329200@wilbertsmusic.com
SUMMARY:Real Deal Blues Band w/ Special Guest CHRIS HIATT and Frankie Starr
DESCRIPTION:“….WATCHING HIATT TEAR THROUGH SONG AFTER SONG ON HIS STRATOCASTER IS NOTHING SHORT OF SPECTACULAR…..”\n \n 
URL:https://wilbertsmusic.com/event/real-deal-blues-band/
END:VEVENT
BEGIN:VEVENT
DTSTART;TZID=UTC:20190908T093000
DTEND;TZID=UTC:20190908T180000
DTSTAMP:20260420T074759
CREATED:20190810T185505Z
LAST-MODIFIED:20190810T193340Z
UID:676-1567935000-1567965600@wilbertsmusic.com
SUMMARY:a Woof Woof of a Browns Breakfast / Happy Hour~with the Best Dam Specials Downtown! 9:30-8pm
DESCRIPTION:Breakfast Burrito\, Egg & Chorizo Quesadilla and Creme Brulee French Toast.\n$4 Bloody Mary’s and Mimosas\n$3 ~DOMESTICS & BOMBS (cherry\, grape\, orange or jagger)\n$4 FIREBALLS & JAMESON\n+$9.99 Award Winning Ribs Dinner w/Fries & Salad
URL:https://wilbertsmusic.com/event/a-wahoo-of-a-breakfast-happy-hourwith-the-best-specials-downtown-930-6pm-2019-09-08/
END:VEVENT
BEGIN:VEVENT
DTSTART;TZID=UTC:20190907T203000
DTEND;TZID=UTC:20190907T233000
DTSTAMP:20260420T074759
CREATED:20190826T193753Z
LAST-MODIFIED:20190826T214642Z
UID:799-1567888200-1567899000@wilbertsmusic.com
SUMMARY:THE CROOKED RIVER BAND ~ Cleveland's Rock'n Roll with Drive n' Soul
DESCRIPTION:The Crooked River Band Delivers Some Of The Best Music From The Sixties To The Present To Your Event! Tired Of Hearing The Same Old Stuff? We Have Variety With Our Own Renditions Of Songs. Make Your Party Or Event A Memorable Time With Good Music And FUN FOR ALL!
URL:https://wilbertsmusic.com/event/the-crooked-river-band-clevelands-rockn-roll-with-drive-n-soul/
END:VEVENT
BEGIN:VEVENT
DTSTART;TZID=UTC:20190906T200000
DTEND;TZID=UTC:20190906T230000
DTSTAMP:20260420T074759
CREATED:20190713T140840Z
LAST-MODIFIED:20200820T142209Z
UID:524-1567800000-1567810800@wilbertsmusic.com
SUMMARY:AMANDA FISH BAND~Soulful-Powerhouse-Blues From The Heart!~2019 Blues Music Award Winner (BMA)\, Best Emerging Artist Album
DESCRIPTION:2019 Blues Music Award (BMA) nominee\,\nBest Emerging Artist Album\n2017 International Blues Challenge\nSemi Finalist\n2016 “Sean Costello Rising Star” Blues Blast Music Award\n“Amanda Fish is a dirty gal. Her emotions are raw and her visions are hard living\, hard luck and hard to handle… She is a fluid and intense vocalist…her messages about love\, rage despair\, homelessness and overcoming are delivered with style\, phrasing and soul.” \n-Dr. Blues\n“Amanda Fish Band got the Blues in their grooves”\n-“On The Radar”\, The Alternate Root\n\n\nAmanda Fish began as a singer songwriter in late 2012\, refining her original material as a solo act for 2 years before she formed her band in early 2014\, a Roots Rock and Soul quintet featuring dual slide and rock guitars and Amanda’s signature ‘from-the-gut’ vocals locked into a sturdy groove.\nIn 2015\, she released her first LP\, “Down In The Dirt”\, on VizzTone Label Group\, for which she was awarded the 2016 “Sean Costello Rising Star” Blues Blast Music Award. Amanda and her band set Beale Street on fire in the 2017 International Blues Challenge Semi Finals. \nIn 2018\, Amanda has released her sophomore album\, “Free”\, which hit #6 on the Billboard Blues Album Chart. She’s touring with her band to support the CD.
URL:https://wilbertsmusic.com/event/amanda-fish-band2019-blues-music-award-bma-nominee-best-emerging-artist-album/2019-09-06/
END:VEVENT
BEGIN:VEVENT
DTSTART;TZID=UTC:20190904T150000
DTEND;TZID=UTC:20190904T230000
DTSTAMP:20260420T074759
CREATED:20190810T190914Z
LAST-MODIFIED:20190810T195516Z
UID:672-1567609200-1567638000@wilbertsmusic.com
SUMMARY:a WAHOO of a Happy Hour~with the Best Dam Deals Downtown! 3-11pm
DESCRIPTION:$3 ~16oz DOMESTICS & BOMBS (cherry\, grape\, orange or jagger)\n$4 FIREBALLS & JAMESON\n$9.99 Award Winning Ribs Dinner w/Fries & Salad
URL:https://wilbertsmusic.com/event/a-wahoo-of-a-happy-hourwith-the-best-dam-deals-downtown-3-11pm-14-2019-09-04/2019-09-04/
END:VEVENT
BEGIN:VEVENT
DTSTART;TZID=UTC:20190902T150000
DTEND;TZID=UTC:20190902T230000
DTSTAMP:20260420T074759
CREATED:20190810T190914Z
LAST-MODIFIED:20190810T191039Z
UID:669-1567436400-1567465200@wilbertsmusic.com
SUMMARY:a WAHOO of a Happy Hour~with the Best Dam Deals Downtown! 3-11pm
DESCRIPTION:$3 ~16oz DOMESTICS & BOMBS (cherry\, grape\, orange or jagger)\n$4 FIREBALLS & JAMESON\n$9.99 Award Winning Ribs Dinner w/Fries & Salad
URL:https://wilbertsmusic.com/event/a-wahoo-of-a-happy-hourwith-the-best-dam-deals-downtown-3-11pm-14/2019-09-02/
END:VEVENT
BEGIN:VEVENT
DTSTART;TZID=UTC:20190830T203000
DTEND;TZID=UTC:20190830T230000
DTSTAMP:20260420T074759
CREATED:20190808T141325Z
LAST-MODIFIED:20190820T223459Z
UID:627-1567197000-1567206000@wilbertsmusic.com
SUMMARY:THE GOOD MORNING NAGS are an Americana/indie-folk band based in New York City - opening FRONTIER Rock N’ Roll band from CLE
DESCRIPTION:Growing up near pecan trees\, red clay\, and winding rivers\, the Nags bring the front porch to the concrete stoop\, mixing Old Crow and the Avett Brothers with a whole lot of NYC attitude. After initially forming while in college together\, they got their official start busking in New York’s subways\, parks\, warehouses\, and rooftops. They landed a residency at the Opry City Stage\, played a few shows in Canada and France\, and then returned to the US to release their debut album Hard Hope in December of 2018. \n\n\n\n\n\n\n\n\n\n\n\n\n\n\n\n\n\n\n\n\n\n\n\n\n\n\n\n\n\n\n\n\n\n\n\n\n\n\n\n\n\n\nPress: \n“Their sound is like a classic folk-rock/bluegrass-meets -The Struts with a little bit of NYC attitude thrown in there for good measure.” \nReview Fix \n“The Good Morning Nags are an incredible band and a live show is something you don’t want to miss out on should you be lucky enough to catch one.” \nStereo Stickman \n“…brings back Americana in a way that is accessible\, and very different from most of the music coming out of NYC” \nLeft Bank Mag \n\nFRONTIER Rock N’ Roll band from CLE Members include Max Ostrowski (Vocals/Guitar)\, Nathan Lapuh (Drums)\, Dave Royer (Bass)\, Brandon Kendig (guitar).
URL:https://wilbertsmusic.com/event/the-good-morning-nags-are-an-americana-and-indie-folk-band-based-in-new-york-city/
END:VEVENT
BEGIN:VEVENT
DTSTART;TZID=UTC:20190829T150000
DTEND;TZID=UTC:20190829T230000
DTSTAMP:20260420T074759
CREATED:20190607T161547Z
LAST-MODIFIED:20190810T190555Z
UID:366-1567090800-1567119600@wilbertsmusic.com
SUMMARY:WOOF WOOF! ~Best Browns PreSeason Party w/all the great specials!
DESCRIPTION:DOMESTICS & BOMBS (cherry\, grape\, orange or jagger)\n$4 FIREBALLS & JAMESON\n$9.99 Award Winning Ribs Dinner w/Fries & Salad
URL:https://wilbertsmusic.com/event/browns-preseason-party-w-all-the-great-specials-2/
END:VEVENT
BEGIN:VEVENT
DTSTART;TZID=UTC:20190825T140000
DTEND;TZID=UTC:20190825T230000
DTSTAMP:20260420T074759
CREATED:20190723T011307Z
LAST-MODIFIED:20190922T163923Z
UID:567-1566741600-1566774000@wilbertsmusic.com
SUMMARY:a WAHOO of a Breakfast / Happy Hour~with the Best Dam Deals Downtown! Opening at 2PM
DESCRIPTION:WaHoo!~WOOF WOOF!\nBEST DAM DEALS DOWNTOWN!\n$3 ~DOMESTICS & BOMBS (cherry\, grape\, orange or jagger)\n$4 FIREBALLS & JAMESON\n+$9.99 Award Winning Ribs Dinner w/Fries & Salad←
URL:https://wilbertsmusic.com/event/a-wahoo-of-a-breakfast-happy-hourwith-the-best-dam-deals-downtown-930-6pm-4/2019-08-25/
END:VEVENT
BEGIN:VEVENT
DTSTART;TZID=UTC:20190825T093000
DTEND;TZID=UTC:20190825T180000
DTSTAMP:20260420T074759
CREATED:20190810T185505Z
LAST-MODIFIED:20190810T191806Z
UID:662-1566725400-1566756000@wilbertsmusic.com
SUMMARY:a WAHOO of a Breakfast / Happy Hour~with the Best Specials Downtown! 9:30-6pm
DESCRIPTION:Breakfast Burrito\, Egg & Chorizo Quesadilla and Creme Brulee French Toast.\n$4 Bloody Mary’s and Mimosas\n$3 ~DOMESTICS & BOMBS (cherry\, grape\, orange or jagger)\n$4 FIREBALLS & JAMESON\n+$9.99 Award Winning Ribs Dinner w/Fries & Salad
URL:https://wilbertsmusic.com/event/a-wahoo-of-a-breakfast-happy-hourwith-the-best-specials-downtown-930-6pm/2019-08-25/
END:VEVENT
BEGIN:VEVENT
DTSTART;TZID=UTC:20190824T210000
DTEND;TZID=UTC:20190824T230000
DTSTAMP:20260420T074759
CREATED:20190607T161518Z
LAST-MODIFIED:20190607T161518Z
UID:364-1566680400-1566687600@wilbertsmusic.com
SUMMARY:MISSISSIPPI WHEELHOUSE Clevelands alt-country & roots-rock powerhouse
DESCRIPTION:performs well known songs that are not the usual cover songs but ones that have been in everyone’s collective ‘wheelhouse’ for year!
URL:https://wilbertsmusic.com/event/mississippi-wheelhouse-clevelands-alt-country-roots-rock-powerhouse/
END:VEVENT
BEGIN:VEVENT
DTSTART;TZID=UTC:20190824T180000
DTEND;TZID=UTC:20190824T193000
DTSTAMP:20260420T074759
CREATED:20190818T173857Z
LAST-MODIFIED:20200220T232613Z
UID:726-1566669600-1566675000@wilbertsmusic.com
SUMMARY:THE SUMMIT : The Music Of Your Life
DESCRIPTION:The Summit Featuring the greatest music of your life\, Dean Martin\, Sinatra\, Tony Bennett\, Bobby Darin\, Engelbert\, Neil Diamond\, and beyond.
URL:https://wilbertsmusic.com/event/the-summit-the-music-of-your-life/2019-08-24/
END:VEVENT
BEGIN:VEVENT
DTSTART;TZID=UTC:20190824T140000
DTEND;TZID=UTC:20190824T230000
DTSTAMP:20260420T074759
CREATED:20190810T185303Z
LAST-MODIFIED:20190810T195011Z
UID:660-1566655200-1566687600@wilbertsmusic.com
SUMMARY:a WAHOO of a Happy Hour~with the Best Dam Deals Downtown! 2-11pm
DESCRIPTION:$3 ~16oz DOMESTICS & BOMBS (cherry\, grape\, orange or jagger)\n$4 FIREBALLS & JAMESON\n$9.99 Award Winning Ribs Dinner w/Fries & Salad
URL:https://wilbertsmusic.com/event/a-wahoo-of-a-happy-hourwith-the-best-dam-deals-downtown-2-11pm/2019-08-24/
END:VEVENT
BEGIN:VEVENT
DTSTART;TZID=UTC:20190823T210000
DTEND;TZID=UTC:20190823T230000
DTSTAMP:20260420T074759
CREATED:20190607T161447Z
LAST-MODIFIED:20190810T182303Z
UID:362-1566594000-1566601200@wilbertsmusic.com
SUMMARY:Master T.C. & The Visitors
DESCRIPTION:MASTER T.C. & THE VISITORS are an American Pop/Rock band consisting of Singer/Songwriter Master T.C.\, Vocalist Madam Deserae Monique\, Synth Player Rubix-Cube\, Bassist Johnny Tsunami\, Drummer Timbuktu\, Rhythm Guitar Player Boom-Boom and Lead Guitarist Sailor Jerry.
URL:https://wilbertsmusic.com/event/master-t-c-the-visitors/
END:VEVENT
BEGIN:VEVENT
DTSTART;TZID=UTC:20190823T173000
DTEND;TZID=UTC:20190823T190000
DTSTAMP:20260420T074759
CREATED:20190809T212307Z
LAST-MODIFIED:20190809T212307Z
UID:641-1566581400-1566586800@wilbertsmusic.com
SUMMARY:THE COAL CAVE HOLLOW BOYS ~high energy onslaught of flat picking guitar\, mandolin chopping\, banjo frenzied\, bass filled sound from Columbus
DESCRIPTION:The Coal Cave Hollow Boys\, based out of Columbus\, Ohio\, are known as a bluegrass band\, yet they masterfully weave rock and classic country into their sound. They bring their high energy onslaught of flat picking guitar\, mandolin chopping\, banjo frenzied\, bass filled sound to every show.\nIn 2017\, Lincoln Mash\, lead singer and guitarist\, teamed up with experienced regional musicians\, Thomas Adams (mandolin) and Pete Mendenhall (bass)\, to establish TCCHB. Mash started playing guitar at the age of 7 and his fast and flawless guitar picking will bring applause from any crowd. His vocals carry sounds seasoned beyond his years.\nTCCHB have shared the stage with notable bands such as Billy Strings\, Reverend Payton’s Big Damn Band\, Restless Leg String Band\, and Town Mountain.
URL:https://wilbertsmusic.com/event/the-coal-cave-hollow-boys-high-energy-onslaught-of-flat-picking-guitar-mandolin-chopping-banjo-frenzied-bass-filled-sound-from-columbus/
END:VEVENT
BEGIN:VEVENT
DTSTART;TZID=UTC:20190823T150000
DTEND;TZID=UTC:20190823T230000
DTSTAMP:20260420T074759
CREATED:20190810T185140Z
LAST-MODIFIED:20190810T185708Z
UID:658-1566572400-1566601200@wilbertsmusic.com
SUMMARY:a WAHOO of a Happy Hour~with the Best Dam Deals Downtown! 3-11pm
DESCRIPTION:$3 ~16oz DOMESTICS & BOMBS (cherry\, grape\, orange or jagger)\n$4 FIREBALLS & JAMESON\n$9.99 Award Winning Ribs Dinner w/Fries & Salad
URL:https://wilbertsmusic.com/event/a-wahoo-of-a-happy-hourwith-the-best-dam-deals-downtown-3-11pm-13/
END:VEVENT
BEGIN:VEVENT
DTSTART;TZID=UTC:20190822T200000
DTEND;TZID=UTC:20190822T230000
DTSTAMP:20260420T074759
CREATED:20190607T161411Z
LAST-MODIFIED:20190809T211955Z
UID:360-1566504000-1566514800@wilbertsmusic.com
SUMMARY:Mike Zito Band ~ honest blues-rock from Texas byway of Memphis! opening-ODDSLANE~great roots rock band out of St. Louis
DESCRIPTION:There may not be a more honest bluesman than Mike Zito\, whose 15th album ‘First Class Life’ comes out May 11 on Ruf Records. The rocking yet poignant title track explores his journey from addiction to sobriety and then musical recognition; he is a two-time 2017 Blues Music Award nominee. “Second chance at a first class life\,” he sings\, recalling the hard times. The Texas-based musician smiles and continues\, “I grew up poor in St. Louis\, and now I’m travelling the world to sing my songs.”Zito’s star has been on the rise of late both solo and as a member of the Royal Southern Brotherhood\, with bandmates Cyril Neville\, Devon Allman\, Charlie Wooton and Yonrico Scott.As is fitting for a man with the word “Blues” tattooed across his picking hand\, ‘First Class Life’ focuses squarely on blues with heart and chops to spare\, not to mention wit and openness. The punchy “Time For A Change” conjures the tension in the world today while the exquisite Memphis-style song\, “The World We Live In\,” which recalls BB King in its world-weariness. The electrified blues bounce of “Dying Day” finds Zito swearing lifelong allegiance to his wife. “Old Black Graveyard” sets the scene of a bluesman’s final resting place and its disrepair\, along with some possible supernatural influences\, with Zito’s masterful slide guitar flourishes driving it home.Yet the record’s darker moments are offset by cuts like “Mama Don’t Like No Wah Wah\,” the funky crash-bang-wallop gem written with Ruf labelmate Bernard Allison about the late legend Koko Taylor. “Bernard told me about his first gig as guitarist for Taylor\,” laughs Mike. “Koko didn’t like any effects on the guitar\, she wanted it to sound natural. When Bernard made an attempt to use an effect on his guitar after playing with her for months\, he got caught. ‘Mama don’t like no wah wah’ is what he was told. That’s a song to me!” The two guitar slingers trade off\, trying to one up each other atop a funky blues groove\, including Allison pulling out his forbidden wah wah pedal. The tongue-in-cheek “Back Problems” is a showcase for Zito’s wit as a songwriter.In addition to the press and Blues Music Award love\, Zito has earned from fellow artists. Anders Osborne says\, “I love Mike Zito! He’s got that rare kinda voice that resonates in your soul. All his hardship\, life experiences and kind heart oozes out of every note his sings. His guitar playing dances delicately between a contemporary blues virtuoso and an old fashion soul man. Mike continues to impress me with his straightforward and honest songwriting. His joy and grace shine through every record he makes. “
URL:https://wilbertsmusic.com/event/mike-zito-2/
END:VEVENT
BEGIN:VEVENT
DTSTART;TZID=UTC:20190820T200000
DTEND;TZID=UTC:20190820T230000
DTSTAMP:20260420T074759
CREATED:20190720T141440Z
LAST-MODIFIED:20190720T141440Z
UID:548-1566331200-1566342000@wilbertsmusic.com
SUMMARY:THE MEDITATIONS Roots-Rock-Reggae Party~classic 1970s-style Jamaican rhythm
DESCRIPTION:The quintessential roots reggae trio\, The Meditations~Roots-Rock-Reggae Party~classic 1970s-style Jamaican rhythms ~The quintessential roots reggae trio. THE MEDITATIONS = ROOTS ROCK REGGAE \nAs part of the foundation of reggae music\, Ansel “Meditation” Cridland has over forty years producing\, writing\, arranging\, and performing for fans all over the world. As leader of the legendary trio(The Meditations) Ansel and his fellow band members performed at the historical ONE LOVE PEACE CONCERT\, held April\, 22nd 1978\, at the request of Bob Marley. Legends like Jimmy Cliff\, Sly and Robbie\, Philip Smart\, Willie Lindo and Gregory Isaac are a few of the people that Ansel has worked with. These contributions have sculpted the sound of Roots Rock Reggae over the years. Making The Meditations a fundamental and essential part of reggae music. \nOver the past few years Ansel (who has produced all of The Meditations’ albums excluding three) have been the only remaining original member of The Meditations to continue touring. Accompanying him for almost 10 years\, as background vocalist are Laury Webb(who is also featured on The Good Of Man album) and DaddyLion Chandell. Together\, they’ve been touring the United States performing for massive crowds at venues like the Red Rock Amphitheater twice in seven years. And returning in 2013\, to celebrate Reggae On The River 30th year anniversary. A festival first opened by The Meditations and The Itals. \nCriss crossing the United States year after year\, embarking on journeys over waters to Africa in an attempt to quench the thirst for Meditations Music. On January 29\, 2010 Ansel performed for exhilarated fans at The Parker Place(in Abidjan\, Ivory Coast)\, which due to the demand\, resulted in being two events instead of one. This amazing experience produced a great live album\, titled Ansel Meditations Live In Africa. This album is \nof legendary proportions to say the least. Its Roots Reggae at its finest. Its raw and filled with uncut material\, capturing a monumental moment in time. \nThere’s most definitely a thirst for Roots Rock Reggae and that authentic Meditations sound. It’s by no means new but it’s growing in volume with every generation. The love is overwhelming and it’s an inspiring experience to see The Meditations live. \nTHE MEDITATIONS\n= ROOTS ROCK REGGAE\nThe quintessential roots reggae trio\, The Meditations\, = Jah Always Find A Way.
URL:https://wilbertsmusic.com/event/the-meditations-roots-rock-reggae-partyclassic-1970s-style-jamaican-rhythm/
END:VEVENT
BEGIN:VEVENT
DTSTART;TZID=UTC:20190817T160000
DTEND;TZID=UTC:20190817T233000
DTSTAMP:20260420T074759
CREATED:20190607T161350Z
LAST-MODIFIED:20190810T184853Z
UID:358-1566057600-1566084600@wilbertsmusic.com
SUMMARY:BEREA / MIDPARK CLASS REUNION
DESCRIPTION:
URL:https://wilbertsmusic.com/event/berea-midpark-class-reunion/
END:VEVENT
BEGIN:VEVENT
DTSTART;TZID=UTC:20190816T203000
DTEND;TZID=UTC:20190816T230000
DTSTAMP:20260420T074759
CREATED:20190607T161319Z
LAST-MODIFIED:20190810T184448Z
UID:356-1565987400-1565996400@wilbertsmusic.com
SUMMARY:StringBreaker and the StuffBreakers~ original rock from Brazil
DESCRIPTION:International original Instrumental Rock\, Rock’n’Roll\, Blues\, Acid Blues\, Blues Rock from São Paulo Brazil\n\n\n\n\n\n\n\n\nA musical and behavioral effervescence two years 60 and 70 combined with disturbing characteristics of root blues. Essa é a proposta da paulistana instrumental rock band founded in 2014 hair guitarist and music producer Guilherme Spilack. Breaking strings in composições e starts that are capable of receiving percepção de qualquer ouvinte\, or trio seeks to establish not experimental field as conventions and as defined bets. Trabalhando em seu third album in studio\, at the present time with the drummer Sérgio Ciccone and double bass player Dilson Siud.
URL:https://wilbertsmusic.com/event/stringbreaker-and-the-stuffbreakers-original-rock-from-brazil/
END:VEVENT
BEGIN:VEVENT
DTSTART;TZID=UTC:20190814T100000
DTEND;TZID=UTC:20190814T180000
DTSTAMP:20260420T074759
CREATED:20190810T181502Z
LAST-MODIFIED:20190810T181502Z
UID:649-1565776800-1565805600@wilbertsmusic.com
SUMMARY:a WAHOO of a Breakfast / Happy Hour~with the Best Dam Deals Downtown! 9:30-6pm
DESCRIPTION:Breakfast Burrito\, Egg & Chorizo Quesadilla and Creme Brulee French Toast.\n$4 Bloody Mary’s and Mimosas\n$3 ~DOMESTICS & BOMBS (cherry\, grape\, orange or jagger)\n$4 FIREBALLS & JAMESON\n+$9.99 Award Winning Ribs Dinner w/Fries & Salad
URL:https://wilbertsmusic.com/event/a-wahoo-of-a-breakfast-happy-hourwith-the-best-dam-deals-downtown-930-6pm-6/
END:VEVENT
BEGIN:VEVENT
DTSTART;TZID=UTC:20190813T210000
DTEND;TZID=UTC:20190813T230000
DTSTAMP:20260420T074759
CREATED:20190607T161211Z
LAST-MODIFIED:20190607T161211Z
UID:352-1565730000-1565737200@wilbertsmusic.com
SUMMARY:Jose Ramirez ~ “The Costa Rican Blues Ambassador”
DESCRIPTION:Latin America’s Up Rising Blues Star\nAt 30 years old\, Jose Ramirez is Costa Rica’s Premier Blues Artist and has played with some of the biggest names in the Blues industry including Anson Funderburgh\, Mark Hummel\, Marquise Knox\, Bryan Lee\, Shawn Holt and Albert Castiglia\, to name a few. Jose experienced the American Blues scene for a couple of years and played some of the best Blues Clubs in the country including Buddy Guy’s Legends and Rosa’s in Chicago and The Bradfordville Blues Club in Florida. He also played some of the biggest Blues festivals in the US such as The Washington DC Blues Festival and The Bonita Springs Blues Festival in Florida. He also did session work as a guitar player for Florida based singer Lauren Mitchell on her latest album recorded in Los Angeles California by award winning producer Tony Braunagel (Taj Mahal\, Robert Cray\, Bonnie Raitt). Jose was also a part of Panama’s annual Blues and Jazz festival held in Boquete Panama in February 2018 where he was backed up by the legendary Nighthawks (USA). At only 29 years old\, Jose played his first European tour this past January 2018 where he was featured at Keeping the Blues Alive in Holland\, Blues Sphere in Belgium and over 8 shows throughout Madrid Spain. “The Costa Rican Blues Ambassador” is now booking shows for his second European tour programmed for January 2019.
URL:https://wilbertsmusic.com/event/jose-ramirez-the-costa-rican-blues-ambassador/
END:VEVENT
BEGIN:VEVENT
DTSTART;TZID=UTC:20190813T210000
DTEND;TZID=UTC:20190813T230000
DTSTAMP:20260420T074759
CREATED:20190607T161105Z
LAST-MODIFIED:20200226T202746Z
UID:350-1565730000-1565737200@wilbertsmusic.com
SUMMARY:Albert Castiglia ~ Chicago Soul - Cuban Heart! ~ Italian Fire!! The New "King Of The Blues"
DESCRIPTION:American blues singer\, songwriter and guitarist. Castiglia has variously worked alongside Junior Wells\, Sandra Hall\, Aron Burton\, Pinetop Perkins\, Melvin Taylor\, Sugar Blue\, Phil Guy\, Ronnie Earl\, Billy Boy Arnold\, Ronnie Baker Brooks\, John Primer\, Lurrie Bell\, Jerry Portnoy\, Larry McCray\, Eddy Clearwater and Otis Clay
URL:https://wilbertsmusic.com/event/albert-castiglia-2/2019-08-13/
END:VEVENT
BEGIN:VEVENT
DTSTART;TZID=UTC:20190813T150000
DTEND;TZID=UTC:20190813T230000
DTSTAMP:20260420T074759
CREATED:20190810T181100Z
LAST-MODIFIED:20190810T181243Z
UID:647-1565708400-1565737200@wilbertsmusic.com
SUMMARY:a WAHOO of a Happy Hour~with the Best Dam Deals Downtown! 3-11pm
DESCRIPTION:$3 ~16oz DOMESTICS & BOMBS (cherry\, grape\, orange or jagger)\n$4 FIREBALLS & JAMESON\n$9.99 Award Winning Ribs Dinner w/Fries & Salad
URL:https://wilbertsmusic.com/event/a-wahoo-of-a-happy-hourwith-the-best-dam-deals-downtown-3-11pm-12/
END:VEVENT
BEGIN:VEVENT
DTSTART;TZID=UTC:20190812T203000
DTEND;TZID=UTC:20190812T223000
DTSTAMP:20260420T074759
CREATED:20190607T161032Z
LAST-MODIFIED:20190731T142548Z
UID:348-1565641800-1565649000@wilbertsmusic.com
SUMMARY:Happy Birthday ALBERT CASTIGLIA America's newest King of the Blues
DESCRIPTION:From Jr. Wells band ……. \n“It may be a bit premature to crown Albert Castiglia America’s newest King of the Blues\, but there’s little doubt that he at least deserves the title of heir apparent.” — Miami New Times \nThe’ll be Cake! \n 
URL:https://wilbertsmusic.com/event/albert-castiglia/
END:VEVENT
BEGIN:VEVENT
DTSTART;TZID=UTC:20190812T150000
DTEND;TZID=UTC:20190812T230000
DTSTAMP:20260420T074759
CREATED:20190810T181006Z
LAST-MODIFIED:20190810T181006Z
UID:645-1565622000-1565650800@wilbertsmusic.com
SUMMARY:a WAHOO of a Happy Hour~with the Best Dam Deals Downtown! 3-11pm
DESCRIPTION:$3 ~16oz DOMESTICS & BOMBS (cherry\, grape\, orange or jagger)\n$4 FIREBALLS & JAMESON\n$9.99 Award Winning Ribs Dinner w/Fries & Salad
URL:https://wilbertsmusic.com/event/a-wahoo-of-a-happy-hourwith-the-best-dam-deals-downtown-3-11pm-11/
END:VEVENT
END:VCALENDAR