BEGIN:VCALENDAR
VERSION:2.0
PRODID:-//Wilberts - ECPv6.15.20//NONSGML v1.0//EN
CALSCALE:GREGORIAN
METHOD:PUBLISH
X-ORIGINAL-URL:https://wilbertsmusic.com
X-WR-CALDESC:Events for Wilberts
REFRESH-INTERVAL;VALUE=DURATION:PT1H
X-Robots-Tag:noindex
X-PUBLISHED-TTL:PT1H
BEGIN:VTIMEZONE
TZID:UTC
BEGIN:STANDARD
TZOFFSETFROM:+0000
TZOFFSETTO:+0000
TZNAME:UTC
DTSTART:20180101T000000
END:STANDARD
END:VTIMEZONE
BEGIN:VEVENT
DTSTART;TZID=UTC:20191018T150000
DTEND;TZID=UTC:20191018T200000
DTSTAMP:20260420T045912
CREATED:20190823T005455Z
LAST-MODIFIED:20190823T005912Z
UID:760-1571410800-1571428800@wilbertsmusic.com
SUMMARY:Pre/Post Celine Dion: PARTY~ with the Best Deals Downtown!
DESCRIPTION:$3 ~16oz DOMESTICS & BOMBS (cherry\, grape\, orange or jagger)\n$4 FIREBALLS & JAMESON\n$9.99 Award Winning Ribs Dinner w/Fries & Salad
URL:https://wilbertsmusic.com/event/pre-carrie-underwood-party-with-the-best-deals-downtown/
END:VEVENT
BEGIN:VEVENT
DTSTART;TZID=UTC:20191016T153000
DTEND;TZID=UTC:20191016T200000
DTSTAMP:20260420T045912
CREATED:20190823T005801Z
LAST-MODIFIED:20190823T005801Z
UID:764-1571239800-1571256000@wilbertsmusic.com
SUMMARY:Pre Carrie Underwood: PARTY~ with the Best Deals Downtown!
DESCRIPTION:$3 ~16oz DOMESTICS & BOMBS (cherry\, grape\, orange or jagger)\n$4 FIREBALLS & JAMESON\n$9.99 Award Winning Ribs Dinner w/Fries & Salad
URL:https://wilbertsmusic.com/event/pre-carrie-underwood-party-with-the-best-deals-downtown-2/
END:VEVENT
BEGIN:VEVENT
DTSTART;TZID=UTC:20191014T190000
DTEND;TZID=UTC:20191014T230000
DTSTAMP:20260420T045912
CREATED:20190813T154855Z
LAST-MODIFIED:20191005T135226Z
UID:702-1571079600-1571094000@wilbertsmusic.com
SUMMARY:moved to a private location Coast 2 Coast Live~Largest Artist Showcase in the World!
DESCRIPTION:MONDAY\, OCTOBER 14\, 2019 show starts @ 9:00 PM ~ Doors @ 7pm\nWILBERT’S\n812 HURON AVENUE CLEVELAND\, OH 44115 \nSEE MAP\n\nAGE LIMIT: 21 \n1ST PLACE PRIZE:\nSpot in 2020 World Championship to Compete for the Grand Prize\n1 Free VIP Pass to the Coast 2 Coast Music Conference 2020 ($400 Value)\n1 Spot in Direct 2 Exec Meeting with Major Record Label A&R ($300 Value)\nPremium PR Promotion Package ($1\,000 Value)\n1 Spot on an upcoming Coast 2 Coast Mixtape Hosted by Major Artist ($400 value)\n250 Spins on Coast 2 Coast Radio ($600 Value)\nFeatured Artist Performance at Upcoming Coast 2 Coast LIVE Showcase ($600 Value)\nTrack Placed on the Official Coast 2 Coast Winner’s Circle Spotify Playlist\nFree Membership to Distribute Unlimited Music & Keep 100% Royalties on Spotify/Apple/TIDAL +more!\n2ND PLACE PRIZE:\nSpot in 2020 World Championship to Compete for the Grand Prize\nBasic PR Promotion Package ($500 Value)\n1 Free Regular Pass to the Coast 2 Coast Music Conference 2020 in Miami Beach ($200 Value)\n100 Spins on Coast 2 Coast Radio ($150 Value)\nTrack Placed on the Official Coast 2 Coast Winner’s Circle Spotify Playlist\n1 Spot in Direct 2 Exec Meeting with Major Record Label A&R ($300 Value)\nFree Membership to Distribute Unlimited Music & Keep 100% Royalties on Spotify/Apple/TIDAL +more!\n3RD PLACE PRIZE:\nSpot in 2020 World Championship to Compete for the Grand Prize\nBeginner PR Promotion Package ($250 Value)\n1 Free Regular Pass to the Coast 2 Coast Music Conference 2020 in Miami Beach ($200 Value)\n50 Spins on Coast 2 Coast Radio ($100 Value)\nTrack Placed on the Official Coast 2 Coast Winner’s Circle Spotify Playlist\n1 Spot in Direct 2 Exec Meeting with Major Record Label A&R ($300 Value)\nFree Membership to Distribute Unlimited Music & Keep 100% Royalties on Spotify/Apple/TIDAL +more!\n4TH PLACE PRIZE:\nSpot in 2020 World Championship to Compete for the Grand Prize\n1 Free Regular Pass to the Coast 2 Coast Music Conference 2020 in Miami Beach ($200 Value)\n50 Spins on Coast 2 Coast Radio ($100 Value)\nStarter PR Promotion Package ($100 Value)\nTrack Placed on the Official Coast 2 Coast Winner’s Circle Spotify Playlist\n1 Spot in Direct 2 Exec Meeting with Major Record Label A&R ($300 Value)\nFree Membership to Distribute Unlimited Music & Keep 100% Royalties on Spotify/Apple/TIDAL +more!\n5TH PLACE PRIZE:\nSpot in 2020 World Championship to Compete for the Grand Prize\n1 Free Regular Pass to the Coast 2 Coast Music Conference 2020 in Miami Beach ($200 Value)\nStarter PR Promotion Package ($100 Value)\nTrack Placed on the Official Coast 2 Coast Winner’s Circle Spotify Playlist\n1 Spot in Direct 2 Exec Meeting with Major Record Label A&R ($300 Value)\nFree Membership to Distribute Unlimited Music & Keep 100% Royalties on Spotify/Apple/TIDAL +more!
URL:https://wilbertsmusic.com/event/coast-2-coast-livelargest-artist-showcase-in-the-world/2019-10-14/
END:VEVENT
BEGIN:VEVENT
DTSTART;TZID=UTC:20191013T093000
DTEND;TZID=UTC:20191013T200000
DTSTAMP:20260420T045912
CREATED:20190810T193845Z
LAST-MODIFIED:20190810T194107Z
UID:679-1570959000-1570996800@wilbertsmusic.com
SUMMARY:a Woof Woof of a Browns Breakfast / Happy Hour~with the Best Dam Specials Downtown! 9:30-8pm
DESCRIPTION:Breakfast Burrito\, Egg & Chorizo Quesadilla and Creme Brulee French Toast.\n$4 Bloody Mary’s and Mimosas\n$3 ~DOMESTICS & BOMBS (cherry\, grape\, orange or jagger)\n$4 FIREBALLS & JAMESON\n+$9.99 Award Winning Ribs Dinner w/Fries & Salad
URL:https://wilbertsmusic.com/event/a-woof-woof-of-a-browns-breakfast-happy-hourwith-the-best-dam-specials-downtown-930-8pm/2019-10-13/
END:VEVENT
BEGIN:VEVENT
DTSTART;TZID=UTC:20191012T200000
DTEND;TZID=UTC:20191012T230000
DTSTAMP:20260420T045912
CREATED:20190801T171746Z
LAST-MODIFIED:20191005T135047Z
UID:620-1570910400-1570921200@wilbertsmusic.com
SUMMARY:CXL-THE RESTLESS ~pop/rock influenced duo founded by sisters Rachal & Emily Schmieder from Nashville
DESCRIPTION:Winners of State of Kentucky songwriter competition for 2016 \n\n \n\n\n\nThe restless is a female led Pop Duo based in Nashville\, Tennessee. Growing up just outside music city\, sisters Rachal & Emily began performing several showcases and festivals in Tennessee and surrounding areas. The sisters quickly developed a strong passion for music and songwriting and In 2016\, decided to collaborate their unique styles into one by forming the duo The restless. Since 2016\, The restless have performed over 300 shows in the Southeast Region. The restless also founded a showcase titled “Songs for Change” which takes place annually and donates to a charity of the group’s choice. The restless recently announced their first Introduction Tour\, which will span across the Southeast & Midwest United States regions and will feature several newly written songs to be released in the near future.
URL:https://wilbertsmusic.com/event/the-restless-pop-rock-influenced-duo-founded-by-sisters-rachal-emily-schmieder-from-nashville/
END:VEVENT
BEGIN:VEVENT
DTSTART;TZID=UTC:20191011T203000
DTEND;TZID=UTC:20191011T230000
DTSTAMP:20260420T045912
CREATED:20190828T171327Z
LAST-MODIFIED:20191005T135024Z
UID:857-1570825800-1570834800@wilbertsmusic.com
SUMMARY:CXL~CINDERS ~ "rowdy acoustic pop"\, from Salt Lake City\, UT
DESCRIPTION:With a sound that can only be described as “rowdy acoustic pop”\, Cinders blends acoustic textures\, indie vocals\, catchy melodies\, and the frenetic live energy you might only find at a punk show.\nThe Salt Lake City\, UT-based band formed in 2015 by high school buddies Jordan Zabriskie (Vocals / Acoustic Guitar)\, Montana Smith (Vocals / Electric Guitar)\, Adrian De La Cruz (Bass)\, and future friends Brad Bennett (Drums)\, and Austin Harris (Keyboard / Multi-instrumentalist)\, with Chelsey Powell (Saxophone / Vocals) completing the six-piece lineup in 2017.\nCinder’s self-produced\, self-titled debut LP hit the internet in 2016. SLUG Magazine called the collection “constant\, feel-good energy from start to finish”\, and songs from the album (including the standout tracks “Hope You Do” and “Last Year’s Winter”) garnered solid placements on streaming playlists in the indie pop\, acoustic\, and folk genres.\nLooking Forward to Looking Back\, their ambitious sophomore full-length (produced by Montana Smith)\, came out in the fall of 2018. Its explosive energy combined with darker themes serves as a fitting juxtaposition to the breezy\, care-free optimism of their debut. Stars and Scars gave a positive review\, saying it “embodies the complexity of contradictions.” Out From The Pine Box praised its “urgency” and “sense of wonder and magic.” Lead-off track “Tree House” seems ready-made for commercial radio with its incredibly catchy\, sing-along chorus.
URL:https://wilbertsmusic.com/event/cinders/
END:VEVENT
BEGIN:VEVENT
DTSTART;TZID=UTC:20191011T160000
DTEND;TZID=UTC:20191011T200000
DTSTAMP:20260420T045912
CREATED:20190823T004839Z
LAST-MODIFIED:20190823T004839Z
UID:757-1570809600-1570824000@wilbertsmusic.com
SUMMARY:a MONSTER of a Happy Hour~with the Best Dam Deals Downtown!
DESCRIPTION:$3 ~16oz DOMESTICS & BOMBS (cherry\, grape\, orange or jagger)\n$4 FIREBALLS & JAMESON\n$9.99 Award Winning Ribs Dinner w/Fries & Salad
URL:https://wilbertsmusic.com/event/a-monster-of-a-happy-hourwith-the-best-dam-deals-downtown/2019-10-11/
END:VEVENT
BEGIN:VEVENT
DTSTART;TZID=UTC:20191010T203000
DTEND;TZID=UTC:20191010T223000
DTSTAMP:20260420T045912
CREATED:20190702T015038Z
LAST-MODIFIED:20191005T135006Z
UID:477-1570739400-1570746600@wilbertsmusic.com
SUMMARY:moved to The KENT STAGE~ JOSH CHRISTINA ~ “Josh plays piano like Jerry Lee Lewis\, sings like Elvis Presley and looks like Buddy Holly.” - Jon Carroll (Two-time Grammy Award Winner)
DESCRIPTION:Modern rockabilly artist bringing new life to an amazing genre of rockabilly music by taking it back to its roots! \nIn Short… \n…Singer\, songwriter\, pianist who’s a combo of Jerry Lee Lewis\, Elvis Presley\, Chuck Berry and Elton John.
URL:https://wilbertsmusic.com/event/josh-christina-josh-plays-piano-like-jerry-lee-lewis-sings-like-elvis-presley-and-looks-like-buddy-holly-jon-carroll-two-time-grammy-award-winner/
END:VEVENT
BEGIN:VEVENT
DTSTART;TZID=UTC:20191009T200000
DTEND;TZID=UTC:20191009T230000
DTSTAMP:20260420T045912
CREATED:20190629T230404Z
LAST-MODIFIED:20191005T134942Z
UID:442-1570651200-1570662000@wilbertsmusic.com
SUMMARY:CXL`DYLAN DOYLE BAND rockin' blues from the Hudson Valley NY
DESCRIPTION:A Mix of Roots\, Rock and Funk delivering a unique show full of energy and soul.\n\n\n\n\n\nA true chance to catch a rising star\, Hudson Valley based Dylan Doyle has been putting on spellbinding performances nationally as well as internationally. Southern bred\, northern raised\, his trio’s style of music lies somewhere between roots rock and jam funk. It evokes Woodstock but also dips into southern soul. It’s a uniquely American sound Doyle calls “a big melting pot.” After sharing the stage with the young musician in Memphis a few years back\, Ben Cauley\, sole survivor of the Otis Redding plane crash and Co-founder of the Bar-Kays likened Dylan to a young Jimi Hendrix. When asked about the young talent coming up in the Hudson Valley\, Van Morrison guitarist John Platania stated “Dylan Doyle is the future.” Bill Payne of Little Feat described Dylan’s play as “Imaginative and original.” After a performance at the Chicago House of Blues the young musician was informed by a representative of Hollywood Records the Disney owned company is interested and will be tracking his development. After a recent performance at the iconic Levon Helm Studios\, Dylan was approached by James Dolan\, President of Madison Square Garden\, and was solicited to perform at future Garden events. Truly a young man with a bright future\, this is a chance to say\, “I say him when…
URL:https://wilbertsmusic.com/event/dylan-doyle-band-rockin-blues-from-the-hudson-valley-ny/
END:VEVENT
BEGIN:VEVENT
DTSTART;TZID=UTC:20191007T160000
DTEND;TZID=UTC:20191007T200000
DTSTAMP:20260420T045912
CREATED:20190821T150743Z
LAST-MODIFIED:20190821T150834Z
UID:754-1570464000-1570478400@wilbertsmusic.com
SUMMARY:a CAVALIER of a Happy Hour~with the Best Dam Deals Downtown! 4-8pm
DESCRIPTION:$3 ~16oz DOMESTICS & BOMBS (cherry\, grape\, orange or jagger)\n$4 FIREBALLS & JAMESON\n$9.99 Award Winning Ribs Dinner w/Fries & Salad
URL:https://wilbertsmusic.com/event/a-cavalier-of-a-happy-hourwith-the-best-dam-deals-downtown-4-8pm/2019-10-07/
END:VEVENT
BEGIN:VEVENT
DTSTART;TZID=UTC:20191005T200000
DTEND;TZID=UTC:20191005T230000
DTSTAMP:20260420T045912
CREATED:20190903T210801Z
LAST-MODIFIED:20191005T134928Z
UID:907-1570305600-1570316400@wilbertsmusic.com
SUMMARY:CXL stand up comedian RICKY GLORE" as heard on BOB & TOM // 2019 TOUR
DESCRIPTION:Ricky Glore examines his Midwest upbringing\, pop culture influences\, napkin thoughts\, becoming a dad\, and the irrational fear of his wife leaving him\, if their cat learns how to make tacos and deliver them to her.  \nRicky Glore is a stand up comedian and comedy writer known for his high energy and confidence on stage. He has appeared on THE BOB & TOM SHOW\, and opened for some of the top comedians\, including Tracy Morgan\, Jim Breuer\, Damon Wayans\, and Doug Benson. Whether he is discussing married life\, family\, pop culture or everyday observations\, he is sure to be bringing a smile to your face and a laugh from your belly. 
URL:https://wilbertsmusic.com/event/ricky-glore-as-heard-on-bob-tom-2019-tour/
END:VEVENT
BEGIN:VEVENT
DTSTART;TZID=UTC:20191004T203000
DTEND;TZID=UTC:20191004T230000
DTSTAMP:20260420T045912
CREATED:20190828T171606Z
LAST-MODIFIED:20190828T171606Z
UID:859-1570221000-1570230000@wilbertsmusic.com
SUMMARY:Broomtail
DESCRIPTION:
URL:https://wilbertsmusic.com/event/broomtail/
END:VEVENT
BEGIN:VEVENT
DTSTART;TZID=UTC:20191003T190000
DTEND;TZID=UTC:20191003T230000
DTSTAMP:20260420T045912
CREATED:20190901T144749Z
LAST-MODIFIED:20191005T134800Z
UID:894-1570129200-1570143600@wilbertsmusic.com
SUMMARY:CXL-A night of acoustic blues w/ERIC SOMMER and (looking for 2 locals?)
DESCRIPTION:email me at \nwilberts812@sbcglobal.net \n\n\n\n\n\n\n\n\n\n\nERIC SOMMER·\n\n\n\n\n\n\nSinger/songwriter Eric Sommer is an unbelievable intersection of improbable influences and experiences channeled into an amazingly diverse catalog and a résumé that reads more like a musical adventure novel than a series of career bullet points.\nSommer emerged from the Boston music scene in the ’80s with a vengeance\, a Folk guitarist with a percussive\, open-tuning style adapted from the likes of David Bromberg\, Steve Howe\, Townes Van Zandt and Brit Folk legend Davy Graham. But Boston was also a hotbed of New Wave\, Power Pop and Punk at that point\, and Sommer absorbed those influences as well\, creating a Byrdsian jangle sound that earned him opening slots for national touring acts and regular bookings at the renowned Paradise Theatre.\nSommer eventually relocated to Europe where he scored tours with Bram Tchaikovsky\, Wreckless Eric and Nick Lowe\, calling Denmark and the Netherlands home for awhile. After honing his personal songwriting style and playing every conceivable club on the European circuit\, Sommer returned to Boston homeless and broke.\nLiving on the streets and in abandoned squats\, Sommer played every available open mic and picked up guitar tips from David Landau and Gary Burton/Steve Howe sideman Mick Goodrick\, which led to the formation of a trio called The Atomics\, which offered up an American version of Elvis Costello\, Joe Jackson and Nick Lowe during its run. While The Atomics opened for the Dead Kennedys and Gang of Four and became one of Boston’s best local New Wave outfits\, Sommer was finding constant inspiration in the works of Jeff Beck\, Pat Martino\, Joe Pass and Charlie Christian.\nWith The Atomics’ dissolution\, Sommer’s wanderlust took him to New York\, Atlanta and finally the suburbs of Washington\, D.C.\, where he founded the Georgetown Film Festival and embarked on a phase of independent film scoring. Since then\, Sommer has been a troubadour with no fixed address\, playing well over 250 gigs a year and slowing down just long enough to record a handful of brilliant albums\, including Rainy Day Karma with his band\, Solar Flares\, and his latest solo effort\, Brooklyn Bolero.\nIf there’s any lingering doubt about Sommer’s supernatural versatility\, consider that he’s opened for Old 97’s\, Nickel Creek’s Sara Watkins\, Bluegrass icon Jerry Douglas\, Mates of State\, Dr. John\, Leon Redbone and Built to Spill\, to name a few – and Dead Kennedy’s\, Mission to Burma\, Gang of Four\, and Elvis Costello\, Wreckless Eric and Brahm Tchaikovsky…\nWhether in band or one-man form (which nakedly showcases his amazing acoustic Blues guitar stylings)\, Sommer is a living history of contemporary music and a musical force of nature.
URL:https://wilbertsmusic.com/event/a-night-of-acoustic-blues-w-eric-sommer-and-looking-for-2-locals/
END:VEVENT
BEGIN:VEVENT
DTSTART;TZID=UTC:20190930T150000
DTEND;TZID=UTC:20190930T233000
DTSTAMP:20260420T045912
CREATED:20190607T161832Z
LAST-MODIFIED:20190607T161832Z
UID:377-1569855600-1569886200@wilbertsmusic.com
SUMMARY:THE BLACK KEYS ~ LETS ROCK PaRtY
DESCRIPTION:
URL:https://wilbertsmusic.com/event/the-black-keys-lets-rock-party-2/
END:VEVENT
BEGIN:VEVENT
DTSTART;TZID=UTC:20190928T180000
DTEND;TZID=UTC:20190928T230000
DTSTAMP:20260420T045912
CREATED:20190802T021440Z
LAST-MODIFIED:20190802T021440Z
UID:622-1569693600-1569711600@wilbertsmusic.com
SUMMARY:Private Party
DESCRIPTION:
URL:https://wilbertsmusic.com/event/private-party/
END:VEVENT
BEGIN:VEVENT
DTSTART;TZID=UTC:20190922T160000
DTEND;TZID=UTC:20190922T210000
DTSTAMP:20260420T045912
CREATED:20190810T194450Z
LAST-MODIFIED:20190810T194626Z
UID:685-1569168000-1569186000@wilbertsmusic.com
SUMMARY:a Woof Woof of a Happy Hour~with the Best Dam Deals Downtown! 3-11pm
DESCRIPTION:$3 ~DOMESTICS & BOMBS (cherry\, grape\, orange or jagger)\n$4 FIREBALLS & JAMESON\n+$9.99 Award Winning Ribs Dinner w/Fries & Salad
URL:https://wilbertsmusic.com/event/a-woof-woof-of-a-happy-hourwith-the-best-dam-deals-downtown-3-11pm/2019-09-22/
END:VEVENT
BEGIN:VEVENT
DTSTART;TZID=UTC:20190921T210000
DTEND;TZID=UTC:20190921T230000
DTSTAMP:20260420T045912
CREATED:20190607T161737Z
LAST-MODIFIED:20190904T035511Z
UID:372-1569099600-1569106800@wilbertsmusic.com
SUMMARY:GUITAR TOWN  is a tribute to the music of outlaw country troubadour Steve Earle.
DESCRIPTION:Guitar Town is a tribute to the music of outlaw country troubadour Steve Earle. Guitar Town celebrates the songs of Earle\, one of the greatest American songwriters\, who blazed the trail for many Americana musicians to come. \nBand Members\nBrian Bretton\, Ed Holmok\, Kevin\, McCarthy\, Ann Marie Micenmacher\, Howard Micenmacher\, John “Sonny” Miller
URL:https://wilbertsmusic.com/event/guitar-town-a-tribute-to-steve-earle/
END:VEVENT
BEGIN:VEVENT
DTSTART;TZID=UTC:20190920T210000
DTEND;TZID=UTC:20190920T230000
DTSTAMP:20260420T045912
CREATED:20190823T213653Z
LAST-MODIFIED:20190823T213653Z
UID:784-1569013200-1569020400@wilbertsmusic.com
SUMMARY:Travis "Moonchild" Haddix ~ "I am the best that I can be\, and since no one else can be me\, there's none better!"
DESCRIPTION:Best Male Blues Artist\, Best New Blues Artist\, Best Blues Entertainer and Contemporary Blues Artist Of The Year. In 1989 he founded Haddix Publishing Company and Wann-Sonn Records\, and recorded ten CDs under his own label. Travis won the Gay Rose Production Keeping the Blues Alive Award. nominated Best Blues Song by the Blues Critic Awards 2007 Readers Poll-Comtemporary Blues. Travis was in great company; the prize was awarded to Omar Kent Dykes & Jimmie Vaughan.
URL:https://wilbertsmusic.com/event/travis-moonchild-haddix-i-am-the-best-that-i-can-be-and-since-no-one-else-can-be-me-theres-none-better/
END:VEVENT
BEGIN:VEVENT
DTSTART;TZID=UTC:20190920T173000
DTEND;TZID=UTC:20190920T193000
DTSTAMP:20260420T045912
CREATED:20190823T211723Z
LAST-MODIFIED:20200225T215323Z
UID:782-1569000600-1569007800@wilbertsmusic.com
SUMMARY:JOHNNY ELVIS & THE CROWN ELECTRICS The best of Elvis!
DESCRIPTION:Fried peanut butter\, banana and bacon sandwiches\, fast cars and fast women.
URL:https://wilbertsmusic.com/event/johnny-elvis-the-crown-electrics-the-best-of-elvis/2019-09-20/
END:VEVENT
BEGIN:VEVENT
DTSTART;TZID=UTC:20190919T203000
DTEND;TZID=UTC:20190919T230000
DTSTAMP:20260420T045912
CREATED:20190828T211747Z
LAST-MODIFIED:20190828T211830Z
UID:861-1568925000-1568934000@wilbertsmusic.com
SUMMARY:GRANT FARM-Cosmic Americana from Boulder\, CO
DESCRIPTION:Boulder\, Colorado-based Cosmic Americana band Grant Farm has entertained a growing fan base on the nation’s club and festival scene since its founding in 2009 by vocalist and National Flatpicking Guitar Champion Tyler Grant. \nBuilt on the fundamentals of love\, family and music\, the band is a sure bet for fans of high-energy\, authentic artists as diverse as Sturgill Simpson\, Tedeschi Trucks Band and Phish. Comprised of zany\, creative and highly musical comrades
URL:https://wilbertsmusic.com/event/grant-farm-cosmic-americana-from-boulder-co/
END:VEVENT
BEGIN:VEVENT
DTSTART;TZID=UTC:20190919T173000
DTEND;TZID=UTC:20190919T190000
DTSTAMP:20260420T045912
CREATED:20190607T160513Z
LAST-MODIFIED:20200206T014301Z
UID:842-1568914200-1568919600@wilbertsmusic.com
SUMMARY:Mark Stuart: Nashville's #1 Singer/songwriter ~ Americana/folk /All Around Nice Guy
DESCRIPTION:
URL:https://wilbertsmusic.com/event/mark-stuart-singer-songwriter-and-americana-folk-musician-from-nashville-tennessee-3-2019-09-19/2019-09-19/
END:VEVENT
BEGIN:VEVENT
DTSTART;TZID=UTC:20190914T210000
DTEND;TZID=UTC:20190914T233000
DTSTAMP:20260420T045912
CREATED:20190607T161710Z
LAST-MODIFIED:20190828T135442Z
UID:370-1568494800-1568503800@wilbertsmusic.com
SUMMARY:Miller and The Other Sinners~blues\, rock\, funk\, americana and gospel out of Buffalo\, NY
DESCRIPTION:Experience the soul empowering music of Miller and The Other Sinners. Hailing from Buffalo\, NY\, Miller and The Other Sinners brings a fresh blend of roots music\, southern soul\, blues\, rock and r&b\, that will move you at the core. Lead by David Michael Miller who’s sophomore solo album\, Same Soil\, ended up at #34 for the top blues albums played worldwide on radio according to the Roots Music Report in 2015 and climbed as high as #3. David has received worldwide press as well as numerous awards including “Artist of The Year” by the Arts Services Institute of Western New York\, “Best Blues Male Vocalist” for Night-Life Magazine (2013\, 2014 and 2015) and has shared the stage with artists such as Gary Clark\, Jr.\, Jonny Lang\, The Steve Miller Band\, Tedeschi Trucks Band\, Shemekia Copeland\, James Cotton\, the late Bobby Blue Bland\, and many more.\nDavid is accompanied on the road by former Buddy Guy sax player of nearly 10 years\, Jason Moynihan and an exciting young rhythm section with occasional guests by members of the internationally renown\, Campbell Brothers.\nWhether in the 4 piece touring band\, or in the 8 piece festival band\, Miller and The Other Sinners blows people away everywhere they play.
URL:https://wilbertsmusic.com/event/miller-and-the-other-sinners/
END:VEVENT
BEGIN:VEVENT
DTSTART;TZID=UTC:20190914T170000
DTEND;TZID=UTC:20190914T190000
DTSTAMP:20260420T045912
CREATED:20190823T210159Z
LAST-MODIFIED:20190823T210159Z
UID:780-1568480400-1568487600@wilbertsmusic.com
SUMMARY:hh w/CRASH COFFIN Vintage Country\, Rockabilly\, Rock-n-Roll\, Folk\, Americana
DESCRIPTION:Crash Coffin\, singer/songwriter\, from Cleveland\, Ohio\, Crash has recorded a couple of vinyl LPs and 45 RPM records\, in addition to 6 CDs. In 2014\, White Lighting Records released 4 rockin’ tracks\, recorded on acetates in the early 1960’s\, on a Vinyl EP in Europe.
URL:https://wilbertsmusic.com/event/hh-w-crash-coffin-vintage-country-rockabilly-rock-n-roll-folk-americana/
END:VEVENT
BEGIN:VEVENT
DTSTART;TZID=UTC:20190913T210000
DTEND;TZID=UTC:20190913T230000
DTSTAMP:20260420T045912
CREATED:20190607T161639Z
LAST-MODIFIED:20190607T161639Z
UID:368-1568408400-1568415600@wilbertsmusic.com
SUMMARY:Reverend Raven & the Chain Smokin' Altar Boys featuring Westside Andy Linderman on harmonica
DESCRIPTION:“They are very\, very good. That’s why I keep having them back.”- Buddy Guy
URL:https://wilbertsmusic.com/event/reverend-raven-the-chain-smokin-altar-boys-featuring-westside-andy-linderman-on-harmonica/
END:VEVENT
BEGIN:VEVENT
DTSTART;TZID=UTC:20190912T200000
DTEND;TZID=UTC:20190912T230000
DTSTAMP:20260420T045912
CREATED:20190721T230931Z
LAST-MODIFIED:20190820T152203Z
UID:551-1568318400-1568329200@wilbertsmusic.com
SUMMARY:Real Deal Blues Band w/ Special Guest CHRIS HIATT and Frankie Starr
DESCRIPTION:“….WATCHING HIATT TEAR THROUGH SONG AFTER SONG ON HIS STRATOCASTER IS NOTHING SHORT OF SPECTACULAR…..”\n \n 
URL:https://wilbertsmusic.com/event/real-deal-blues-band/
END:VEVENT
BEGIN:VEVENT
DTSTART;TZID=UTC:20190908T093000
DTEND;TZID=UTC:20190908T180000
DTSTAMP:20260420T045912
CREATED:20190810T185505Z
LAST-MODIFIED:20190810T193340Z
UID:676-1567935000-1567965600@wilbertsmusic.com
SUMMARY:a Woof Woof of a Browns Breakfast / Happy Hour~with the Best Dam Specials Downtown! 9:30-8pm
DESCRIPTION:Breakfast Burrito\, Egg & Chorizo Quesadilla and Creme Brulee French Toast.\n$4 Bloody Mary’s and Mimosas\n$3 ~DOMESTICS & BOMBS (cherry\, grape\, orange or jagger)\n$4 FIREBALLS & JAMESON\n+$9.99 Award Winning Ribs Dinner w/Fries & Salad
URL:https://wilbertsmusic.com/event/a-wahoo-of-a-breakfast-happy-hourwith-the-best-specials-downtown-930-6pm-2019-09-08/
END:VEVENT
BEGIN:VEVENT
DTSTART;TZID=UTC:20190907T203000
DTEND;TZID=UTC:20190907T233000
DTSTAMP:20260420T045912
CREATED:20190826T193753Z
LAST-MODIFIED:20190826T214642Z
UID:799-1567888200-1567899000@wilbertsmusic.com
SUMMARY:THE CROOKED RIVER BAND ~ Cleveland's Rock'n Roll with Drive n' Soul
DESCRIPTION:The Crooked River Band Delivers Some Of The Best Music From The Sixties To The Present To Your Event! Tired Of Hearing The Same Old Stuff? We Have Variety With Our Own Renditions Of Songs. Make Your Party Or Event A Memorable Time With Good Music And FUN FOR ALL!
URL:https://wilbertsmusic.com/event/the-crooked-river-band-clevelands-rockn-roll-with-drive-n-soul/
END:VEVENT
BEGIN:VEVENT
DTSTART;TZID=UTC:20190906T200000
DTEND;TZID=UTC:20190906T230000
DTSTAMP:20260420T045912
CREATED:20190713T140840Z
LAST-MODIFIED:20200820T142209Z
UID:524-1567800000-1567810800@wilbertsmusic.com
SUMMARY:AMANDA FISH BAND~Soulful-Powerhouse-Blues From The Heart!~2019 Blues Music Award Winner (BMA)\, Best Emerging Artist Album
DESCRIPTION:2019 Blues Music Award (BMA) nominee\,\nBest Emerging Artist Album\n2017 International Blues Challenge\nSemi Finalist\n2016 “Sean Costello Rising Star” Blues Blast Music Award\n“Amanda Fish is a dirty gal. Her emotions are raw and her visions are hard living\, hard luck and hard to handle… She is a fluid and intense vocalist…her messages about love\, rage despair\, homelessness and overcoming are delivered with style\, phrasing and soul.” \n-Dr. Blues\n“Amanda Fish Band got the Blues in their grooves”\n-“On The Radar”\, The Alternate Root\n\n\nAmanda Fish began as a singer songwriter in late 2012\, refining her original material as a solo act for 2 years before she formed her band in early 2014\, a Roots Rock and Soul quintet featuring dual slide and rock guitars and Amanda’s signature ‘from-the-gut’ vocals locked into a sturdy groove.\nIn 2015\, she released her first LP\, “Down In The Dirt”\, on VizzTone Label Group\, for which she was awarded the 2016 “Sean Costello Rising Star” Blues Blast Music Award. Amanda and her band set Beale Street on fire in the 2017 International Blues Challenge Semi Finals. \nIn 2018\, Amanda has released her sophomore album\, “Free”\, which hit #6 on the Billboard Blues Album Chart. She’s touring with her band to support the CD.
URL:https://wilbertsmusic.com/event/amanda-fish-band2019-blues-music-award-bma-nominee-best-emerging-artist-album/2019-09-06/
END:VEVENT
BEGIN:VEVENT
DTSTART;TZID=UTC:20190904T150000
DTEND;TZID=UTC:20190904T230000
DTSTAMP:20260420T045912
CREATED:20190810T190914Z
LAST-MODIFIED:20190810T195516Z
UID:672-1567609200-1567638000@wilbertsmusic.com
SUMMARY:a WAHOO of a Happy Hour~with the Best Dam Deals Downtown! 3-11pm
DESCRIPTION:$3 ~16oz DOMESTICS & BOMBS (cherry\, grape\, orange or jagger)\n$4 FIREBALLS & JAMESON\n$9.99 Award Winning Ribs Dinner w/Fries & Salad
URL:https://wilbertsmusic.com/event/a-wahoo-of-a-happy-hourwith-the-best-dam-deals-downtown-3-11pm-14-2019-09-04/2019-09-04/
END:VEVENT
BEGIN:VEVENT
DTSTART;TZID=UTC:20190902T150000
DTEND;TZID=UTC:20190902T230000
DTSTAMP:20260420T045912
CREATED:20190810T190914Z
LAST-MODIFIED:20190810T191039Z
UID:669-1567436400-1567465200@wilbertsmusic.com
SUMMARY:a WAHOO of a Happy Hour~with the Best Dam Deals Downtown! 3-11pm
DESCRIPTION:$3 ~16oz DOMESTICS & BOMBS (cherry\, grape\, orange or jagger)\n$4 FIREBALLS & JAMESON\n$9.99 Award Winning Ribs Dinner w/Fries & Salad
URL:https://wilbertsmusic.com/event/a-wahoo-of-a-happy-hourwith-the-best-dam-deals-downtown-3-11pm-14/2019-09-02/
END:VEVENT
END:VCALENDAR