BEGIN:VCALENDAR
VERSION:2.0
PRODID:-//Wilberts - ECPv6.15.20//NONSGML v1.0//EN
CALSCALE:GREGORIAN
METHOD:PUBLISH
X-WR-CALNAME:Wilberts
X-ORIGINAL-URL:https://wilbertsmusic.com
X-WR-CALDESC:Events for Wilberts
REFRESH-INTERVAL;VALUE=DURATION:PT1H
X-Robots-Tag:noindex
X-PUBLISHED-TTL:PT1H
BEGIN:VTIMEZONE
TZID:UTC
BEGIN:STANDARD
TZOFFSETFROM:+0000
TZOFFSETTO:+0000
TZNAME:UTC
DTSTART:20180101T000000
END:STANDARD
END:VTIMEZONE
BEGIN:VEVENT
DTSTART;TZID=UTC:20191227T120000
DTEND;TZID=UTC:20191227T230000
DTSTAMP:20260420T004730
CREATED:20191212T161708Z
LAST-MODIFIED:20191212T161708Z
UID:1044-1577448000-1577487600@wilbertsmusic.com
SUMMARY:TRANS-SIBERIAN ORCHESTRA Party
DESCRIPTION:Opening at noon\nwith the Best Dam Deals Downtown!\n\n$3 ~16oz DOMESTICS & BOMBS (cherry\, grape\, orange or jager)\n$4 FIREBALLS & JAMESON\nSpecial Buffet ~ Gumbo\, Chili\, RIBS\, Hamburgers\, Hot Dogs\, Chicken Sandwiches and Caesar Salad… Add Smoked Salmon
URL:https://wilbertsmusic.com/event/trans-siberian-orchestra-party-2/
END:VEVENT
BEGIN:VEVENT
DTSTART;TZID=UTC:20191221T180000
DTEND;TZID=UTC:20191221T230000
DTSTAMP:20260420T004730
CREATED:20191023T231606Z
LAST-MODIFIED:20200219T010102Z
UID:993-1576951200-1576969200@wilbertsmusic.com
SUMMARY:Afton Musical Showcase Rock to Hip Hop
DESCRIPTION:
URL:https://wilbertsmusic.com/event/afton-musical-showcase-rock-to-hip-hop/2019-12-21/
END:VEVENT
BEGIN:VEVENT
DTSTART;TZID=UTC:20191220T200000
DTEND;TZID=UTC:20191220T230000
DTSTAMP:20260420T004730
CREATED:20191206T030501Z
LAST-MODIFIED:20191206T030501Z
UID:1034-1576872000-1576882800@wilbertsmusic.com
SUMMARY:BRIGHTBILL –  high energy horn driven alt rock from Philadelphia
DESCRIPTION:Brightbill is an alternative rock band  formed in 2016 when lead singer and songwriter Cole Brightbill moved from Boston\, MA to Philadelphia\, PA. Cole was soon joined by saxophone and guitar player Craig VanRemoortel\, as well as others to create and record their first project to be released in 2018. With a rotating cast of characters\, the band plays high energy live sets in venues around greater Philadelphia and the northeast. Brightbill is influenced by jam bands like Phish\, The Grateful Dead\, and The Dave Matthews Band\, as well as modern alternative bands like The 1975\, Young the Giant\, and Kings of Leon.
URL:https://wilbertsmusic.com/event/brightbill-high-energy-horn-driven-alt-rock-from-philadelphia/
END:VEVENT
BEGIN:VEVENT
DTSTART;TZID=UTC:20191220T200000
DTEND;TZID=UTC:20191220T230000
DTSTAMP:20260420T004730
CREATED:20191206T030335Z
LAST-MODIFIED:20191206T030335Z
UID:1032-1576872000-1576882800@wilbertsmusic.com
SUMMARY:StickY ~ Alt Rock from CLE
DESCRIPTION:Sticky is a product of its five members’ influences in classic\, alternative\, progressive\, and experimental rock. Based in Cleveland\, OH\nBand Members\nBig sticky – Lead Vocals\nQuick sticky – Lead Guitar\nDip sticky – Rhythm Guitar/Vocals\nSlap sticky – Bass\nDrum sticky – Drums
URL:https://wilbertsmusic.com/event/sticky-alt-rock-from-cle/
END:VEVENT
BEGIN:VEVENT
DTSTART;TZID=UTC:20191214T160000
DTEND;TZID=UTC:20191214T233000
DTSTAMP:20260420T004730
CREATED:20191101T011345Z
LAST-MODIFIED:20191206T030735Z
UID:1004-1576339200-1576366200@wilbertsmusic.com
SUMMARY:The Christmas Bar Crawl - Cleveland
DESCRIPTION:$2 Candy Cane Shot |  | →$2 Domestics 16oz ←| $3 Bombs (Cherry\,Orange\,Grape\,Jagger) | $4 Fireball | $4 Jameson \nhttps://www.facebook.com/events/548245999053468/
URL:https://wilbertsmusic.com/event/12-bars-of-xmas/
END:VEVENT
BEGIN:VEVENT
DTSTART;TZID=UTC:20191207T120000
DTEND;TZID=UTC:20191207T200000
DTSTAMP:20260420T004730
CREATED:20190920T134615Z
LAST-MODIFIED:20191212T170720Z
UID:933-1575720000-1575748800@wilbertsmusic.com
SUMMARY:12 Bars of Christmas Crawl
DESCRIPTION:Candy Cane shots = $2\nand $2 red and green jello shots\n-$3 16oz Labatts\, Labatt Light and PBR ~ All 16oz\n-$3 DOMESTICS – 16oz too! \n-$3 BOMBS (cherry\, grape\, orange or jager)\n-$4 FireBalls & Jameson\n-$4 Well Drink\n\nhttps://www.xmasbarcrawl.com/cleveland
URL:https://wilbertsmusic.com/event/12-bars-of-christmas-crawl/2019-12-07/
END:VEVENT
BEGIN:VEVENT
DTSTART;TZID=UTC:20191130T160000
DTEND;TZID=UTC:20191130T200000
DTSTAMP:20260420T004730
CREATED:20190826T232533Z
LAST-MODIFIED:20191022T005858Z
UID:829-1575129600-1575144000@wilbertsmusic.com
SUMMARY:a MONSTER of a Happy Hour~with the Best Dam Deals Downtown!
DESCRIPTION:$3 ~16oz DOMESTICS & BOMBS (cherry\, grape\, orange or jagger) \n$4 FIREBALLS & JAMESON \n$9.99 Award Winning Ribs Dinner w/Fries & Salad
URL:https://wilbertsmusic.com/event/a-monster-of-a-happy-hourwith-the-best-dam-deals-downtown-5-2019-11-30/2019-11-30/
END:VEVENT
BEGIN:VEVENT
DTSTART;TZID=UTC:20191129T160000
DTEND;TZID=UTC:20191129T200000
DTSTAMP:20260420T004730
CREATED:20190826T233414Z
LAST-MODIFIED:20191022T005423Z
UID:837-1575043200-1575057600@wilbertsmusic.com
SUMMARY:a CAVALIER of a Happy Hour~with the Best Dam Deals Downtown! 4-8pm
DESCRIPTION:$3 ~16oz DOMESTICS & BOMBS (cherry\, grape\, orange or jagger) \n$4 FIREBALLS & JAMESON \n$9.99 Award Winning Ribs Dinner w/Fries & Salad
URL:https://wilbertsmusic.com/event/a-cavalier-of-a-happy-hourwith-the-best-dam-deals-downtown-4-8pm-4-2019-11-29/2019-11-29/
END:VEVENT
BEGIN:VEVENT
DTSTART;TZID=UTC:20191125T160000
DTEND;TZID=UTC:20191125T200000
DTSTAMP:20260420T004730
CREATED:20190826T233414Z
LAST-MODIFIED:20190826T233414Z
UID:834-1574697600-1574712000@wilbertsmusic.com
SUMMARY:a CAVALIER of a Happy Hour~with the Best Dam Deals Downtown! 4-8pm
DESCRIPTION:$3 ~16oz DOMESTICS & BOMBS (cherry\, grape\, orange or jagger) \n$4 FIREBALLS & JAMESON \n$9.99 Award Winning Ribs Dinner w/Fries & Salad
URL:https://wilbertsmusic.com/event/a-cavalier-of-a-happy-hourwith-the-best-dam-deals-downtown-4-8pm-4/2019-11-25/
END:VEVENT
BEGIN:VEVENT
DTSTART;TZID=UTC:20191123T160000
DTEND;TZID=UTC:20191123T210000
DTSTAMP:20260420T004730
CREATED:20190826T233231Z
LAST-MODIFIED:20190826T233231Z
UID:832-1574524800-1574542800@wilbertsmusic.com
SUMMARY:a CAVALIER of a Happy Hour~with the Best Dam Deals Downtown!
DESCRIPTION:$3 ~16oz DOMESTICS & BOMBS (cherry\, grape\, orange or jagger) \n$4 FIREBALLS & JAMESON \n$9.99 Award Winning Ribs Dinner w/Fries & Salad
URL:https://wilbertsmusic.com/event/a-cavalier-of-a-happy-hourwith-the-best-dam-deals-downtown-3/
END:VEVENT
BEGIN:VEVENT
DTSTART;TZID=UTC:20191122T200000
DTEND;TZID=UTC:20191122T230000
DTSTAMP:20260420T004730
CREATED:20190711T165330Z
LAST-MODIFIED:20200213T145615Z
UID:508-1574452800-1574463600@wilbertsmusic.com
SUMMARY:BIG AL & THE HEAVYWEIGHTS~original Louisiana Roots Music founding members Warren Haynes and Big Al Lauro~Funky blues to rock\, zydeco to jazz and even country~with a soulful southern flair
DESCRIPTION:From Cajun to Zydeco to Blues to Rock and everything in between\, Big Al & the Heavyweights offer a musical gumbo sure to please all. Formed in 1996 as the Unknown Blues Band \, with founding members Big Al Lauro\, Warren Haynes ( Allman Bros\, Gov’t Mule)\, Rick Gergen ( Sweethearts of the Rodeo)\, the band has been featured at festivals and venues throughout the US. \nThe new Cd “World Full of Trouble” (Ellersoul Records). This is the band’s 7th cd release\, and includes several guest artists\, such as famed Muddy Waters guitarist Bob Margolin\, New Orleans guitarist\, John Lisi from Delta Funk. Big Al and the Heavyweights also welcome back former Heavyweight and harmonica virtuoso\, Jason Ricci. “World Full or Trouble was recorded at famed Suite Mix Studios in Slidell\, La. Noted for Funky Meters guitarist Brian Stoltz’s numerous recording projects. The Cd charted at # 10 on the Living Blues Charts and was frequently played on XMs Bluesville. \nTheir live performances are family oriented\, energetic and most of all fun. They have been staples at the WC Handy Festival in Muscle Shoals\, AL as well as the Mardi Gras Celebration at Universal Studio’s in Orlando. This is a show you don’t want to miss !
URL:https://wilbertsmusic.com/event/big-al-the-heavyweights-original-louisiana-roots-music-founding-members-warren-haynes-and-big-al-lauro-funky-blues-to-rock-zydeco-to-jazz-and-even-countrywith-a-soulful-southern-flair/2019-11-22/
END:VEVENT
BEGIN:VEVENT
DTSTART;TZID=UTC:20191117T120000
DTEND;TZID=UTC:20191117T200000
DTSTAMP:20260420T004730
CREATED:20190826T231516Z
LAST-MODIFIED:20190826T231516Z
UID:818-1573992000-1574020800@wilbertsmusic.com
SUMMARY:a CAVALIER of a Happy Hour~with the Best Dam Deals Downtown!
DESCRIPTION:$3 ~16oz DOMESTICS & BOMBS (cherry\, grape\, orange or jagger)\n$4 FIREBALLS & JAMESON\n$9.99 Award Winning Ribs Dinner w/Fries & Salad
URL:https://wilbertsmusic.com/event/a-cavalier-of-a-happy-hourwith-the-best-dam-deals-downtown-2/
END:VEVENT
BEGIN:VEVENT
DTSTART;TZID=UTC:20191116T150000
DTEND;TZID=UTC:20191116T233000
DTSTAMP:20260420T004730
CREATED:20190826T231303Z
LAST-MODIFIED:20190831T143209Z
UID:816-1573916400-1573947000@wilbertsmusic.com
SUMMARY:LUKE COMBS: More Beer Here~Party Place!
DESCRIPTION:$3 ~16oz DOMESTICS & BOMBS (cherry\, grape\, orange or jagger)\n$4 FIREBALLS & JAMESON\n$9.99 Award Winning Ribs Dinner w/Fries & Salad
URL:https://wilbertsmusic.com/event/luke-combs-more-beer-hereparty-place/2019-11-16/
END:VEVENT
BEGIN:VEVENT
DTSTART;TZID=UTC:20191114T150000
DTEND;TZID=UTC:20191114T200000
DTSTAMP:20260420T004730
CREATED:20190826T230847Z
LAST-MODIFIED:20190826T230847Z
UID:814-1573743600-1573761600@wilbertsmusic.com
SUMMARY:a CAVALIER of a Happy Hour~with the Best Dam Deals Downtown! 3-8pm
DESCRIPTION:$3 ~16oz DOMESTICS & BOMBS (cherry\, grape\, orange or jagger)\n$4 FIREBALLS & JAMESON\n$9.99 Award Winning Ribs Dinner w/Fries & Salad
URL:https://wilbertsmusic.com/event/a-cavalier-of-a-happy-hourwith-the-best-dam-deals-downtown-3-8pm/
END:VEVENT
BEGIN:VEVENT
DTSTART;TZID=UTC:20191112T160000
DTEND;TZID=UTC:20191112T200000
DTSTAMP:20260420T004730
CREATED:20190826T232533Z
LAST-MODIFIED:20190826T232943Z
UID:825-1573574400-1573588800@wilbertsmusic.com
SUMMARY:a MONSTER of a Happy Hour~with the Best Dam Deals Downtown!
DESCRIPTION:$3 ~16oz DOMESTICS & BOMBS (cherry\, grape\, orange or jagger) \n$4 FIREBALLS & JAMESON \n$9.99 Award Winning Ribs Dinner w/Fries & Salad
URL:https://wilbertsmusic.com/event/a-monster-of-a-happy-hourwith-the-best-dam-deals-downtown-5/2019-11-12/
END:VEVENT
BEGIN:VEVENT
DTSTART;TZID=UTC:20191111T160000
DTEND;TZID=UTC:20191111T233000
DTSTAMP:20260420T004730
CREATED:20190826T232321Z
LAST-MODIFIED:20190826T232321Z
UID:823-1573488000-1573515000@wilbertsmusic.com
SUMMARY:ELTON JOHN's Last Call Party @ WILBERTS
DESCRIPTION:$3 ~16oz DOMESTICS & BOMBS (cherry\, grape\, orange or jagger) \n$4 FIREBALLS & JAMESON \n$9.99 Award Winning Ribs Dinner w/Fries & Salad
URL:https://wilbertsmusic.com/event/elton-johns-last-call-party-wilberts/
END:VEVENT
BEGIN:VEVENT
DTSTART;TZID=UTC:20191108T160000
DTEND;TZID=UTC:20191108T200000
DTSTAMP:20260420T004730
CREATED:20190826T231851Z
LAST-MODIFIED:20190826T231851Z
UID:820-1573228800-1573243200@wilbertsmusic.com
SUMMARY:a MONSTER of a Happy Hour~with the Best Dam Deals Downtown!
DESCRIPTION:$3 ~16oz DOMESTICS & BOMBS (cherry\, grape\, orange or jagger)\n$4 FIREBALLS & JAMESON\n$9.99 Award Winning Ribs Dinner w/Fries & Salad
URL:https://wilbertsmusic.com/event/a-monster-of-a-happy-hourwith-the-best-dam-deals-downtown-4/2019-11-08/
END:VEVENT
BEGIN:VEVENT
DTSTART;TZID=UTC:20191106T160000
DTEND;TZID=UTC:20191106T233000
DTSTAMP:20260420T004730
CREATED:20190831T144412Z
LAST-MODIFIED:20190831T144412Z
UID:883-1573056000-1573083000@wilbertsmusic.com
SUMMARY:TOOL The Official Inoculum Pre Party
DESCRIPTION:Inoculum shots = $3 \n$3 ~16oz DOMESTICS & BOMBS (cherry\, grape\, orange or jagger)\n$4 FIREBALLS & JAMESON\n$9.99 Award Winning Ribs Dinner w/Fries & Salad
URL:https://wilbertsmusic.com/event/tool-the-official-inoculum-pre-party/
END:VEVENT
BEGIN:VEVENT
DTSTART;TZID=UTC:20191105T160000
DTEND;TZID=UTC:20191105T200000
DTSTAMP:20260420T004730
CREATED:20190826T230559Z
LAST-MODIFIED:20190826T230559Z
UID:811-1572969600-1572984000@wilbertsmusic.com
SUMMARY:a CAVALIER of a Happy Hour~with the Best Dam Deals Downtown! 4-8pm
DESCRIPTION:$3 ~16oz DOMESTICS & BOMBS (cherry\, grape\, orange or jagger)\n$4 FIREBALLS & JAMESON\n$9.99 Award Winning Ribs Dinner w/Fries & Salad
URL:https://wilbertsmusic.com/event/a-cavalier-of-a-happy-hourwith-the-best-dam-deals-downtown-4-8pm-3/
END:VEVENT
BEGIN:VEVENT
DTSTART;TZID=UTC:20191103T160000
DTEND;TZID=UTC:20191103T200000
DTSTAMP:20260420T004730
CREATED:20190826T230000Z
LAST-MODIFIED:20190826T230000Z
UID:805-1572796800-1572811200@wilbertsmusic.com
SUMMARY:a CAVALIER of a Happy Hour~with the Best Dam Deals Downtown!
DESCRIPTION:$3 ~16oz DOMESTICS & BOMBS (cherry\, grape\, orange or jagger)\n$4 FIREBALLS & JAMESON\n$9.99 Award Winning Ribs Dinner w/Fries & Salad
URL:https://wilbertsmusic.com/event/a-cavalier-of-a-happy-hourwith-the-best-dam-deals-downtown/
END:VEVENT
BEGIN:VEVENT
DTSTART;TZID=UTC:20191103T110000
DTEND;TZID=UTC:20191103T160000
DTSTAMP:20260420T004730
CREATED:20190826T230142Z
LAST-MODIFIED:20190826T230142Z
UID:807-1572778800-1572796800@wilbertsmusic.com
SUMMARY:Opening at 11am for a MONSTER of a Lunch/Happy Hour~with the Best Dam Deals Downtown!
DESCRIPTION:$9.99 Award Winning Ribs Dinner w/Fries & Salad\n$3 ~16oz DOMESTICS & BOMBS (cherry\, grape\, orange or jagger)\n$4 FIREBALLS & JAMESON
URL:https://wilbertsmusic.com/event/opening-at-11am-for-a-monster-of-a-lunch-happy-hourwith-the-best-dam-deals-downtown-2/
END:VEVENT
BEGIN:VEVENT
DTSTART;TZID=UTC:20191102T200000
DTEND;TZID=UTC:20191102T230000
DTSTAMP:20260420T004730
CREATED:20190712T180630Z
LAST-MODIFIED:20200213T145858Z
UID:522-1572724800-1572735600@wilbertsmusic.com
SUMMARY:JASON RICCI & THE BAD KIND
DESCRIPTION:*In 1995 Portland Maine’s Jason Ricci began his international music career by moving to Memphis to study with former Johnny Winter sideman Pat Ramsey. That same year Ricci won the Sonny Boy Blues Society contest and played the King Biscuit festival at 20 years old. Since then Ricci has won dozens of blues and harmonica contests\, toured the world and amassed an impressive collection of awards\, honors and accolades. In 2010 Ricci’s album “Done With The Devil” (Delta Groove) was nominated for a BMA Award. In 2010 Jason won the BMA Award for “Best Harmonica Player” beating his childhood heroes: Kim Wilson\, Billy Branch\, Mark Hummel and Rick Estrin. In 2014 Ricci was a featured artist on Johnny Winter’s Grammy Award winning album “Step Back”produced by Paul Nelson appearing along side names like Eric Clapton\, Dr. John\, Brian Setzer\, Billy Gibbons\, Leslie West and more. In 2015 Ricci was invited by Paul Shaffer to play on the HBO televised Rock and Roll Hall of Fame Induction Ceremony for Paul Butterfield. At The Rock and Roll Hall of Fame\, Ricci performed in front of 10\,000 people and millions of HBO viewers with Zac Brown ( Multi-Platinum Singer Songwriter) and Rage Against the Machine guitarist Tom Morello with the Paul Shaffer band. \n*Jason Ricci is well known for having one of the most exciting\, energetic and unpredictable live shows on the circuit. His live performances are sweaty\, sexual\, intense and creative events. Ricci has been actively touring the Blues circuit in the USA and Europe for over twenty years. In 2005 The Mercury News listed Jason Ricci’s show in a “Top Ten Best Shows” of 2005 list alongside acts such as Springsteen\, Rush\, Prince and Green Day for best concerts of the year. Jason’s shows feature a variety of music from Blues\, Punk\, Jazz\, R&B\, and Fusion. He s just as likely to cover music by Little Walter\, Otis Rush\, Sonny Boy Williamson and Slim Harpo as he is The Misfits\, Sun Ra\, Lou Reed or Cheech and Chong. Ricci is an edgy performer\, singer\, songwriter and interview. Jason’s career has been ripe with discussion\, controversy and appreciation alike. He was/is the first and only male Blues performer in history to admit\, interview\, discuss and own the fact that he is openly gay/bi-sexual or “queer” as he call’s it. His song “Broken Toy” is a a testament to those struggles and a favorite amongst his audiences straight\, gay and otherwise.\n.\n*As a sideman Jason Ricci has professionally gigged or toured with: Walter Trout\, Nick Moss\, Junior Kimbrough\, RL Burnside\, Big Al and The Heavy Weights\, Damon Fowler\, Sugar Ray Norcia\,The Mark Hummel Harmonica Blow Off\, The Johnny Winter Remembrance Project\, Mike Zito\, Big Chief Monk Boudreaux\, Ana Popovic and many more. \n*As a recording artist Jason Ricci has released eight solo albums. His last two (Delta Groove/EclectoGroove Records) “Rocket Number Nine” (produced by John Porter) and “Done With The Devil (produced by Phil Wolfe)” both charted The Billboard Blues Charts in top five positions and both won numerous awards. As a session musician Jason Ricci has played harmonica on albums by: Nick Curran\, JJ Appleton\, Rue Davis\, Nick Moss\, Walter Trout\, Johnny Winter\, The Mannish Boys\, Ana Popovic\, Cedric Burnside and Lightin’ Malcom\, Joe Louis Walker\, Sean Kellerman\, Big Chief Monk Boudreaux\, JP Soars and so many more. \n*Additionally\, Jason Ricci has one of the most popular harmonica related youtube channels with over 150 free harmonica lessons\, 15\,000 subscribers and and well over 4\,500\,000 total million views. Ricci is well known in the harmonica community as an early pioneer of the “over-blow” technique (transforming the 10 hole diatonic into a fully chromatic instrument) invented/popularized by Howard Levy\, the mastery of this technique has earned Jason a variety of jobs recording and performing in musical situations where other players technically simply could not. Jason is also one of the very first harmonica players to widely use\, incorporate\, design and popularize the use of effects pedals for harmonica. Jason Ricci has helped design one of the top selling harmonica microphones in the world The Ultimate 57 ( modified shure 57). He has signature effects pedals and plays a large role in the advancement of amplification\, microphones effects and harmonicas themselves for major companies world wide. Ricci is widely acclaimed as a celebrated harmonica and musical educator\, appearing at dozens of conventions and teaching events every year worldwide. Any real player\, music lover or google search will confirm today that Portland Maine born Jason Ricci remains one of the most popular\, electrifying\, innovative\, influential\, and versatile harmonica players alive and working. Jason is sited on dozens of top ten lists all over the internet\, respected by his peers\, students\, academies and music fans world wide. Jason Ricci currently lives in New Orleans Louisiana and Bloomington Indiana\, he fronts his own New Orleans based band “Jason Ricci and The Bad Kind”\, he is currently also touring behind his recent collaboration and chart topping album “Dirty Memory” with New York City’s JJ Appleton featuring bassist Tim Lefebvre (Derek Trucks/SnL). Jason Ricci regularly appears as a front man\, harmonica player\, vocalist or side man on high profile stages\, albums\, television\, internet\, radio and other events everywhere. \n*Jason Ricci is officially currently endorsed by the following companies: Suzuki Harmonicas\, Lone Wolf Blues Company and Effects Pedals \, Harp Gear Amplification\, Blows Me Away Microphones\, Pedal Train\, and Blue Moon Harmonica Combs. He uses Joe Spiers as a harmonica Customizer on many harmonicas.
URL:https://wilbertsmusic.com/event/jason-ricci-the-bad-kind-an-amazing-innovator-of-the-blues-harmonicaother-projects-including-being-a-special-guest-on-the-late-great-johnny-winters-grammy-winning-cd-jasons-tv-performance-o/2019-11-02/
END:VEVENT
BEGIN:VEVENT
DTSTART;TZID=UTC:20191101T160000
DTEND;TZID=UTC:20191101T200000
DTSTAMP:20260420T004730
CREATED:20190826T230347Z
LAST-MODIFIED:20190826T230347Z
UID:809-1572624000-1572638400@wilbertsmusic.com
SUMMARY:a MONSTER of a Happy Hour~with the Best Dam Deals Downtown!
DESCRIPTION:$3 ~16oz DOMESTICS & BOMBS (cherry\, grape\, orange or jagger)\n$4 FIREBALLS & JAMESON \n→$9.99 Award Winning Ribs Dinner w/Fries & Salad←
URL:https://wilbertsmusic.com/event/a-monster-of-a-happy-hourwith-the-best-dam-deals-downtown-3/
END:VEVENT
BEGIN:VEVENT
DTSTART;TZID=UTC:20191030T160000
DTEND;TZID=UTC:20191030T200000
DTSTAMP:20260420T004730
CREATED:20190823T011132Z
LAST-MODIFIED:20190823T011132Z
UID:777-1572451200-1572465600@wilbertsmusic.com
SUMMARY:a CAVALIER of a Happy Hour~with the Best Dam Deals Downtown! 4-8pm
DESCRIPTION:$3 ~16oz DOMESTICS & BOMBS (cherry\, grape\, orange or jagger)\n$4 FIREBALLS & JAMESON\n$9.99 Award Winning Ribs Dinner w/Fries & Salad
URL:https://wilbertsmusic.com/event/a-cavalier-of-a-happy-hourwith-the-best-dam-deals-downtown-4-8pm-2/
END:VEVENT
BEGIN:VEVENT
DTSTART;TZID=UTC:20191026T173000
DTEND;TZID=UTC:20191026T193000
DTSTAMP:20260420T004730
CREATED:20190902T150933Z
LAST-MODIFIED:20190902T150933Z
UID:903-1572111000-1572118200@wilbertsmusic.com
SUMMARY:Cav's Home Opener PaRtY w/ BRIDGETOWN JUNCTION ~Americana duo that plays original and popular music from Dylan to Neil Young and Ronstadt to Ray Charle
DESCRIPTION:Acoustic guitar\, keyboard\, violin\, mandolin\, banjo and bass accompany their vocal harmonies. Their musical endeavors have taken them throughout northern Ohio play dates at numerous venues including Nighttown\, Brother’s Lounge\, Barnegie Hall\, as well as a number of wine bars\, festivals and benefits.  \nA Little About Amanda and Rick………………. \nSongwriters Amanda Walsh and Rick Szekelyi have been writing and performing together since 2015.  Their songs\, written individually and together\, examine topics such as conversations with whales and deer\, ideals of love that fall far short of reality\, distant islands of palms and pearls\, the cycle of life\, the laments of an old house\, the reality of magic\, and advice on the right way to end a relationship.  Their first album\, Troubadour\,was released in 2017. They are currently working on the second album to be released later this year. \nAmanda Walsh\, a graduate of the University of Cincinnati College-Conservatory of Music\, has been playing music since she was seven years old. Amanda combines her passion for songwriting\, fiction and poetry with her love of unpredictable chord changes and dreamy piano passages. Her influences include Claude Debussy\, Paul Simon\, Joni Mitchell\, Anne Sexton and Nina Simone. Amanda released her solo album\, Magic is Real\, last year. \nRick Szekelyi has been playing guitar since he was eight years old. After six decades\, he decided to get serious about songwriting. Influenced by Kris Kristofferson\, Townes Van Zandt\,  Ernest Hemingway\, Guy Clark and Steve Earle\, his writing captures sounds from days gone by\, ethnic flavorings and other cultural sounds. To encourage others to pursue songwriting\, during the last five years Rick has hosted numerous songwriter circles\, open mics and has\, with Amanda\, facilitated songwriting workshops.
URL:https://wilbertsmusic.com/event/cavs-home-opener-party-w-bridgetown-junction-americana-duo-that-plays-original-and-popular-music-from-dylan-to-neil-young-and-ronstadt-to-ray-charle/
END:VEVENT
BEGIN:VEVENT
DTSTART;TZID=UTC:20191026T170000
DTEND;TZID=UTC:20191026T200000
DTSTAMP:20260420T004730
CREATED:20190823T010913Z
LAST-MODIFIED:20190823T010913Z
UID:774-1572109200-1572120000@wilbertsmusic.com
SUMMARY:a CAVALIER of a Happy Hour~with the Best Dam Deals Downtown! 5-8pm
DESCRIPTION:$3 ~16oz DOMESTICS & BOMBS (cherry\, grape\, orange or jagger)\n$4 FIREBALLS & JAMESON\n$9.99 Award Winning Ribs Dinner w/Fries & Salad
URL:https://wilbertsmusic.com/event/a-cavalier-of-a-happy-hourwith-the-best-dam-deals-downtown-5-8pm/
END:VEVENT
BEGIN:VEVENT
DTSTART;TZID=UTC:20191026T110000
DTEND;TZID=UTC:20191026T170000
DTSTAMP:20260420T004730
CREATED:20190823T010645Z
LAST-MODIFIED:20190823T010645Z
UID:771-1572087600-1572109200@wilbertsmusic.com
SUMMARY:Opening at 11am for a MONSTER of a Lunch/Happy Hour~with the Best Dam Deals Downtown!
DESCRIPTION:$9.99 Award Winning Ribs Dinner w/Fries & Salad\n$3 ~16oz DOMESTICS & BOMBS (cherry\, grape\, orange or jagger)\n$4 FIREBALLS & JAMESON
URL:https://wilbertsmusic.com/event/opening-at-11am-for-a-monster-of-a-lunch-happy-hourwith-the-best-dam-deals-downtown/
END:VEVENT
BEGIN:VEVENT
DTSTART;TZID=UTC:20191025T160000
DTEND;TZID=UTC:20191025T200000
DTSTAMP:20260420T004730
CREATED:20190823T010251Z
LAST-MODIFIED:20190823T010251Z
UID:769-1572019200-1572033600@wilbertsmusic.com
SUMMARY:a MONSTER of a Happy Hour~with the Best Dam Deals Downtown!
DESCRIPTION:$3 ~16oz DOMESTICS & BOMBS (cherry\, grape\, orange or jagger)\n$4 FIREBALLS & JAMESON\n$9.99 Award Winning Ribs Dinner w/Fries & Salad
URL:https://wilbertsmusic.com/event/a-monster-of-a-happy-hourwith-the-best-dam-deals-downtown-2/
END:VEVENT
BEGIN:VEVENT
DTSTART;TZID=UTC:20191024T203000
DTEND;TZID=UTC:20191024T230000
DTSTAMP:20260420T004730
CREATED:20190813T162506Z
LAST-MODIFIED:20191005T135549Z
UID:704-1571949000-1571958000@wilbertsmusic.com
SUMMARY:CXL-JIMMY THACKERY "an intense volley of rockin' blues guitar and double edged guitar dynamics that are guaranteed to leave crowds emotionally spent"
DESCRIPTION:Jimmy Thackery has made his career as a musician for over 40 years\, traveling the globe from big festivals to everyone’s favorite neighborhood bars. A true professional musician\, Jimmy gives his audience his best each and every performance\, respecting and appreciating his fans along the way. His music reaches people’s lives in personal and profound ways\, as witnessed by the touching messages he receives during and after each tour. \nSpare Keys is an all-original album\, with six instrumentals and six tunes with vocals. These songs use all the keys available on guitar\, running the gamut from soulful blues in Blues All Night\, to heart-wrenching blues in I Even Lost the Blues and You Can’t Come Back. His rock roots shine in Puttin’ the Word Out and Fightin’ in the Jungle\, which also features howler monkeys recorded at the Xunantunich Mayan Ruins in Belize. \nThe instrumentals highlight Thackery’s vast styles\, influenced by his interest in all varieties of music from classical to slack-key to country to rock and tropical rock. Candy Apple Red is an upbeat melody repeated from the Strat to baritone guitar\, and slowing down a bit\, Same Page On Demand will wow you with some powerful\, minor chords. For one that melts your worries away\, descend into the dreamy Bella Noche\, guaranteed to soothe your soul on a continuous basis. The Barber’s Guitar has an interesting story\, for those of you who like to know where some inspiration for writing is found. Jimmy saw an old guitar propped in a corner of his regular barber shop\, and asked the barber if he would like him to fix it up for him. Of course\, the answer was an enthusiastic ‘yes’\, so it was gifted with fresh strings\, a new homemade nut\, a straightened neck and tuned. When the time came for a Thackery test run\, an unfamiliar song spontaneously took over his hands\, and The Barber’s Guitar was born. Jimmy believes every instrument has a song inside\, waiting to shine\, and somehow this one was a thankful return for being cared for and pampered! \nThe Drivers on this CD are Rick Knapp on bass and Chris Reddan and George Sheppard splitting the drum tracks. Chris came along on tour when George had emergency shoulder surgery in 2015\, so he sat in the drum chair for the first recording session\, and George finished out upon his return. The recording\, mixing and mastering took place at Tony’s Treasures in Cadiz\, OH. \nIf you don’t have a set of spare keys hidden away somewhere\, this is your important safety tip reminder. The album is available on disc or by download at CD Baby\, itunes\, Amazon or at jimmythackery.com \nTo learn more about Jimmy Thackery visit his website:\nwww.jimmythackery.com
URL:https://wilbertsmusic.com/event/jimmy-thackery-an-intense-volley-of-rockin-blues-guitar-and-double-edged-guitar-dynamics-that-are-guaranteed-to-leave-crowds-emotionally-spent/
END:VEVENT
BEGIN:VEVENT
DTSTART;TZID=UTC:20191021T160000
DTEND;TZID=UTC:20191021T200000
DTSTAMP:20260420T004730
CREATED:20190823T010114Z
LAST-MODIFIED:20190823T010114Z
UID:767-1571673600-1571688000@wilbertsmusic.com
SUMMARY:wild WWE Monday Night RAW Party
DESCRIPTION:$3 ~16oz DOMESTICS & BOMBS (cherry\, grape\, orange or jagger)\n$4 FIREBALLS & JAMESON\n$9.99 Award Winning Ribs Dinner w/Fries & Salad
URL:https://wilbertsmusic.com/event/wild-wwe-monday-night-raw-party/
END:VEVENT
END:VCALENDAR