BEGIN:VCALENDAR
VERSION:2.0
PRODID:-//Wilberts - ECPv6.15.20//NONSGML v1.0//EN
CALSCALE:GREGORIAN
METHOD:PUBLISH
X-ORIGINAL-URL:https://wilbertsmusic.com
X-WR-CALDESC:Events for Wilberts
REFRESH-INTERVAL;VALUE=DURATION:PT1H
X-Robots-Tag:noindex
X-PUBLISHED-TTL:PT1H
BEGIN:VTIMEZONE
TZID:UTC
BEGIN:STANDARD
TZOFFSETFROM:+0000
TZOFFSETTO:+0000
TZNAME:UTC
DTSTART:20190101T000000
END:STANDARD
END:VTIMEZONE
BEGIN:VEVENT
DTSTART;TZID=UTC:20200110T190000
DTEND;TZID=UTC:20200110T230000
DTSTAMP:20260420T022233
CREATED:20191213T194001Z
LAST-MODIFIED:20200112T214043Z
UID:1050-1578682800-1578697200@wilbertsmusic.com
SUMMARY:MediaPop Presents Spring Throwdown Concert Showcase
DESCRIPTION:featuring:\nBands to be added
URL:https://wilbertsmusic.com/event/winter-throwdown-concert-series/2020-01-10/
END:VEVENT
END:VCALENDAR