BEGIN:VCALENDAR
VERSION:2.0
PRODID:-//Wilberts - ECPv6.15.20//NONSGML v1.0//EN
CALSCALE:GREGORIAN
METHOD:PUBLISH
X-WR-CALNAME:Wilberts
X-ORIGINAL-URL:https://wilbertsmusic.com
X-WR-CALDESC:Events for Wilberts
REFRESH-INTERVAL;VALUE=DURATION:PT1H
X-Robots-Tag:noindex
X-PUBLISHED-TTL:PT1H
BEGIN:VTIMEZONE
TZID:UTC
BEGIN:STANDARD
TZOFFSETFROM:+0000
TZOFFSETTO:+0000
TZNAME:UTC
DTSTART:20180101T000000
END:STANDARD
END:VTIMEZONE
BEGIN:VEVENT
DTSTART;TZID=UTC:20190824T180000
DTEND;TZID=UTC:20190824T193000
DTSTAMP:20260420T115328
CREATED:20190818T173857Z
LAST-MODIFIED:20200220T232613Z
UID:726-1566669600-1566675000@wilbertsmusic.com
SUMMARY:THE SUMMIT : The Music Of Your Life
DESCRIPTION:The Summit Featuring the greatest music of your life\, Dean Martin\, Sinatra\, Tony Bennett\, Bobby Darin\, Engelbert\, Neil Diamond\, and beyond.
URL:https://wilbertsmusic.com/event/the-summit-the-music-of-your-life/2019-08-24/
END:VEVENT
END:VCALENDAR