BEGIN:VCALENDAR
VERSION:2.0
PRODID:-//Wilberts - ECPv6.15.20//NONSGML v1.0//EN
CALSCALE:GREGORIAN
METHOD:PUBLISH
X-WR-CALNAME:Wilberts
X-ORIGINAL-URL:https://wilbertsmusic.com
X-WR-CALDESC:Events for Wilberts
REFRESH-INTERVAL;VALUE=DURATION:PT1H
X-Robots-Tag:noindex
X-PUBLISHED-TTL:PT1H
BEGIN:VTIMEZONE
TZID:UTC
BEGIN:STANDARD
TZOFFSETFROM:+0000
TZOFFSETTO:+0000
TZNAME:UTC
DTSTART:20190101T000000
END:STANDARD
END:VTIMEZONE
BEGIN:VEVENT
DTSTART;TZID=UTC:20200515T210000
DTEND;TZID=UTC:20200515T230000
DTSTAMP:20260419T173059
CREATED:20200112T215940Z
LAST-MODIFIED:20200512T142641Z
UID:1135-1589576400-1589583600@wilbertsmusic.com
SUMMARY:postponed~Swamps of Jersey
DESCRIPTION:
URL:https://wilbertsmusic.com/event/swamps-of-jersey/2020-05-15/
END:VEVENT
END:VCALENDAR