BEGIN:VCALENDAR
VERSION:2.0
PRODID:-//Wilberts - ECPv6.15.20//NONSGML v1.0//EN
CALSCALE:GREGORIAN
METHOD:PUBLISH
X-WR-CALNAME:Wilberts
X-ORIGINAL-URL:https://wilbertsmusic.com
X-WR-CALDESC:Events for Wilberts
REFRESH-INTERVAL;VALUE=DURATION:PT1H
X-Robots-Tag:noindex
X-PUBLISHED-TTL:PT1H
BEGIN:VTIMEZONE
TZID:UTC
BEGIN:STANDARD
TZOFFSETFROM:+0000
TZOFFSETTO:+0000
TZNAME:UTC
DTSTART:20180101T000000
END:STANDARD
END:VTIMEZONE
BEGIN:VEVENT
DTSTART;TZID=UTC:20190607T210000
DTEND;TZID=UTC:20190607T230000
DTSTAMP:20260420T230428
CREATED:20190607T150859Z
LAST-MODIFIED:20191005T135418Z
UID:227-1559941200-1559948400@wilbertsmusic.com
SUMMARY:CXL-POPPA "D" AND THE AGGRAVATORS' Fun\, Zesty Music we call D - BLUES! - It's a PaR-tY!
DESCRIPTION:After 30 years\, Thousands of miles\, Hundreds of gallons of whisky\n“POPPA”D” AND THE AGGRAVATORS have established themselves as the keeper of the flame of MODERN BLUES. The Common barriers facing a band of musicians doing the unconventional have been removed. What is left is a Fun\,Zesty Music we call D – BLUES! Forget what you know about Blues Bands. We take elements from other popular Musical platforms to create a fresh approach. So there are no more excuses to not LOVE THE BLUES!
URL:https://wilbertsmusic.com/event/poppa-d-and-the-aggravators-fun-zesty-music-we-call-d-blues-its-a-par-ty/2019-06-07/
END:VEVENT
END:VCALENDAR