BEGIN:VCALENDAR
VERSION:2.0
PRODID:-//Wilberts - ECPv6.15.20//NONSGML v1.0//EN
CALSCALE:GREGORIAN
METHOD:PUBLISH
X-WR-CALNAME:Wilberts
X-ORIGINAL-URL:https://wilbertsmusic.com
X-WR-CALDESC:Events for Wilberts
REFRESH-INTERVAL;VALUE=DURATION:PT1H
X-Robots-Tag:noindex
X-PUBLISHED-TTL:PT1H
BEGIN:VTIMEZONE
TZID:UTC
BEGIN:STANDARD
TZOFFSETFROM:+0000
TZOFFSETTO:+0000
TZNAME:UTC
DTSTART:20190101T000000
END:STANDARD
END:VTIMEZONE
BEGIN:VEVENT
DTSTART;TZID=UTC:20200206T000000
DTEND;TZID=UTC:20200206T000000
DTSTAMP:20260420T005218
CREATED:20200116T000639Z
LAST-MODIFIED:20200206T014126Z
UID:1150-1580947200-1580947200@wilbertsmusic.com
SUMMARY:HaPpY hOuR w/MARK STUART Nashville's #1 Troubadour
DESCRIPTION:Mark Stuart has been a fixture on the Americana/Folk music scene for many years. Non-stop touring landed the artist in theaters\, clubs\, radio\, TV\, house concerts\, festivals\, and coffeehouses. Much of this was solo\, much of it in a duo “Stacey Earle & Mark Stuart”. A fine singer\, musician\, and songwriter he is. In his performances expect stellar guitar work\, soulful vocals\, and thought-provoking PARTY songs. Interesting stories find their way into his show\, too. A career that has repeatedly taken Stuart to Europe\, UK\, Canada\, and 49 of the United States includes having begun in his native Nashville as a teenage working musician. From membership in the Nashville Rebels (his father’s band that appeared in the Waylon Jennings movie “The Nashville Rebel”) to sideman stints for Steve Earle\, Freddy Fender\, Joan Baez\, and Steve Forbert he has NEVER STOPPED WORKING as an active musical force. In previous years the artist fronted rock/blues bands of his own that included notable guitarists Warren Haynes (Gov’t Mule\, Allman Brothers Band) and Dave Rawlings (Gillian Welch\, Dave Rawlings Machine) serving HIM as second guitarist! Mark Stuart is touring as heavily as ever. Audiences will find his usual material from solo CDs and Stacey Earle/Mark Stuart CDs. But\, they will also hear a special nod toward the artist Paul McCartney for the calendar year. Mark will expose which of his own songs were influenced by McCartney’s style and include some\nof Macca’s tunes\, delivered in MARK STUART style!
URL:https://wilbertsmusic.com/event/happy-hour-w-mark-stuart-nashvilles-1-troubadour/2020-02-06/
END:VEVENT
END:VCALENDAR