BEGIN:VCALENDAR
VERSION:2.0
PRODID:-//Wilberts - ECPv6.15.20//NONSGML v1.0//EN
CALSCALE:GREGORIAN
METHOD:PUBLISH
X-WR-CALNAME:Wilberts
X-ORIGINAL-URL:https://wilbertsmusic.com
X-WR-CALDESC:Events for Wilberts
REFRESH-INTERVAL;VALUE=DURATION:PT1H
X-Robots-Tag:noindex
X-PUBLISHED-TTL:PT1H
BEGIN:VTIMEZONE
TZID:UTC
BEGIN:STANDARD
TZOFFSETFROM:+0000
TZOFFSETTO:+0000
TZNAME:UTC
DTSTART:20190101T000000
END:STANDARD
END:VTIMEZONE
BEGIN:VEVENT
DTSTART;TZID=UTC:20201010T170000
DTEND;TZID=UTC:20201010T220000
DTSTAMP:20260420T101259
CREATED:20201009T151507Z
LAST-MODIFIED:20201009T152626Z
UID:1823-1602349200-1602367200@wilbertsmusic.com
SUMMARY:FREE-FNP Presents Comedy Showcase - With all the great specials - $1 Beers + $3  DOMESTICS\, BOMBS & CRAFT DRAFTs
DESCRIPTION:From 5-10\nMenu→\nNACHOS $9 add Brisket or Pull Pork +$2\nRibs 9.99\nBrisket Sandwich $4\nPull Pork Sandwich $4\nChicken Tenders $8\nMozzarella Sticks $8\nDirty Rice\nColeslaw\nChips\nSteak Fries
URL:https://wilbertsmusic.com/event/free-fnp-presents-comedy-showcase-with-all-the-great-specials-1-beers-3-domestics-bombs-craft-drafts/2020-10-10/
END:VEVENT
END:VCALENDAR