BEGIN:VCALENDAR
VERSION:2.0
PRODID:-//Wilberts - ECPv6.15.20//NONSGML v1.0//EN
CALSCALE:GREGORIAN
METHOD:PUBLISH
X-WR-CALNAME:Wilberts
X-ORIGINAL-URL:https://wilbertsmusic.com
X-WR-CALDESC:Events for Wilberts
REFRESH-INTERVAL;VALUE=DURATION:PT1H
X-Robots-Tag:noindex
X-PUBLISHED-TTL:PT1H
BEGIN:VTIMEZONE
TZID:UTC
BEGIN:STANDARD
TZOFFSETFROM:+0000
TZOFFSETTO:+0000
TZNAME:UTC
DTSTART:20190101T000000
END:STANDARD
END:VTIMEZONE
BEGIN:VEVENT
DTSTART;TZID=UTC:20200917T170000
DTEND;TZID=UTC:20200917T223000
DTSTAMP:20260420T154917
CREATED:20200917T171805Z
LAST-MODIFIED:20201009T151737Z
UID:1795-1600362000-1600381800@wilbertsmusic.com
SUMMARY:BROWNS Tailgate PaRtY ~ $1  BEERS SPECIALS + $3 BOMBS\, DOMESTICS & CRAFT DRAFTs
DESCRIPTION:From noon-8pm\nMenu→\nNACHOS $9 add Brisket or Pull Pork +$2\nRibs 9.99\nBrisket Sandwich $4\nPull Pork Sandwich $4\nChicken Tenders $8\nMozzarella Sticks $8\nDirty Rice\nColeslaw\nChips\nSteak Fries
URL:https://wilbertsmusic.com/event/browns-tailgate-party-1-beers-specials-3-bombs-domestics-craft-drafts/2020-09-17/
END:VEVENT
END:VCALENDAR