BEGIN:VCALENDAR
VERSION:2.0
PRODID:-//Wilberts - ECPv6.15.20//NONSGML v1.0//EN
CALSCALE:GREGORIAN
METHOD:PUBLISH
X-ORIGINAL-URL:https://wilbertsmusic.com
X-WR-CALDESC:Events for Wilberts
REFRESH-INTERVAL;VALUE=DURATION:PT1H
X-Robots-Tag:noindex
X-PUBLISHED-TTL:PT1H
BEGIN:VTIMEZONE
TZID:UTC
BEGIN:STANDARD
TZOFFSETFROM:+0000
TZOFFSETTO:+0000
TZNAME:UTC
DTSTART:20180101T000000
END:STANDARD
END:VTIMEZONE
BEGIN:VEVENT
DTSTART;TZID=UTC:20190906T200000
DTEND;TZID=UTC:20190906T230000
DTSTAMP:20260420T104328
CREATED:20190713T140840Z
LAST-MODIFIED:20200820T142209Z
UID:524-1567800000-1567810800@wilbertsmusic.com
SUMMARY:AMANDA FISH BAND~Soulful-Powerhouse-Blues From The Heart!~2019 Blues Music Award Winner (BMA)\, Best Emerging Artist Album
DESCRIPTION:2019 Blues Music Award (BMA) nominee\,\nBest Emerging Artist Album\n2017 International Blues Challenge\nSemi Finalist\n2016 “Sean Costello Rising Star” Blues Blast Music Award\n“Amanda Fish is a dirty gal. Her emotions are raw and her visions are hard living\, hard luck and hard to handle… She is a fluid and intense vocalist…her messages about love\, rage despair\, homelessness and overcoming are delivered with style\, phrasing and soul.” \n-Dr. Blues\n“Amanda Fish Band got the Blues in their grooves”\n-“On The Radar”\, The Alternate Root\n\n\nAmanda Fish began as a singer songwriter in late 2012\, refining her original material as a solo act for 2 years before she formed her band in early 2014\, a Roots Rock and Soul quintet featuring dual slide and rock guitars and Amanda’s signature ‘from-the-gut’ vocals locked into a sturdy groove.\nIn 2015\, she released her first LP\, “Down In The Dirt”\, on VizzTone Label Group\, for which she was awarded the 2016 “Sean Costello Rising Star” Blues Blast Music Award. Amanda and her band set Beale Street on fire in the 2017 International Blues Challenge Semi Finals. \nIn 2018\, Amanda has released her sophomore album\, “Free”\, which hit #6 on the Billboard Blues Album Chart. She’s touring with her band to support the CD.
URL:https://wilbertsmusic.com/event/amanda-fish-band2019-blues-music-award-bma-nominee-best-emerging-artist-album/2019-09-06/
END:VEVENT
END:VCALENDAR