BEGIN:VCALENDAR
VERSION:2.0
PRODID:-//Wilberts - ECPv6.15.20//NONSGML v1.0//EN
CALSCALE:GREGORIAN
METHOD:PUBLISH
X-ORIGINAL-URL:https://wilbertsmusic.com
X-WR-CALDESC:Events for Wilberts
REFRESH-INTERVAL;VALUE=DURATION:PT1H
X-Robots-Tag:noindex
X-PUBLISHED-TTL:PT1H
BEGIN:VTIMEZONE
TZID:UTC
BEGIN:STANDARD
TZOFFSETFROM:+0000
TZOFFSETTO:+0000
TZNAME:UTC
DTSTART:20180101T000000
END:STANDARD
END:VTIMEZONE
BEGIN:VEVENT
DTSTART;TZID=UTC:20191221T180000
DTEND;TZID=UTC:20191221T230000
DTSTAMP:20260420T034549
CREATED:20191023T231606Z
LAST-MODIFIED:20200219T010102Z
UID:993-1576951200-1576969200@wilbertsmusic.com
SUMMARY:Afton Musical Showcase Rock to Hip Hop
DESCRIPTION:
URL:https://wilbertsmusic.com/event/afton-musical-showcase-rock-to-hip-hop/2019-12-21/
END:VEVENT
END:VCALENDAR