BEGIN:VCALENDAR
VERSION:2.0
PRODID:-//Wilberts - ECPv6.15.20//NONSGML v1.0//EN
CALSCALE:GREGORIAN
METHOD:PUBLISH
X-ORIGINAL-URL:https://wilbertsmusic.com
X-WR-CALDESC:Events for Wilberts
REFRESH-INTERVAL;VALUE=DURATION:PT1H
X-Robots-Tag:noindex
X-PUBLISHED-TTL:PT1H
BEGIN:VTIMEZONE
TZID:UTC
BEGIN:STANDARD
TZOFFSETFROM:+0000
TZOFFSETTO:+0000
TZNAME:UTC
DTSTART:20190101T000000
END:STANDARD
END:VTIMEZONE
BEGIN:VEVENT
DTSTART;TZID=UTC:20200201T150000
DTEND;TZID=UTC:20200201T210000
DTSTAMP:20260420T005556
CREATED:20200126T163051Z
LAST-MODIFIED:20200126T175216Z
UID:1184-1580569200-1580590800@wilbertsmusic.com
SUMMARY:a MONSTER of a Happy Hour~with the Best Dam Deals Downtown!
DESCRIPTION:$3 ~16oz DOMESTICS & BOMBS (cherry\, grape\, orange or jager)\n$4 FIREBALLS & JAMESON\nSpecial Buffet ~ Gumbo\, Chili\, RIBS\, Hamburgers\, Hot Dogs\, Chicken Sandwiches and Caesar Salad… Add Smoked Salmon + WINGS
URL:https://wilbertsmusic.com/event/a-monster-of-a-happy-hourwith-the-best-dam-deals-downtown-7/2020-02-01/
END:VEVENT
END:VCALENDAR